BEGIN:VCALENDAR
VERSION:2.0
PRODID:-//Cobb County Business Bootcamp - ECPv6.15.18//NONSGML v1.0//EN
CALSCALE:GREGORIAN
METHOD:PUBLISH
X-WR-CALNAME:Cobb County Business Bootcamp
X-ORIGINAL-URL:https://theccbb.com
X-WR-CALDESC:Events for Cobb County Business Bootcamp
REFRESH-INTERVAL;VALUE=DURATION:PT1H
X-Robots-Tag:noindex
X-PUBLISHED-TTL:PT1H
BEGIN:VTIMEZONE
TZID:America/New_York
BEGIN:DAYLIGHT
TZOFFSETFROM:-0500
TZOFFSETTO:-0400
TZNAME:EDT
DTSTART:20250309T070000
END:DAYLIGHT
BEGIN:STANDARD
TZOFFSETFROM:-0400
TZOFFSETTO:-0500
TZNAME:EST
DTSTART:20251102T060000
END:STANDARD
BEGIN:DAYLIGHT
TZOFFSETFROM:-0500
TZOFFSETTO:-0400
TZNAME:EDT
DTSTART:20260308T070000
END:DAYLIGHT
BEGIN:STANDARD
TZOFFSETFROM:-0400
TZOFFSETTO:-0500
TZNAME:EST
DTSTART:20261101T060000
END:STANDARD
BEGIN:DAYLIGHT
TZOFFSETFROM:-0500
TZOFFSETTO:-0400
TZNAME:EDT
DTSTART:20270314T070000
END:DAYLIGHT
BEGIN:STANDARD
TZOFFSETFROM:-0400
TZOFFSETTO:-0500
TZNAME:EST
DTSTART:20271107T060000
END:STANDARD
END:VTIMEZONE
BEGIN:VEVENT
DTSTART;TZID=America/New_York:20260203T073000
DTEND;TZID=America/New_York:20260203T083000
DTSTAMP:20260423T093857
CREATED:20241129T130726Z
LAST-MODIFIED:20241129T224241Z
UID:10003764-1770103800-1770107400@theccbb.com
SUMMARY:Woodstock\, Georgia (Rotary Club)
DESCRIPTION:IHOP Restaurant in Woodstock \nFrom Atl. I75N to I575N Exit 7\, left on HWY 92\,1/4 mile\nto right into IHOP parking lot. We meet in the back room \nPhone: 404-506-6878 \nWHERE (In-Person): 8979 Hwy. 92 Woodstock\, 30189\, Georgia
URL:https://theccbb.com/event/110345/2026-02-03/
LOCATION:Rotary Club (Woodstock)\, 8979 Hwy. 92\, Woodstock\, Georgia\, 30189
CATEGORIES:Rotary Club
END:VEVENT
BEGIN:VEVENT
DTSTART;TZID=America/New_York:20260203T080000
DTEND;TZID=America/New_York:20260203T090000
DTSTAMP:20260423T093857
CREATED:20240806T181316Z
LAST-MODIFIED:20240807T202722Z
UID:10000672-1770105600-1770109200@theccbb.com
SUMMARY:ABA: Morning Jolt
DESCRIPTION:Join the ABA for early morning networking and coffee. \nFor ticket costs and to become a member\, please visit: https://acworthbusiness.org
URL:https://theccbb.com/event/aba-morning-jolt/2026-02-03/
LOCATION:The Cowan\, 4271 Southside Drive\, Acworth\, GA\, 30101\, United States
CATEGORIES:Acworth Business Association
END:VEVENT
BEGIN:VEVENT
DTSTART;TZID=America/New_York:20260203T121500
DTEND;TZID=America/New_York:20260203T133000
DTSTAMP:20260423T093857
CREATED:20241127T115848Z
LAST-MODIFIED:20241127T115848Z
UID:10002720-1770120900-1770125400@theccbb.com
SUMMARY:Smyrna\, Georgia (Rotary Club)
DESCRIPTION:Email: smyrnarotaryga@gmail.com\nWebsite: https://smyrnarotary.org/ \nSmyrna Rotary Club\nWHERE (In-Person): 3180 Atlanta Rd SE\, Smyrna\, 30080-8256\, United States\, Georgia
URL:https://theccbb.com/event/smyrna-georgia-rotary-club/2026-02-03/
LOCATION:Rotary Club (Smyrna)\, 3180 Atlanta Rd SE\, Smyrna\, Georgia\, 30080
CATEGORIES:Rotary Club
END:VEVENT
BEGIN:VEVENT
DTSTART;TZID=America/New_York:20260203T180000
DTEND;TZID=America/New_York:20260203T210000
DTSTAMP:20260423T093857
CREATED:20260117T152408Z
LAST-MODIFIED:20260122T051727Z
UID:10005552-1770141600-1770152400@theccbb.com
SUMMARY:Real Estate Connections Atlanta
DESCRIPTION:ATLANTA’S MOST PRESTIGIOUS REAL ESTATE NETWORKING EVENT \nOur Vision and Mission:\nTo facilitate a positive atmosphere where real estate professionals and real estate related industries can join forces to network and share ideas and strategies. \nADMISSION IS $20.00 PER PERSON | $25 AT THE DOOR \nRealtors Get In Free With A Business Card \nBUSINESS ATTIRE \nContact:\nPeter Pasternack\nPhone: 404 275-8087\nEmail: Peter@RealEstateConnectionsGroup.com
URL:https://theccbb.com/event/real-estate-connections-atlanta/
LOCATION:Dr. Scofflaw’s at The Works\, 214 Chattahoochee Row NW\, Atlanta\, Georgia\, 30318
END:VEVENT
END:VCALENDAR