BEGIN:VCALENDAR
VERSION:2.0
PRODID:-//Cobb County Business Bootcamp - ECPv6.15.18//NONSGML v1.0//EN
CALSCALE:GREGORIAN
METHOD:PUBLISH
X-ORIGINAL-URL:https://theccbb.com
X-WR-CALDESC:Events for Cobb County Business Bootcamp
REFRESH-INTERVAL;VALUE=DURATION:PT1H
X-Robots-Tag:noindex
X-PUBLISHED-TTL:PT1H
BEGIN:VTIMEZONE
TZID:America/New_York
BEGIN:DAYLIGHT
TZOFFSETFROM:-0500
TZOFFSETTO:-0400
TZNAME:EDT
DTSTART:20250309T070000
END:DAYLIGHT
BEGIN:STANDARD
TZOFFSETFROM:-0400
TZOFFSETTO:-0500
TZNAME:EST
DTSTART:20251102T060000
END:STANDARD
BEGIN:DAYLIGHT
TZOFFSETFROM:-0500
TZOFFSETTO:-0400
TZNAME:EDT
DTSTART:20260308T070000
END:DAYLIGHT
BEGIN:STANDARD
TZOFFSETFROM:-0400
TZOFFSETTO:-0500
TZNAME:EST
DTSTART:20261101T060000
END:STANDARD
BEGIN:DAYLIGHT
TZOFFSETFROM:-0500
TZOFFSETTO:-0400
TZNAME:EDT
DTSTART:20270314T070000
END:DAYLIGHT
BEGIN:STANDARD
TZOFFSETFROM:-0400
TZOFFSETTO:-0500
TZNAME:EST
DTSTART:20271107T060000
END:STANDARD
END:VTIMEZONE
BEGIN:VEVENT
DTSTART;TZID=America/New_York:20260209T103000
DTEND;TZID=America/New_York:20260209T113000
DTSTAMP:20260423T095049
CREATED:20260117T161945Z
LAST-MODIFIED:20260117T161945Z
UID:10005691-1770633000-1770636600@theccbb.com
SUMMARY:CC: Marquee Monday
DESCRIPTION:Monday\, February 9\, 2026 10:30 AM – 11:30 AM EST\n\n\nCoca Cola Roxy Theatre – Truist Park Battery\n800 Battery Ave.\, Suite 500\nAtlanta\, GA 30339\n\n\n\n\nLeading Together: When Passion Meets Purpose \nCelebrate leadership\, partnership\, and purpose at the Cobb Chamber’s February 9th Marquee Monday as we host an engaging conversation with Jay Bailey\, President & CEO of the Russell Innovation Center for Entrepreneurs (RICE)\, and his wife Blayne Alexander Bailey\, Dateline NBC Correspondent based in Atlanta.. \nJay Bailey leads RICE\, a nationally recognized entrepreneurial hub dedicated to empowering Black-owned businesses\, advancing innovation\, and expanding economic opportunity. Alongside him\, Blayne Alexander brings a journalist’s perspective shaped by reporting on defining moments of our time across NBC News platforms\, including Dateline NBC\, NBC Nightly News\, the Today Show\, and MSNBC. \nThe conversation will explore their individual leadership journeys\, how they support one another while navigating demanding careers\, and what it looks like to turn passion into purpose. \nModerating this special program are Tracy Styf\, Executive Director of the Town Center CID\, and her husband Dan Styf\, President of DS Healthcare Strategies\, adding another dynamic couple’s perspective on leadership\, collaboration\, and impact. \nAgenda: \nCheck-in & Brunch: 9:30 AM\nProgram- 10:30 AM\nConclusion- 11:30 AM \nRegistration closes and refunds will no longer be available after February 4\, 2026.
URL:https://theccbb.com/event/cc-marquee-monday-2/
LOCATION:Coca-Cola Roxy\, 800 Battery Ave SE #500\, Atlanta\, GA\, 30339\, United States
CATEGORIES:Cobb Chamber
END:VEVENT
BEGIN:VEVENT
DTSTART;TZID=America/New_York:20260209T110000
DTEND;TZID=America/New_York:20260209T130000
DTSTAMP:20260423T095049
CREATED:20240806T182358Z
LAST-MODIFIED:20241104T031824Z
UID:10000783-1770634800-1770642000@theccbb.com
SUMMARY:CC: Marquee Monday
DESCRIPTION:Enjoy lunch with more than 300 of Cobb’s business elite at Marquee Monday. \nFor the featured speaker\, ticket costs and to become a member\, please visit: https://cobbchamber.org
URL:https://theccbb.com/event/cc-marquee-monday/2026-02-09/
LOCATION:Coca-Cola Roxy\, 800 Battery Ave SE #500\, Atlanta\, GA\, 30339\, United States
CATEGORIES:Cobb Chamber
END:VEVENT
BEGIN:VEVENT
DTSTART;TZID=America/New_York:20260209T120000
DTEND;TZID=America/New_York:20260209T133000
DTSTAMP:20260423T095049
CREATED:20241127T110905Z
LAST-MODIFIED:20241127T113636Z
UID:10002200-1770638400-1770643800@theccbb.com
SUMMARY:Marietta-Metro\, Georgia (Rotary Club)
DESCRIPTION:Pre-luncheon fellowship period begins @ 11:50 AM. \nWhere (In-Person): 500 Powder Springs St. Marietta\, 30060\, United States\, Georgia \nWebsite: https://mariettametrorotary.org
URL:https://theccbb.com/event/marietta-metro-georgia-united-states-rotary-club/2026-02-09/
LOCATION:Rotary Club (Marietta-Metro)\, 500 Powder Springs St.\, Marietta\, Georgia\, 30060
CATEGORIES:Rotary Club
END:VEVENT
END:VCALENDAR