BEGIN:VCALENDAR
VERSION:2.0
PRODID:-//Cobb County Business Bootcamp - ECPv6.15.18//NONSGML v1.0//EN
CALSCALE:GREGORIAN
METHOD:PUBLISH
X-WR-CALNAME:Cobb County Business Bootcamp
X-ORIGINAL-URL:https://theccbb.com
X-WR-CALDESC:Events for Cobb County Business Bootcamp
REFRESH-INTERVAL;VALUE=DURATION:PT1H
X-Robots-Tag:noindex
X-PUBLISHED-TTL:PT1H
BEGIN:VTIMEZONE
TZID:America/New_York
BEGIN:DAYLIGHT
TZOFFSETFROM:-0500
TZOFFSETTO:-0400
TZNAME:EDT
DTSTART:20250309T070000
END:DAYLIGHT
BEGIN:STANDARD
TZOFFSETFROM:-0400
TZOFFSETTO:-0500
TZNAME:EST
DTSTART:20251102T060000
END:STANDARD
BEGIN:DAYLIGHT
TZOFFSETFROM:-0500
TZOFFSETTO:-0400
TZNAME:EDT
DTSTART:20260308T070000
END:DAYLIGHT
BEGIN:STANDARD
TZOFFSETFROM:-0400
TZOFFSETTO:-0500
TZNAME:EST
DTSTART:20261101T060000
END:STANDARD
BEGIN:DAYLIGHT
TZOFFSETFROM:-0500
TZOFFSETTO:-0400
TZNAME:EDT
DTSTART:20270314T070000
END:DAYLIGHT
BEGIN:STANDARD
TZOFFSETFROM:-0400
TZOFFSETTO:-0500
TZNAME:EST
DTSTART:20271107T060000
END:STANDARD
END:VTIMEZONE
BEGIN:VEVENT
DTSTART;TZID=America/New_York:20260302T120000
DTEND;TZID=America/New_York:20260302T133000
DTSTAMP:20260423T093910
CREATED:20241127T110905Z
LAST-MODIFIED:20241127T113636Z
UID:10002203-1772452800-1772458200@theccbb.com
SUMMARY:Marietta-Metro\, Georgia (Rotary Club)
DESCRIPTION:Pre-luncheon fellowship period begins @ 11:50 AM. \nWhere (In-Person): 500 Powder Springs St. Marietta\, 30060\, United States\, Georgia \nWebsite: https://mariettametrorotary.org
URL:https://theccbb.com/event/marietta-metro-georgia-united-states-rotary-club/2026-03-02/
LOCATION:Rotary Club (Marietta-Metro)\, 500 Powder Springs St.\, Marietta\, Georgia\, 30060
CATEGORIES:Rotary Club
END:VEVENT
END:VCALENDAR