BEGIN:VCALENDAR
VERSION:2.0
PRODID:-//Cobb County Business Bootcamp - ECPv6.15.18//NONSGML v1.0//EN
CALSCALE:GREGORIAN
METHOD:PUBLISH
X-WR-CALNAME:Cobb County Business Bootcamp
X-ORIGINAL-URL:https://theccbb.com
X-WR-CALDESC:Events for Cobb County Business Bootcamp
REFRESH-INTERVAL;VALUE=DURATION:PT1H
X-Robots-Tag:noindex
X-PUBLISHED-TTL:PT1H
BEGIN:VTIMEZONE
TZID:America/New_York
BEGIN:DAYLIGHT
TZOFFSETFROM:-0500
TZOFFSETTO:-0400
TZNAME:EDT
DTSTART:20250309T070000
END:DAYLIGHT
BEGIN:STANDARD
TZOFFSETFROM:-0400
TZOFFSETTO:-0500
TZNAME:EST
DTSTART:20251102T060000
END:STANDARD
BEGIN:DAYLIGHT
TZOFFSETFROM:-0500
TZOFFSETTO:-0400
TZNAME:EDT
DTSTART:20260308T070000
END:DAYLIGHT
BEGIN:STANDARD
TZOFFSETFROM:-0400
TZOFFSETTO:-0500
TZNAME:EST
DTSTART:20261101T060000
END:STANDARD
BEGIN:DAYLIGHT
TZOFFSETFROM:-0500
TZOFFSETTO:-0400
TZNAME:EDT
DTSTART:20270314T070000
END:DAYLIGHT
BEGIN:STANDARD
TZOFFSETFROM:-0400
TZOFFSETTO:-0500
TZNAME:EST
DTSTART:20271107T060000
END:STANDARD
END:VTIMEZONE
BEGIN:VEVENT
DTSTART;TZID=America/New_York:20260422T070000
DTEND;TZID=America/New_York:20260422T080000
DTSTAMP:20260422T055421
CREATED:20241129T114849Z
LAST-MODIFIED:20241129T114849Z
UID:10003253-1776841200-1776844800@theccbb.com
SUMMARY:East Cobb-Marietta\, Georgia (Rotary Club)
DESCRIPTION:Phone: +1 7702358000\nWebsite: https://www.eastcobbrotary.com \nWHERE (In-Person): 4001 Clubland Dr. Marietta\, 30068-4014\, Georgia \n 
URL:https://theccbb.com/event/east-cobb-marietta-georgia-rotary-club/2026-04-22/
LOCATION:Rotary Club (East Cobb-Marietta)\, 4001 Clubland Dr.\, Marietta\, Georgia\, 30068
CATEGORIES:Rotary Club
END:VEVENT
BEGIN:VEVENT
DTSTART;TZID=America/New_York:20260422T120000
DTEND;TZID=America/New_York:20260422T133000
DTSTAMP:20260422T055421
CREATED:20241127T110157Z
LAST-MODIFIED:20241127T114052Z
UID:10001950-1776859200-1776864600@theccbb.com
SUMMARY:Marietta\, Georgia (Rotary Club)
DESCRIPTION:WHERE: 500 Powder Springs St. Marietta\, 30064-3523\, United States\, Georgia \n 
URL:https://theccbb.com/event/hilton-atlanta-marietta-conf-ctr-resort/2026-04-22/
LOCATION:Rotary Club of Marietta\, 500 Powder Springs St\, Marietta\, Georgia\, 30064
CATEGORIES:Rotary Club
ORGANIZER;CN="Rotary Club (Marietta)":MAILTO:rotaryclubofmarietta@gmail.com
END:VEVENT
BEGIN:VEVENT
DTSTART;TZID=America/New_York:20260422T120000
DTEND;TZID=America/New_York:20260422T133000
DTSTAMP:20260422T055421
CREATED:20241129T124454Z
LAST-MODIFIED:20241129T124454Z
UID:10003514-1776859200-1776864600@theccbb.com
SUMMARY:Vinings Cumberland\, Georgia (Rotary Club)
DESCRIPTION:Copeland’s of New Orleans\, Cumberland\nWebsite: https://www.viningsrotary.org \nWHERE (In-Person): 3101 Cobb Parkway\, Suite 220\, Mardi Gras Room\, Atlanta\, 30339\, Georgia
URL:https://theccbb.com/event/vinings-cumberland-georgia-rotary-club/2026-04-22/
LOCATION:Rotary Club (Vinings Cumberland)\, 3101 Cobb Parkway\, Suite 220\, Mardi Gras Room\, Atlanta\, Georgia\, 30339
END:VEVENT
END:VCALENDAR