BEGIN:VCALENDAR
VERSION:2.0
PRODID:-//Cobb County Business Bootcamp - ECPv6.15.18//NONSGML v1.0//EN
CALSCALE:GREGORIAN
METHOD:PUBLISH
X-WR-CALNAME:Cobb County Business Bootcamp
X-ORIGINAL-URL:https://theccbb.com
X-WR-CALDESC:Events for Cobb County Business Bootcamp
REFRESH-INTERVAL;VALUE=DURATION:PT1H
X-Robots-Tag:noindex
X-PUBLISHED-TTL:PT1H
BEGIN:VTIMEZONE
TZID:America/New_York
BEGIN:DAYLIGHT
TZOFFSETFROM:-0500
TZOFFSETTO:-0400
TZNAME:EDT
DTSTART:20250309T070000
END:DAYLIGHT
BEGIN:STANDARD
TZOFFSETFROM:-0400
TZOFFSETTO:-0500
TZNAME:EST
DTSTART:20251102T060000
END:STANDARD
BEGIN:DAYLIGHT
TZOFFSETFROM:-0500
TZOFFSETTO:-0400
TZNAME:EDT
DTSTART:20260308T070000
END:DAYLIGHT
BEGIN:STANDARD
TZOFFSETFROM:-0400
TZOFFSETTO:-0500
TZNAME:EST
DTSTART:20261101T060000
END:STANDARD
BEGIN:DAYLIGHT
TZOFFSETFROM:-0500
TZOFFSETTO:-0400
TZNAME:EDT
DTSTART:20270314T070000
END:DAYLIGHT
BEGIN:STANDARD
TZOFFSETFROM:-0400
TZOFFSETTO:-0500
TZNAME:EST
DTSTART:20271107T060000
END:STANDARD
END:VTIMEZONE
BEGIN:VEVENT
DTSTART;TZID=America/New_York:20260505T073000
DTEND;TZID=America/New_York:20260505T083000
DTSTAMP:20260423T123326
CREATED:20241129T130726Z
LAST-MODIFIED:20241129T224241Z
UID:10003777-1777966200-1777969800@theccbb.com
SUMMARY:Woodstock\, Georgia (Rotary Club)
DESCRIPTION:IHOP Restaurant in Woodstock \nFrom Atl. I75N to I575N Exit 7\, left on HWY 92\,1/4 mile\nto right into IHOP parking lot. We meet in the back room \nPhone: 404-506-6878 \nWHERE (In-Person): 8979 Hwy. 92 Woodstock\, 30189\, Georgia
URL:https://theccbb.com/event/110345/2026-05-05/
LOCATION:Rotary Club (Woodstock)\, 8979 Hwy. 92\, Woodstock\, Georgia\, 30189
CATEGORIES:Rotary Club
END:VEVENT
BEGIN:VEVENT
DTSTART;TZID=America/New_York:20260505T121500
DTEND;TZID=America/New_York:20260505T133000
DTSTAMP:20260423T123326
CREATED:20241127T115848Z
LAST-MODIFIED:20241127T115848Z
UID:10002733-1777983300-1777987800@theccbb.com
SUMMARY:Smyrna\, Georgia (Rotary Club)
DESCRIPTION:Email: smyrnarotaryga@gmail.com\nWebsite: https://smyrnarotary.org/ \nSmyrna Rotary Club\nWHERE (In-Person): 3180 Atlanta Rd SE\, Smyrna\, 30080-8256\, United States\, Georgia
URL:https://theccbb.com/event/smyrna-georgia-rotary-club/2026-05-05/
LOCATION:Rotary Club (Smyrna)\, 3180 Atlanta Rd SE\, Smyrna\, Georgia\, 30080
CATEGORIES:Rotary Club
END:VEVENT
BEGIN:VEVENT
DTSTART;TZID=America/New_York:20260505T180000
DTEND;TZID=America/New_York:20260505T210000
DTSTAMP:20260423T123326
CREATED:20260117T153306Z
LAST-MODIFIED:20260122T051907Z
UID:10005556-1778004000-1778014800@theccbb.com
SUMMARY:Real Estate Connections Atlanta
DESCRIPTION:ATLANTA’S MOST PRESTIGIOUS REAL ESTATE NETWORKING EVENT \nOur Vision and Mission:\nTo facilitate a positive atmosphere where real estate professionals and real estate related industries can join forces to network and share ideas and strategies. \nADMISSION IS $20.00 PER PERSON | $25 AT THE DOOR \nRealtors Get In Free With A Business Card \nBUSINESS ATTIRE \nContact:\nPeter Pasternack\nPhone: 404 275-8087\nEmail: Peter@RealEstateConnectionsGroup.com
URL:https://theccbb.com/event/real-estate-connections-atlanta-4/
LOCATION:Dr. Scofflaw’s at The Works\, 214 Chattahoochee Row NW\, Atlanta\, Georgia\, 30318
END:VEVENT
END:VCALENDAR