BEGIN:VCALENDAR
VERSION:2.0
PRODID:-//Cobb County Business Bootcamp - ECPv6.15.18//NONSGML v1.0//EN
CALSCALE:GREGORIAN
METHOD:PUBLISH
X-ORIGINAL-URL:https://theccbb.com
X-WR-CALDESC:Events for Cobb County Business Bootcamp
REFRESH-INTERVAL;VALUE=DURATION:PT1H
X-Robots-Tag:noindex
X-PUBLISHED-TTL:PT1H
BEGIN:VTIMEZONE
TZID:America/New_York
BEGIN:DAYLIGHT
TZOFFSETFROM:-0500
TZOFFSETTO:-0400
TZNAME:EDT
DTSTART:20300310T070000
END:DAYLIGHT
BEGIN:STANDARD
TZOFFSETFROM:-0400
TZOFFSETTO:-0500
TZNAME:EST
DTSTART:20301103T060000
END:STANDARD
BEGIN:DAYLIGHT
TZOFFSETFROM:-0500
TZOFFSETTO:-0400
TZNAME:EDT
DTSTART:20310309T070000
END:DAYLIGHT
BEGIN:STANDARD
TZOFFSETFROM:-0400
TZOFFSETTO:-0500
TZNAME:EST
DTSTART:20311102T060000
END:STANDARD
BEGIN:DAYLIGHT
TZOFFSETFROM:-0500
TZOFFSETTO:-0400
TZNAME:EDT
DTSTART:20320314T070000
END:DAYLIGHT
BEGIN:STANDARD
TZOFFSETFROM:-0400
TZOFFSETTO:-0500
TZNAME:EST
DTSTART:20321107T060000
END:STANDARD
END:VTIMEZONE
BEGIN:VEVENT
DTSTART;TZID=America/New_York:20310114T080000
DTEND;TZID=America/New_York:20310114T090000
DTSTAMP:20260424T190253
CREATED:20240806T181316Z
LAST-MODIFIED:20240807T202722Z
UID:10005542-1926144000-1926147600@theccbb.com
SUMMARY:ABA: Morning Jolt
DESCRIPTION:Join the ABA for early morning networking and coffee. \nFor ticket costs and to become a member\, please visit: https://acworthbusiness.org
URL:https://theccbb.com/event/aba-morning-jolt/2031-01-14/
LOCATION:The Cowan\, 4271 Southside Drive\, Acworth\, GA\, 30101\, United States
CATEGORIES:Acworth Business Association
END:VEVENT
BEGIN:VEVENT
DTSTART;TZID=America/New_York:20310128T080000
DTEND;TZID=America/New_York:20310128T090000
DTSTAMP:20260424T190253
CREATED:20240806T181316Z
LAST-MODIFIED:20240807T202722Z
UID:10005888-1927353600-1927357200@theccbb.com
SUMMARY:ABA: Morning Jolt
DESCRIPTION:Join the ABA for early morning networking and coffee. \nFor ticket costs and to become a member\, please visit: https://acworthbusiness.org
URL:https://theccbb.com/event/aba-morning-jolt/2031-01-28/
LOCATION:The Cowan\, 4271 Southside Drive\, Acworth\, GA\, 30101\, United States
CATEGORIES:Acworth Business Association
END:VEVENT
BEGIN:VEVENT
DTSTART;TZID=America/New_York:20310206T113000
DTEND;TZID=America/New_York:20310206T130000
DTSTAMP:20260424T190253
CREATED:20240806T180420Z
LAST-MODIFIED:20240806T180444Z
UID:10006104-1928143800-1928149200@theccbb.com
SUMMARY:ABA: Monthly Luncheon
DESCRIPTION:The ABA monthly luncheons include a dynamic format with updates on the community\, how ABA is impacting members & schools\, and engaging guest speakers. \n***PLEASE NOTE: REGISTRATION CLOSES AT 3PM THE DAY BEFORE.  IF YOU CHOOSE NOT TO REGISTER ONLINE IN ADVANCE\, YOU WILL PAY AN ADDITIONAL $5 AT THE DOOR*** \nFor ticket costs and to become a member\, please visit: https://acworthbusiness.org
URL:https://theccbb.com/event/aba-monthly-luncheon/2031-02-06/
LOCATION:Acworth Community Center\, 4361 Cherokee Street\, Acworth\, GA\, 30101\, United States
CATEGORIES:Acworth Business Association
END:VEVENT
BEGIN:VEVENT
DTSTART;TZID=America/New_York:20310211T080000
DTEND;TZID=America/New_York:20310211T090000
DTSTAMP:20260424T190253
CREATED:20240806T181316Z
LAST-MODIFIED:20240807T202722Z
UID:10006112-1928563200-1928566800@theccbb.com
SUMMARY:ABA: Morning Jolt
DESCRIPTION:Join the ABA for early morning networking and coffee. \nFor ticket costs and to become a member\, please visit: https://acworthbusiness.org
URL:https://theccbb.com/event/aba-morning-jolt/2031-02-11/
LOCATION:The Cowan\, 4271 Southside Drive\, Acworth\, GA\, 30101\, United States
CATEGORIES:Acworth Business Association
END:VEVENT
BEGIN:VEVENT
DTSTART;TZID=America/New_York:20310225T080000
DTEND;TZID=America/New_York:20310225T090000
DTSTAMP:20260424T190253
CREATED:20240806T181316Z
LAST-MODIFIED:20240807T202722Z
UID:10006143-1929772800-1929776400@theccbb.com
SUMMARY:ABA: Morning Jolt
DESCRIPTION:Join the ABA for early morning networking and coffee. \nFor ticket costs and to become a member\, please visit: https://acworthbusiness.org
URL:https://theccbb.com/event/aba-morning-jolt/2031-02-25/
LOCATION:The Cowan\, 4271 Southside Drive\, Acworth\, GA\, 30101\, United States
CATEGORIES:Acworth Business Association
END:VEVENT
BEGIN:VEVENT
DTSTART;TZID=America/New_York:20310306T113000
DTEND;TZID=America/New_York:20310306T130000
DTSTAMP:20260424T190253
CREATED:20240806T180420Z
LAST-MODIFIED:20240806T180444Z
UID:10006198-1930563000-1930568400@theccbb.com
SUMMARY:ABA: Monthly Luncheon
DESCRIPTION:The ABA monthly luncheons include a dynamic format with updates on the community\, how ABA is impacting members & schools\, and engaging guest speakers. \n***PLEASE NOTE: REGISTRATION CLOSES AT 3PM THE DAY BEFORE.  IF YOU CHOOSE NOT TO REGISTER ONLINE IN ADVANCE\, YOU WILL PAY AN ADDITIONAL $5 AT THE DOOR*** \nFor ticket costs and to become a member\, please visit: https://acworthbusiness.org
URL:https://theccbb.com/event/aba-monthly-luncheon/2031-03-06/
LOCATION:Acworth Community Center\, 4361 Cherokee Street\, Acworth\, GA\, 30101\, United States
CATEGORIES:Acworth Business Association
END:VEVENT
BEGIN:VEVENT
DTSTART;TZID=America/New_York:20310311T080000
DTEND;TZID=America/New_York:20310311T090000
DTSTAMP:20260424T190253
CREATED:20240806T181316Z
LAST-MODIFIED:20240807T202722Z
UID:10006180-1930982400-1930986000@theccbb.com
SUMMARY:ABA: Morning Jolt
DESCRIPTION:Join the ABA for early morning networking and coffee. \nFor ticket costs and to become a member\, please visit: https://acworthbusiness.org
URL:https://theccbb.com/event/aba-morning-jolt/2031-03-11/
LOCATION:The Cowan\, 4271 Southside Drive\, Acworth\, GA\, 30101\, United States
CATEGORIES:Acworth Business Association
END:VEVENT
BEGIN:VEVENT
DTSTART;TZID=America/New_York:20310325T080000
DTEND;TZID=America/New_York:20310325T090000
DTSTAMP:20260424T190253
CREATED:20240806T181316Z
LAST-MODIFIED:20240807T202722Z
UID:10006205-1932192000-1932195600@theccbb.com
SUMMARY:ABA: Morning Jolt
DESCRIPTION:Join the ABA for early morning networking and coffee. \nFor ticket costs and to become a member\, please visit: https://acworthbusiness.org
URL:https://theccbb.com/event/aba-morning-jolt/2031-03-25/
LOCATION:The Cowan\, 4271 Southside Drive\, Acworth\, GA\, 30101\, United States
CATEGORIES:Acworth Business Association
END:VEVENT
BEGIN:VEVENT
DTSTART;TZID=America/New_York:20310408T080000
DTEND;TZID=America/New_York:20310408T090000
DTSTAMP:20260424T190253
CREATED:20240806T181316Z
LAST-MODIFIED:20240807T202722Z
UID:10006240-1933401600-1933405200@theccbb.com
SUMMARY:ABA: Morning Jolt
DESCRIPTION:Join the ABA for early morning networking and coffee. \nFor ticket costs and to become a member\, please visit: https://acworthbusiness.org
URL:https://theccbb.com/event/aba-morning-jolt/2031-04-08/
LOCATION:The Cowan\, 4271 Southside Drive\, Acworth\, GA\, 30101\, United States
CATEGORIES:Acworth Business Association
END:VEVENT
END:VCALENDAR