BEGIN:VCALENDAR
VERSION:2.0
PRODID:-//Cobb County Business Bootcamp - ECPv6.15.18//NONSGML v1.0//EN
CALSCALE:GREGORIAN
METHOD:PUBLISH
X-WR-CALNAME:Cobb County Business Bootcamp
X-ORIGINAL-URL:https://theccbb.com
X-WR-CALDESC:Events for Cobb County Business Bootcamp
REFRESH-INTERVAL;VALUE=DURATION:PT1H
X-Robots-Tag:noindex
X-PUBLISHED-TTL:PT1H
BEGIN:VTIMEZONE
TZID:America/New_York
BEGIN:DAYLIGHT
TZOFFSETFROM:-0500
TZOFFSETTO:-0400
TZNAME:EDT
DTSTART:20260308T070000
END:DAYLIGHT
BEGIN:STANDARD
TZOFFSETFROM:-0400
TZOFFSETTO:-0500
TZNAME:EST
DTSTART:20261101T060000
END:STANDARD
BEGIN:DAYLIGHT
TZOFFSETFROM:-0500
TZOFFSETTO:-0400
TZNAME:EDT
DTSTART:20270314T070000
END:DAYLIGHT
BEGIN:STANDARD
TZOFFSETFROM:-0400
TZOFFSETTO:-0500
TZNAME:EST
DTSTART:20271107T060000
END:STANDARD
BEGIN:DAYLIGHT
TZOFFSETFROM:-0500
TZOFFSETTO:-0400
TZNAME:EDT
DTSTART:20280312T070000
END:DAYLIGHT
BEGIN:STANDARD
TZOFFSETFROM:-0400
TZOFFSETTO:-0500
TZNAME:EST
DTSTART:20281105T060000
END:STANDARD
BEGIN:DAYLIGHT
TZOFFSETFROM:-0500
TZOFFSETTO:-0400
TZNAME:EDT
DTSTART:20290311T070000
END:DAYLIGHT
BEGIN:STANDARD
TZOFFSETFROM:-0400
TZOFFSETTO:-0500
TZNAME:EST
DTSTART:20291104T060000
END:STANDARD
END:VTIMEZONE
BEGIN:VEVENT
DTSTART;TZID=America/New_York:20271123T080000
DTEND;TZID=America/New_York:20271123T090000
DTSTAMP:20260424T012855
CREATED:20240806T181316Z
LAST-MODIFIED:20240807T202722Z
UID:10000719-1826956800-1826960400@theccbb.com
SUMMARY:ABA: Morning Jolt
DESCRIPTION:Join the ABA for early morning networking and coffee. \nFor ticket costs and to become a member\, please visit: https://acworthbusiness.org
URL:https://theccbb.com/event/aba-morning-jolt/2027-11-23/
LOCATION:The Cowan\, 4271 Southside Drive\, Acworth\, GA\, 30101\, United States
CATEGORIES:Acworth Business Association
END:VEVENT
BEGIN:VEVENT
DTSTART;TZID=America/New_York:20271202T113000
DTEND;TZID=America/New_York:20271202T130000
DTSTAMP:20260424T012855
CREATED:20240806T180420Z
LAST-MODIFIED:20240806T180444Z
UID:10000612-1827747000-1827752400@theccbb.com
SUMMARY:ABA: Monthly Luncheon
DESCRIPTION:The ABA monthly luncheons include a dynamic format with updates on the community\, how ABA is impacting members & schools\, and engaging guest speakers. \n***PLEASE NOTE: REGISTRATION CLOSES AT 3PM THE DAY BEFORE.  IF YOU CHOOSE NOT TO REGISTER ONLINE IN ADVANCE\, YOU WILL PAY AN ADDITIONAL $5 AT THE DOOR*** \nFor ticket costs and to become a member\, please visit: https://acworthbusiness.org
URL:https://theccbb.com/event/aba-monthly-luncheon/2027-12-02/
LOCATION:Acworth Community Center\, 4361 Cherokee Street\, Acworth\, GA\, 30101\, United States
CATEGORIES:Acworth Business Association
END:VEVENT
BEGIN:VEVENT
DTSTART;TZID=America/New_York:20271207T080000
DTEND;TZID=America/New_York:20271207T090000
DTSTAMP:20260424T012855
CREATED:20240806T181316Z
LAST-MODIFIED:20240807T202722Z
UID:10000720-1828166400-1828170000@theccbb.com
SUMMARY:ABA: Morning Jolt
DESCRIPTION:Join the ABA for early morning networking and coffee. \nFor ticket costs and to become a member\, please visit: https://acworthbusiness.org
URL:https://theccbb.com/event/aba-morning-jolt/2027-12-07/
LOCATION:The Cowan\, 4271 Southside Drive\, Acworth\, GA\, 30101\, United States
CATEGORIES:Acworth Business Association
END:VEVENT
BEGIN:VEVENT
DTSTART;TZID=America/New_York:20271221T080000
DTEND;TZID=America/New_York:20271221T090000
DTSTAMP:20260424T012855
CREATED:20240806T181316Z
LAST-MODIFIED:20240807T202722Z
UID:10000721-1829376000-1829379600@theccbb.com
SUMMARY:ABA: Morning Jolt
DESCRIPTION:Join the ABA for early morning networking and coffee. \nFor ticket costs and to become a member\, please visit: https://acworthbusiness.org
URL:https://theccbb.com/event/aba-morning-jolt/2027-12-21/
LOCATION:The Cowan\, 4271 Southside Drive\, Acworth\, GA\, 30101\, United States
CATEGORIES:Acworth Business Association
END:VEVENT
BEGIN:VEVENT
DTSTART;TZID=America/New_York:20280104T080000
DTEND;TZID=America/New_York:20280104T090000
DTSTAMP:20260424T012855
CREATED:20240806T181316Z
LAST-MODIFIED:20240807T202722Z
UID:10000722-1830585600-1830589200@theccbb.com
SUMMARY:ABA: Morning Jolt
DESCRIPTION:Join the ABA for early morning networking and coffee. \nFor ticket costs and to become a member\, please visit: https://acworthbusiness.org
URL:https://theccbb.com/event/aba-morning-jolt/2028-01-04/
LOCATION:The Cowan\, 4271 Southside Drive\, Acworth\, GA\, 30101\, United States
CATEGORIES:Acworth Business Association
END:VEVENT
BEGIN:VEVENT
DTSTART;TZID=America/New_York:20280106T113000
DTEND;TZID=America/New_York:20280106T130000
DTSTAMP:20260424T012855
CREATED:20240806T180420Z
LAST-MODIFIED:20240806T180444Z
UID:10000613-1830771000-1830776400@theccbb.com
SUMMARY:ABA: Monthly Luncheon
DESCRIPTION:The ABA monthly luncheons include a dynamic format with updates on the community\, how ABA is impacting members & schools\, and engaging guest speakers. \n***PLEASE NOTE: REGISTRATION CLOSES AT 3PM THE DAY BEFORE.  IF YOU CHOOSE NOT TO REGISTER ONLINE IN ADVANCE\, YOU WILL PAY AN ADDITIONAL $5 AT THE DOOR*** \nFor ticket costs and to become a member\, please visit: https://acworthbusiness.org
URL:https://theccbb.com/event/aba-monthly-luncheon/2028-01-06/
LOCATION:Acworth Community Center\, 4361 Cherokee Street\, Acworth\, GA\, 30101\, United States
CATEGORIES:Acworth Business Association
END:VEVENT
BEGIN:VEVENT
DTSTART;TZID=America/New_York:20280118T080000
DTEND;TZID=America/New_York:20280118T090000
DTSTAMP:20260424T012855
CREATED:20240806T181316Z
LAST-MODIFIED:20240807T202722Z
UID:10000723-1831795200-1831798800@theccbb.com
SUMMARY:ABA: Morning Jolt
DESCRIPTION:Join the ABA for early morning networking and coffee. \nFor ticket costs and to become a member\, please visit: https://acworthbusiness.org
URL:https://theccbb.com/event/aba-morning-jolt/2028-01-18/
LOCATION:The Cowan\, 4271 Southside Drive\, Acworth\, GA\, 30101\, United States
CATEGORIES:Acworth Business Association
END:VEVENT
BEGIN:VEVENT
DTSTART;TZID=America/New_York:20280201T080000
DTEND;TZID=America/New_York:20280201T090000
DTSTAMP:20260424T012855
CREATED:20240806T181316Z
LAST-MODIFIED:20240807T202722Z
UID:10000724-1833004800-1833008400@theccbb.com
SUMMARY:ABA: Morning Jolt
DESCRIPTION:Join the ABA for early morning networking and coffee. \nFor ticket costs and to become a member\, please visit: https://acworthbusiness.org
URL:https://theccbb.com/event/aba-morning-jolt/2028-02-01/
LOCATION:The Cowan\, 4271 Southside Drive\, Acworth\, GA\, 30101\, United States
CATEGORIES:Acworth Business Association
END:VEVENT
BEGIN:VEVENT
DTSTART;TZID=America/New_York:20280203T113000
DTEND;TZID=America/New_York:20280203T130000
DTSTAMP:20260424T012855
CREATED:20240806T180420Z
LAST-MODIFIED:20240806T180444Z
UID:10000614-1833190200-1833195600@theccbb.com
SUMMARY:ABA: Monthly Luncheon
DESCRIPTION:The ABA monthly luncheons include a dynamic format with updates on the community\, how ABA is impacting members & schools\, and engaging guest speakers. \n***PLEASE NOTE: REGISTRATION CLOSES AT 3PM THE DAY BEFORE.  IF YOU CHOOSE NOT TO REGISTER ONLINE IN ADVANCE\, YOU WILL PAY AN ADDITIONAL $5 AT THE DOOR*** \nFor ticket costs and to become a member\, please visit: https://acworthbusiness.org
URL:https://theccbb.com/event/aba-monthly-luncheon/2028-02-03/
LOCATION:Acworth Community Center\, 4361 Cherokee Street\, Acworth\, GA\, 30101\, United States
CATEGORIES:Acworth Business Association
END:VEVENT
BEGIN:VEVENT
DTSTART;TZID=America/New_York:20280215T080000
DTEND;TZID=America/New_York:20280215T090000
DTSTAMP:20260424T012855
CREATED:20240806T181316Z
LAST-MODIFIED:20240807T202722Z
UID:10000725-1834214400-1834218000@theccbb.com
SUMMARY:ABA: Morning Jolt
DESCRIPTION:Join the ABA for early morning networking and coffee. \nFor ticket costs and to become a member\, please visit: https://acworthbusiness.org
URL:https://theccbb.com/event/aba-morning-jolt/2028-02-15/
LOCATION:The Cowan\, 4271 Southside Drive\, Acworth\, GA\, 30101\, United States
CATEGORIES:Acworth Business Association
END:VEVENT
BEGIN:VEVENT
DTSTART;TZID=America/New_York:20280229T080000
DTEND;TZID=America/New_York:20280229T090000
DTSTAMP:20260424T012855
CREATED:20240806T181316Z
LAST-MODIFIED:20240807T202722Z
UID:10000726-1835424000-1835427600@theccbb.com
SUMMARY:ABA: Morning Jolt
DESCRIPTION:Join the ABA for early morning networking and coffee. \nFor ticket costs and to become a member\, please visit: https://acworthbusiness.org
URL:https://theccbb.com/event/aba-morning-jolt/2028-02-29/
LOCATION:The Cowan\, 4271 Southside Drive\, Acworth\, GA\, 30101\, United States
CATEGORIES:Acworth Business Association
END:VEVENT
BEGIN:VEVENT
DTSTART;TZID=America/New_York:20280302T113000
DTEND;TZID=America/New_York:20280302T130000
DTSTAMP:20260424T012855
CREATED:20240806T180420Z
LAST-MODIFIED:20240806T180444Z
UID:10000615-1835609400-1835614800@theccbb.com
SUMMARY:ABA: Monthly Luncheon
DESCRIPTION:The ABA monthly luncheons include a dynamic format with updates on the community\, how ABA is impacting members & schools\, and engaging guest speakers. \n***PLEASE NOTE: REGISTRATION CLOSES AT 3PM THE DAY BEFORE.  IF YOU CHOOSE NOT TO REGISTER ONLINE IN ADVANCE\, YOU WILL PAY AN ADDITIONAL $5 AT THE DOOR*** \nFor ticket costs and to become a member\, please visit: https://acworthbusiness.org
URL:https://theccbb.com/event/aba-monthly-luncheon/2028-03-02/
LOCATION:Acworth Community Center\, 4361 Cherokee Street\, Acworth\, GA\, 30101\, United States
CATEGORIES:Acworth Business Association
END:VEVENT
BEGIN:VEVENT
DTSTART;TZID=America/New_York:20280314T080000
DTEND;TZID=America/New_York:20280314T090000
DTSTAMP:20260424T012855
CREATED:20240806T181316Z
LAST-MODIFIED:20240807T202722Z
UID:10000727-1836633600-1836637200@theccbb.com
SUMMARY:ABA: Morning Jolt
DESCRIPTION:Join the ABA for early morning networking and coffee. \nFor ticket costs and to become a member\, please visit: https://acworthbusiness.org
URL:https://theccbb.com/event/aba-morning-jolt/2028-03-14/
LOCATION:The Cowan\, 4271 Southside Drive\, Acworth\, GA\, 30101\, United States
CATEGORIES:Acworth Business Association
END:VEVENT
BEGIN:VEVENT
DTSTART;TZID=America/New_York:20280328T080000
DTEND;TZID=America/New_York:20280328T090000
DTSTAMP:20260424T012855
CREATED:20240806T181316Z
LAST-MODIFIED:20240807T202722Z
UID:10000728-1837843200-1837846800@theccbb.com
SUMMARY:ABA: Morning Jolt
DESCRIPTION:Join the ABA for early morning networking and coffee. \nFor ticket costs and to become a member\, please visit: https://acworthbusiness.org
URL:https://theccbb.com/event/aba-morning-jolt/2028-03-28/
LOCATION:The Cowan\, 4271 Southside Drive\, Acworth\, GA\, 30101\, United States
CATEGORIES:Acworth Business Association
END:VEVENT
BEGIN:VEVENT
DTSTART;TZID=America/New_York:20280406T113000
DTEND;TZID=America/New_York:20280406T130000
DTSTAMP:20260424T012855
CREATED:20240806T180420Z
LAST-MODIFIED:20240806T180444Z
UID:10000616-1838633400-1838638800@theccbb.com
SUMMARY:ABA: Monthly Luncheon
DESCRIPTION:The ABA monthly luncheons include a dynamic format with updates on the community\, how ABA is impacting members & schools\, and engaging guest speakers. \n***PLEASE NOTE: REGISTRATION CLOSES AT 3PM THE DAY BEFORE.  IF YOU CHOOSE NOT TO REGISTER ONLINE IN ADVANCE\, YOU WILL PAY AN ADDITIONAL $5 AT THE DOOR*** \nFor ticket costs and to become a member\, please visit: https://acworthbusiness.org
URL:https://theccbb.com/event/aba-monthly-luncheon/2028-04-06/
LOCATION:Acworth Community Center\, 4361 Cherokee Street\, Acworth\, GA\, 30101\, United States
CATEGORIES:Acworth Business Association
END:VEVENT
BEGIN:VEVENT
DTSTART;TZID=America/New_York:20280411T080000
DTEND;TZID=America/New_York:20280411T090000
DTSTAMP:20260424T012855
CREATED:20240806T181316Z
LAST-MODIFIED:20240807T202722Z
UID:10000729-1839052800-1839056400@theccbb.com
SUMMARY:ABA: Morning Jolt
DESCRIPTION:Join the ABA for early morning networking and coffee. \nFor ticket costs and to become a member\, please visit: https://acworthbusiness.org
URL:https://theccbb.com/event/aba-morning-jolt/2028-04-11/
LOCATION:The Cowan\, 4271 Southside Drive\, Acworth\, GA\, 30101\, United States
CATEGORIES:Acworth Business Association
END:VEVENT
BEGIN:VEVENT
DTSTART;TZID=America/New_York:20280425T080000
DTEND;TZID=America/New_York:20280425T090000
DTSTAMP:20260424T012855
CREATED:20240806T181316Z
LAST-MODIFIED:20240807T202722Z
UID:10000730-1840262400-1840266000@theccbb.com
SUMMARY:ABA: Morning Jolt
DESCRIPTION:Join the ABA for early morning networking and coffee. \nFor ticket costs and to become a member\, please visit: https://acworthbusiness.org
URL:https://theccbb.com/event/aba-morning-jolt/2028-04-25/
LOCATION:The Cowan\, 4271 Southside Drive\, Acworth\, GA\, 30101\, United States
CATEGORIES:Acworth Business Association
END:VEVENT
BEGIN:VEVENT
DTSTART;TZID=America/New_York:20280504T113000
DTEND;TZID=America/New_York:20280504T130000
DTSTAMP:20260424T012855
CREATED:20240806T180420Z
LAST-MODIFIED:20240806T180444Z
UID:10000617-1841052600-1841058000@theccbb.com
SUMMARY:ABA: Monthly Luncheon
DESCRIPTION:The ABA monthly luncheons include a dynamic format with updates on the community\, how ABA is impacting members & schools\, and engaging guest speakers. \n***PLEASE NOTE: REGISTRATION CLOSES AT 3PM THE DAY BEFORE.  IF YOU CHOOSE NOT TO REGISTER ONLINE IN ADVANCE\, YOU WILL PAY AN ADDITIONAL $5 AT THE DOOR*** \nFor ticket costs and to become a member\, please visit: https://acworthbusiness.org
URL:https://theccbb.com/event/aba-monthly-luncheon/2028-05-04/
LOCATION:Acworth Community Center\, 4361 Cherokee Street\, Acworth\, GA\, 30101\, United States
CATEGORIES:Acworth Business Association
END:VEVENT
BEGIN:VEVENT
DTSTART;TZID=America/New_York:20280509T080000
DTEND;TZID=America/New_York:20280509T090000
DTSTAMP:20260424T012855
CREATED:20240806T181316Z
LAST-MODIFIED:20240807T202722Z
UID:10000731-1841472000-1841475600@theccbb.com
SUMMARY:ABA: Morning Jolt
DESCRIPTION:Join the ABA for early morning networking and coffee. \nFor ticket costs and to become a member\, please visit: https://acworthbusiness.org
URL:https://theccbb.com/event/aba-morning-jolt/2028-05-09/
LOCATION:The Cowan\, 4271 Southside Drive\, Acworth\, GA\, 30101\, United States
CATEGORIES:Acworth Business Association
END:VEVENT
BEGIN:VEVENT
DTSTART;TZID=America/New_York:20280523T080000
DTEND;TZID=America/New_York:20280523T090000
DTSTAMP:20260424T012855
CREATED:20240806T181316Z
LAST-MODIFIED:20240807T202722Z
UID:10000732-1842681600-1842685200@theccbb.com
SUMMARY:ABA: Morning Jolt
DESCRIPTION:Join the ABA for early morning networking and coffee. \nFor ticket costs and to become a member\, please visit: https://acworthbusiness.org
URL:https://theccbb.com/event/aba-morning-jolt/2028-05-23/
LOCATION:The Cowan\, 4271 Southside Drive\, Acworth\, GA\, 30101\, United States
CATEGORIES:Acworth Business Association
END:VEVENT
BEGIN:VEVENT
DTSTART;TZID=America/New_York:20280601T113000
DTEND;TZID=America/New_York:20280601T130000
DTSTAMP:20260424T012855
CREATED:20240806T180420Z
LAST-MODIFIED:20240806T180444Z
UID:10000618-1843471800-1843477200@theccbb.com
SUMMARY:ABA: Monthly Luncheon
DESCRIPTION:The ABA monthly luncheons include a dynamic format with updates on the community\, how ABA is impacting members & schools\, and engaging guest speakers. \n***PLEASE NOTE: REGISTRATION CLOSES AT 3PM THE DAY BEFORE.  IF YOU CHOOSE NOT TO REGISTER ONLINE IN ADVANCE\, YOU WILL PAY AN ADDITIONAL $5 AT THE DOOR*** \nFor ticket costs and to become a member\, please visit: https://acworthbusiness.org
URL:https://theccbb.com/event/aba-monthly-luncheon/2028-06-01/
LOCATION:Acworth Community Center\, 4361 Cherokee Street\, Acworth\, GA\, 30101\, United States
CATEGORIES:Acworth Business Association
END:VEVENT
BEGIN:VEVENT
DTSTART;TZID=America/New_York:20280606T080000
DTEND;TZID=America/New_York:20280606T090000
DTSTAMP:20260424T012856
CREATED:20240806T181316Z
LAST-MODIFIED:20240807T202722Z
UID:10000733-1843891200-1843894800@theccbb.com
SUMMARY:ABA: Morning Jolt
DESCRIPTION:Join the ABA for early morning networking and coffee. \nFor ticket costs and to become a member\, please visit: https://acworthbusiness.org
URL:https://theccbb.com/event/aba-morning-jolt/2028-06-06/
LOCATION:The Cowan\, 4271 Southside Drive\, Acworth\, GA\, 30101\, United States
CATEGORIES:Acworth Business Association
END:VEVENT
BEGIN:VEVENT
DTSTART;TZID=America/New_York:20280620T080000
DTEND;TZID=America/New_York:20280620T090000
DTSTAMP:20260424T012856
CREATED:20240806T181316Z
LAST-MODIFIED:20240807T202722Z
UID:10000734-1845100800-1845104400@theccbb.com
SUMMARY:ABA: Morning Jolt
DESCRIPTION:Join the ABA for early morning networking and coffee. \nFor ticket costs and to become a member\, please visit: https://acworthbusiness.org
URL:https://theccbb.com/event/aba-morning-jolt/2028-06-20/
LOCATION:The Cowan\, 4271 Southside Drive\, Acworth\, GA\, 30101\, United States
CATEGORIES:Acworth Business Association
END:VEVENT
BEGIN:VEVENT
DTSTART;TZID=America/New_York:20280704T080000
DTEND;TZID=America/New_York:20280704T090000
DTSTAMP:20260424T012856
CREATED:20240806T181316Z
LAST-MODIFIED:20240807T202722Z
UID:10000735-1846310400-1846314000@theccbb.com
SUMMARY:ABA: Morning Jolt
DESCRIPTION:Join the ABA for early morning networking and coffee. \nFor ticket costs and to become a member\, please visit: https://acworthbusiness.org
URL:https://theccbb.com/event/aba-morning-jolt/2028-07-04/
LOCATION:The Cowan\, 4271 Southside Drive\, Acworth\, GA\, 30101\, United States
CATEGORIES:Acworth Business Association
END:VEVENT
BEGIN:VEVENT
DTSTART;TZID=America/New_York:20280706T113000
DTEND;TZID=America/New_York:20280706T130000
DTSTAMP:20260424T012856
CREATED:20240806T180420Z
LAST-MODIFIED:20240806T180444Z
UID:10000619-1846495800-1846501200@theccbb.com
SUMMARY:ABA: Monthly Luncheon
DESCRIPTION:The ABA monthly luncheons include a dynamic format with updates on the community\, how ABA is impacting members & schools\, and engaging guest speakers. \n***PLEASE NOTE: REGISTRATION CLOSES AT 3PM THE DAY BEFORE.  IF YOU CHOOSE NOT TO REGISTER ONLINE IN ADVANCE\, YOU WILL PAY AN ADDITIONAL $5 AT THE DOOR*** \nFor ticket costs and to become a member\, please visit: https://acworthbusiness.org
URL:https://theccbb.com/event/aba-monthly-luncheon/2028-07-06/
LOCATION:Acworth Community Center\, 4361 Cherokee Street\, Acworth\, GA\, 30101\, United States
CATEGORIES:Acworth Business Association
END:VEVENT
BEGIN:VEVENT
DTSTART;TZID=America/New_York:20280718T080000
DTEND;TZID=America/New_York:20280718T090000
DTSTAMP:20260424T012856
CREATED:20240806T181316Z
LAST-MODIFIED:20240807T202722Z
UID:10000736-1847520000-1847523600@theccbb.com
SUMMARY:ABA: Morning Jolt
DESCRIPTION:Join the ABA for early morning networking and coffee. \nFor ticket costs and to become a member\, please visit: https://acworthbusiness.org
URL:https://theccbb.com/event/aba-morning-jolt/2028-07-18/
LOCATION:The Cowan\, 4271 Southside Drive\, Acworth\, GA\, 30101\, United States
CATEGORIES:Acworth Business Association
END:VEVENT
BEGIN:VEVENT
DTSTART;TZID=America/New_York:20280801T080000
DTEND;TZID=America/New_York:20280801T090000
DTSTAMP:20260424T012856
CREATED:20240806T181316Z
LAST-MODIFIED:20240807T202722Z
UID:10000737-1848729600-1848733200@theccbb.com
SUMMARY:ABA: Morning Jolt
DESCRIPTION:Join the ABA for early morning networking and coffee. \nFor ticket costs and to become a member\, please visit: https://acworthbusiness.org
URL:https://theccbb.com/event/aba-morning-jolt/2028-08-01/
LOCATION:The Cowan\, 4271 Southside Drive\, Acworth\, GA\, 30101\, United States
CATEGORIES:Acworth Business Association
END:VEVENT
BEGIN:VEVENT
DTSTART;TZID=America/New_York:20280803T113000
DTEND;TZID=America/New_York:20280803T130000
DTSTAMP:20260424T012856
CREATED:20240806T180420Z
LAST-MODIFIED:20240806T180444Z
UID:10000620-1848915000-1848920400@theccbb.com
SUMMARY:ABA: Monthly Luncheon
DESCRIPTION:The ABA monthly luncheons include a dynamic format with updates on the community\, how ABA is impacting members & schools\, and engaging guest speakers. \n***PLEASE NOTE: REGISTRATION CLOSES AT 3PM THE DAY BEFORE.  IF YOU CHOOSE NOT TO REGISTER ONLINE IN ADVANCE\, YOU WILL PAY AN ADDITIONAL $5 AT THE DOOR*** \nFor ticket costs and to become a member\, please visit: https://acworthbusiness.org
URL:https://theccbb.com/event/aba-monthly-luncheon/2028-08-03/
LOCATION:Acworth Community Center\, 4361 Cherokee Street\, Acworth\, GA\, 30101\, United States
CATEGORIES:Acworth Business Association
END:VEVENT
BEGIN:VEVENT
DTSTART;TZID=America/New_York:20280815T080000
DTEND;TZID=America/New_York:20280815T090000
DTSTAMP:20260424T012856
CREATED:20240806T181316Z
LAST-MODIFIED:20240807T202722Z
UID:10000738-1849939200-1849942800@theccbb.com
SUMMARY:ABA: Morning Jolt
DESCRIPTION:Join the ABA for early morning networking and coffee. \nFor ticket costs and to become a member\, please visit: https://acworthbusiness.org
URL:https://theccbb.com/event/aba-morning-jolt/2028-08-15/
LOCATION:The Cowan\, 4271 Southside Drive\, Acworth\, GA\, 30101\, United States
CATEGORIES:Acworth Business Association
END:VEVENT
BEGIN:VEVENT
DTSTART;TZID=America/New_York:20280829T080000
DTEND;TZID=America/New_York:20280829T090000
DTSTAMP:20260424T012856
CREATED:20240806T181316Z
LAST-MODIFIED:20240807T202722Z
UID:10000739-1851148800-1851152400@theccbb.com
SUMMARY:ABA: Morning Jolt
DESCRIPTION:Join the ABA for early morning networking and coffee. \nFor ticket costs and to become a member\, please visit: https://acworthbusiness.org
URL:https://theccbb.com/event/aba-morning-jolt/2028-08-29/
LOCATION:The Cowan\, 4271 Southside Drive\, Acworth\, GA\, 30101\, United States
CATEGORIES:Acworth Business Association
END:VEVENT
END:VCALENDAR