BEGIN:VCALENDAR
VERSION:2.0
PRODID:-//Cobb County Business Bootcamp - ECPv6.15.18//NONSGML v1.0//EN
CALSCALE:GREGORIAN
METHOD:PUBLISH
X-ORIGINAL-URL:https://theccbb.com
X-WR-CALDESC:Events for Cobb County Business Bootcamp
REFRESH-INTERVAL;VALUE=DURATION:PT1H
X-Robots-Tag:noindex
X-PUBLISHED-TTL:PT1H
BEGIN:VTIMEZONE
TZID:America/New_York
BEGIN:DAYLIGHT
TZOFFSETFROM:-0500
TZOFFSETTO:-0400
TZNAME:EDT
DTSTART:20250309T070000
END:DAYLIGHT
BEGIN:STANDARD
TZOFFSETFROM:-0400
TZOFFSETTO:-0500
TZNAME:EST
DTSTART:20251102T060000
END:STANDARD
BEGIN:DAYLIGHT
TZOFFSETFROM:-0500
TZOFFSETTO:-0400
TZNAME:EDT
DTSTART:20260308T070000
END:DAYLIGHT
BEGIN:STANDARD
TZOFFSETFROM:-0400
TZOFFSETTO:-0500
TZNAME:EST
DTSTART:20261101T060000
END:STANDARD
BEGIN:DAYLIGHT
TZOFFSETFROM:-0500
TZOFFSETTO:-0400
TZNAME:EDT
DTSTART:20270314T070000
END:DAYLIGHT
BEGIN:STANDARD
TZOFFSETFROM:-0400
TZOFFSETTO:-0500
TZNAME:EST
DTSTART:20271107T060000
END:STANDARD
BEGIN:DAYLIGHT
TZOFFSETFROM:-0500
TZOFFSETTO:-0400
TZNAME:EDT
DTSTART:20280312T070000
END:DAYLIGHT
BEGIN:STANDARD
TZOFFSETFROM:-0400
TZOFFSETTO:-0500
TZNAME:EST
DTSTART:20281105T060000
END:STANDARD
END:VTIMEZONE
BEGIN:VEVENT
DTSTART;TZID=America/New_York:20261027T080000
DTEND;TZID=America/New_York:20261027T090000
DTSTAMP:20260424T123757
CREATED:20240806T181316Z
LAST-MODIFIED:20240807T202722Z
UID:10000691-1793088000-1793091600@theccbb.com
SUMMARY:ABA: Morning Jolt
DESCRIPTION:Join the ABA for early morning networking and coffee. \nFor ticket costs and to become a member\, please visit: https://acworthbusiness.org
URL:https://theccbb.com/event/aba-morning-jolt/2026-10-27/
LOCATION:The Cowan\, 4271 Southside Drive\, Acworth\, GA\, 30101\, United States
CATEGORIES:Acworth Business Association
END:VEVENT
BEGIN:VEVENT
DTSTART;TZID=America/New_York:20261105T113000
DTEND;TZID=America/New_York:20261105T130000
DTSTAMP:20260424T123757
CREATED:20240806T180420Z
LAST-MODIFIED:20240806T180444Z
UID:10000599-1793878200-1793883600@theccbb.com
SUMMARY:ABA: Monthly Luncheon
DESCRIPTION:The ABA monthly luncheons include a dynamic format with updates on the community\, how ABA is impacting members & schools\, and engaging guest speakers. \n***PLEASE NOTE: REGISTRATION CLOSES AT 3PM THE DAY BEFORE.  IF YOU CHOOSE NOT TO REGISTER ONLINE IN ADVANCE\, YOU WILL PAY AN ADDITIONAL $5 AT THE DOOR*** \nFor ticket costs and to become a member\, please visit: https://acworthbusiness.org
URL:https://theccbb.com/event/aba-monthly-luncheon/2026-11-05/
LOCATION:Acworth Community Center\, 4361 Cherokee Street\, Acworth\, GA\, 30101\, United States
CATEGORIES:Acworth Business Association
END:VEVENT
BEGIN:VEVENT
DTSTART;TZID=America/New_York:20261110T080000
DTEND;TZID=America/New_York:20261110T090000
DTSTAMP:20260424T123757
CREATED:20240806T181316Z
LAST-MODIFIED:20240807T202722Z
UID:10000692-1794297600-1794301200@theccbb.com
SUMMARY:ABA: Morning Jolt
DESCRIPTION:Join the ABA for early morning networking and coffee. \nFor ticket costs and to become a member\, please visit: https://acworthbusiness.org
URL:https://theccbb.com/event/aba-morning-jolt/2026-11-10/
LOCATION:The Cowan\, 4271 Southside Drive\, Acworth\, GA\, 30101\, United States
CATEGORIES:Acworth Business Association
END:VEVENT
BEGIN:VEVENT
DTSTART;TZID=America/New_York:20261124T080000
DTEND;TZID=America/New_York:20261124T090000
DTSTAMP:20260424T123757
CREATED:20240806T181316Z
LAST-MODIFIED:20240807T202722Z
UID:10000693-1795507200-1795510800@theccbb.com
SUMMARY:ABA: Morning Jolt
DESCRIPTION:Join the ABA for early morning networking and coffee. \nFor ticket costs and to become a member\, please visit: https://acworthbusiness.org
URL:https://theccbb.com/event/aba-morning-jolt/2026-11-24/
LOCATION:The Cowan\, 4271 Southside Drive\, Acworth\, GA\, 30101\, United States
CATEGORIES:Acworth Business Association
END:VEVENT
BEGIN:VEVENT
DTSTART;TZID=America/New_York:20261203T113000
DTEND;TZID=America/New_York:20261203T130000
DTSTAMP:20260424T123757
CREATED:20240806T180420Z
LAST-MODIFIED:20240806T180444Z
UID:10000600-1796297400-1796302800@theccbb.com
SUMMARY:ABA: Monthly Luncheon
DESCRIPTION:The ABA monthly luncheons include a dynamic format with updates on the community\, how ABA is impacting members & schools\, and engaging guest speakers. \n***PLEASE NOTE: REGISTRATION CLOSES AT 3PM THE DAY BEFORE.  IF YOU CHOOSE NOT TO REGISTER ONLINE IN ADVANCE\, YOU WILL PAY AN ADDITIONAL $5 AT THE DOOR*** \nFor ticket costs and to become a member\, please visit: https://acworthbusiness.org
URL:https://theccbb.com/event/aba-monthly-luncheon/2026-12-03/
LOCATION:Acworth Community Center\, 4361 Cherokee Street\, Acworth\, GA\, 30101\, United States
CATEGORIES:Acworth Business Association
END:VEVENT
BEGIN:VEVENT
DTSTART;TZID=America/New_York:20261208T080000
DTEND;TZID=America/New_York:20261208T090000
DTSTAMP:20260424T123757
CREATED:20240806T181316Z
LAST-MODIFIED:20240807T202722Z
UID:10000694-1796716800-1796720400@theccbb.com
SUMMARY:ABA: Morning Jolt
DESCRIPTION:Join the ABA for early morning networking and coffee. \nFor ticket costs and to become a member\, please visit: https://acworthbusiness.org
URL:https://theccbb.com/event/aba-morning-jolt/2026-12-08/
LOCATION:The Cowan\, 4271 Southside Drive\, Acworth\, GA\, 30101\, United States
CATEGORIES:Acworth Business Association
END:VEVENT
BEGIN:VEVENT
DTSTART;TZID=America/New_York:20261222T080000
DTEND;TZID=America/New_York:20261222T090000
DTSTAMP:20260424T123757
CREATED:20240806T181316Z
LAST-MODIFIED:20240807T202722Z
UID:10000695-1797926400-1797930000@theccbb.com
SUMMARY:ABA: Morning Jolt
DESCRIPTION:Join the ABA for early morning networking and coffee. \nFor ticket costs and to become a member\, please visit: https://acworthbusiness.org
URL:https://theccbb.com/event/aba-morning-jolt/2026-12-22/
LOCATION:The Cowan\, 4271 Southside Drive\, Acworth\, GA\, 30101\, United States
CATEGORIES:Acworth Business Association
END:VEVENT
BEGIN:VEVENT
DTSTART;TZID=America/New_York:20270105T080000
DTEND;TZID=America/New_York:20270105T090000
DTSTAMP:20260424T123757
CREATED:20240806T181316Z
LAST-MODIFIED:20240807T202722Z
UID:10000696-1799136000-1799139600@theccbb.com
SUMMARY:ABA: Morning Jolt
DESCRIPTION:Join the ABA for early morning networking and coffee. \nFor ticket costs and to become a member\, please visit: https://acworthbusiness.org
URL:https://theccbb.com/event/aba-morning-jolt/2027-01-05/
LOCATION:The Cowan\, 4271 Southside Drive\, Acworth\, GA\, 30101\, United States
CATEGORIES:Acworth Business Association
END:VEVENT
BEGIN:VEVENT
DTSTART;TZID=America/New_York:20270107T113000
DTEND;TZID=America/New_York:20270107T130000
DTSTAMP:20260424T123757
CREATED:20240806T180420Z
LAST-MODIFIED:20240806T180444Z
UID:10000601-1799321400-1799326800@theccbb.com
SUMMARY:ABA: Monthly Luncheon
DESCRIPTION:The ABA monthly luncheons include a dynamic format with updates on the community\, how ABA is impacting members & schools\, and engaging guest speakers. \n***PLEASE NOTE: REGISTRATION CLOSES AT 3PM THE DAY BEFORE.  IF YOU CHOOSE NOT TO REGISTER ONLINE IN ADVANCE\, YOU WILL PAY AN ADDITIONAL $5 AT THE DOOR*** \nFor ticket costs and to become a member\, please visit: https://acworthbusiness.org
URL:https://theccbb.com/event/aba-monthly-luncheon/2027-01-07/
LOCATION:Acworth Community Center\, 4361 Cherokee Street\, Acworth\, GA\, 30101\, United States
CATEGORIES:Acworth Business Association
END:VEVENT
BEGIN:VEVENT
DTSTART;TZID=America/New_York:20270119T080000
DTEND;TZID=America/New_York:20270119T090000
DTSTAMP:20260424T123757
CREATED:20240806T181316Z
LAST-MODIFIED:20240807T202722Z
UID:10000697-1800345600-1800349200@theccbb.com
SUMMARY:ABA: Morning Jolt
DESCRIPTION:Join the ABA for early morning networking and coffee. \nFor ticket costs and to become a member\, please visit: https://acworthbusiness.org
URL:https://theccbb.com/event/aba-morning-jolt/2027-01-19/
LOCATION:The Cowan\, 4271 Southside Drive\, Acworth\, GA\, 30101\, United States
CATEGORIES:Acworth Business Association
END:VEVENT
BEGIN:VEVENT
DTSTART;TZID=America/New_York:20270202T080000
DTEND;TZID=America/New_York:20270202T090000
DTSTAMP:20260424T123757
CREATED:20240806T181316Z
LAST-MODIFIED:20240807T202722Z
UID:10000698-1801555200-1801558800@theccbb.com
SUMMARY:ABA: Morning Jolt
DESCRIPTION:Join the ABA for early morning networking and coffee. \nFor ticket costs and to become a member\, please visit: https://acworthbusiness.org
URL:https://theccbb.com/event/aba-morning-jolt/2027-02-02/
LOCATION:The Cowan\, 4271 Southside Drive\, Acworth\, GA\, 30101\, United States
CATEGORIES:Acworth Business Association
END:VEVENT
BEGIN:VEVENT
DTSTART;TZID=America/New_York:20270204T113000
DTEND;TZID=America/New_York:20270204T130000
DTSTAMP:20260424T123757
CREATED:20240806T180420Z
LAST-MODIFIED:20240806T180444Z
UID:10000602-1801740600-1801746000@theccbb.com
SUMMARY:ABA: Monthly Luncheon
DESCRIPTION:The ABA monthly luncheons include a dynamic format with updates on the community\, how ABA is impacting members & schools\, and engaging guest speakers. \n***PLEASE NOTE: REGISTRATION CLOSES AT 3PM THE DAY BEFORE.  IF YOU CHOOSE NOT TO REGISTER ONLINE IN ADVANCE\, YOU WILL PAY AN ADDITIONAL $5 AT THE DOOR*** \nFor ticket costs and to become a member\, please visit: https://acworthbusiness.org
URL:https://theccbb.com/event/aba-monthly-luncheon/2027-02-04/
LOCATION:Acworth Community Center\, 4361 Cherokee Street\, Acworth\, GA\, 30101\, United States
CATEGORIES:Acworth Business Association
END:VEVENT
BEGIN:VEVENT
DTSTART;TZID=America/New_York:20270216T080000
DTEND;TZID=America/New_York:20270216T090000
DTSTAMP:20260424T123757
CREATED:20240806T181316Z
LAST-MODIFIED:20240807T202722Z
UID:10000699-1802764800-1802768400@theccbb.com
SUMMARY:ABA: Morning Jolt
DESCRIPTION:Join the ABA for early morning networking and coffee. \nFor ticket costs and to become a member\, please visit: https://acworthbusiness.org
URL:https://theccbb.com/event/aba-morning-jolt/2027-02-16/
LOCATION:The Cowan\, 4271 Southside Drive\, Acworth\, GA\, 30101\, United States
CATEGORIES:Acworth Business Association
END:VEVENT
BEGIN:VEVENT
DTSTART;TZID=America/New_York:20270302T080000
DTEND;TZID=America/New_York:20270302T090000
DTSTAMP:20260424T123757
CREATED:20240806T181316Z
LAST-MODIFIED:20240807T202722Z
UID:10000700-1803974400-1803978000@theccbb.com
SUMMARY:ABA: Morning Jolt
DESCRIPTION:Join the ABA for early morning networking and coffee. \nFor ticket costs and to become a member\, please visit: https://acworthbusiness.org
URL:https://theccbb.com/event/aba-morning-jolt/2027-03-02/
LOCATION:The Cowan\, 4271 Southside Drive\, Acworth\, GA\, 30101\, United States
CATEGORIES:Acworth Business Association
END:VEVENT
BEGIN:VEVENT
DTSTART;TZID=America/New_York:20270304T113000
DTEND;TZID=America/New_York:20270304T130000
DTSTAMP:20260424T123757
CREATED:20240806T180420Z
LAST-MODIFIED:20240806T180444Z
UID:10000603-1804159800-1804165200@theccbb.com
SUMMARY:ABA: Monthly Luncheon
DESCRIPTION:The ABA monthly luncheons include a dynamic format with updates on the community\, how ABA is impacting members & schools\, and engaging guest speakers. \n***PLEASE NOTE: REGISTRATION CLOSES AT 3PM THE DAY BEFORE.  IF YOU CHOOSE NOT TO REGISTER ONLINE IN ADVANCE\, YOU WILL PAY AN ADDITIONAL $5 AT THE DOOR*** \nFor ticket costs and to become a member\, please visit: https://acworthbusiness.org
URL:https://theccbb.com/event/aba-monthly-luncheon/2027-03-04/
LOCATION:Acworth Community Center\, 4361 Cherokee Street\, Acworth\, GA\, 30101\, United States
CATEGORIES:Acworth Business Association
END:VEVENT
BEGIN:VEVENT
DTSTART;TZID=America/New_York:20270316T080000
DTEND;TZID=America/New_York:20270316T090000
DTSTAMP:20260424T123757
CREATED:20240806T181316Z
LAST-MODIFIED:20240807T202722Z
UID:10000701-1805184000-1805187600@theccbb.com
SUMMARY:ABA: Morning Jolt
DESCRIPTION:Join the ABA for early morning networking and coffee. \nFor ticket costs and to become a member\, please visit: https://acworthbusiness.org
URL:https://theccbb.com/event/aba-morning-jolt/2027-03-16/
LOCATION:The Cowan\, 4271 Southside Drive\, Acworth\, GA\, 30101\, United States
CATEGORIES:Acworth Business Association
END:VEVENT
BEGIN:VEVENT
DTSTART;TZID=America/New_York:20270330T080000
DTEND;TZID=America/New_York:20270330T090000
DTSTAMP:20260424T123757
CREATED:20240806T181316Z
LAST-MODIFIED:20240807T202722Z
UID:10000702-1806393600-1806397200@theccbb.com
SUMMARY:ABA: Morning Jolt
DESCRIPTION:Join the ABA for early morning networking and coffee. \nFor ticket costs and to become a member\, please visit: https://acworthbusiness.org
URL:https://theccbb.com/event/aba-morning-jolt/2027-03-30/
LOCATION:The Cowan\, 4271 Southside Drive\, Acworth\, GA\, 30101\, United States
CATEGORIES:Acworth Business Association
END:VEVENT
BEGIN:VEVENT
DTSTART;TZID=America/New_York:20270401T113000
DTEND;TZID=America/New_York:20270401T130000
DTSTAMP:20260424T123757
CREATED:20240806T180420Z
LAST-MODIFIED:20240806T180444Z
UID:10000604-1806579000-1806584400@theccbb.com
SUMMARY:ABA: Monthly Luncheon
DESCRIPTION:The ABA monthly luncheons include a dynamic format with updates on the community\, how ABA is impacting members & schools\, and engaging guest speakers. \n***PLEASE NOTE: REGISTRATION CLOSES AT 3PM THE DAY BEFORE.  IF YOU CHOOSE NOT TO REGISTER ONLINE IN ADVANCE\, YOU WILL PAY AN ADDITIONAL $5 AT THE DOOR*** \nFor ticket costs and to become a member\, please visit: https://acworthbusiness.org
URL:https://theccbb.com/event/aba-monthly-luncheon/2027-04-01/
LOCATION:Acworth Community Center\, 4361 Cherokee Street\, Acworth\, GA\, 30101\, United States
CATEGORIES:Acworth Business Association
END:VEVENT
BEGIN:VEVENT
DTSTART;TZID=America/New_York:20270413T080000
DTEND;TZID=America/New_York:20270413T090000
DTSTAMP:20260424T123757
CREATED:20240806T181316Z
LAST-MODIFIED:20240807T202722Z
UID:10000703-1807603200-1807606800@theccbb.com
SUMMARY:ABA: Morning Jolt
DESCRIPTION:Join the ABA for early morning networking and coffee. \nFor ticket costs and to become a member\, please visit: https://acworthbusiness.org
URL:https://theccbb.com/event/aba-morning-jolt/2027-04-13/
LOCATION:The Cowan\, 4271 Southside Drive\, Acworth\, GA\, 30101\, United States
CATEGORIES:Acworth Business Association
END:VEVENT
BEGIN:VEVENT
DTSTART;TZID=America/New_York:20270427T080000
DTEND;TZID=America/New_York:20270427T090000
DTSTAMP:20260424T123757
CREATED:20240806T181316Z
LAST-MODIFIED:20240807T202722Z
UID:10000704-1808812800-1808816400@theccbb.com
SUMMARY:ABA: Morning Jolt
DESCRIPTION:Join the ABA for early morning networking and coffee. \nFor ticket costs and to become a member\, please visit: https://acworthbusiness.org
URL:https://theccbb.com/event/aba-morning-jolt/2027-04-27/
LOCATION:The Cowan\, 4271 Southside Drive\, Acworth\, GA\, 30101\, United States
CATEGORIES:Acworth Business Association
END:VEVENT
BEGIN:VEVENT
DTSTART;TZID=America/New_York:20270506T113000
DTEND;TZID=America/New_York:20270506T130000
DTSTAMP:20260424T123757
CREATED:20240806T180420Z
LAST-MODIFIED:20240806T180444Z
UID:10000605-1809603000-1809608400@theccbb.com
SUMMARY:ABA: Monthly Luncheon
DESCRIPTION:The ABA monthly luncheons include a dynamic format with updates on the community\, how ABA is impacting members & schools\, and engaging guest speakers. \n***PLEASE NOTE: REGISTRATION CLOSES AT 3PM THE DAY BEFORE.  IF YOU CHOOSE NOT TO REGISTER ONLINE IN ADVANCE\, YOU WILL PAY AN ADDITIONAL $5 AT THE DOOR*** \nFor ticket costs and to become a member\, please visit: https://acworthbusiness.org
URL:https://theccbb.com/event/aba-monthly-luncheon/2027-05-06/
LOCATION:Acworth Community Center\, 4361 Cherokee Street\, Acworth\, GA\, 30101\, United States
CATEGORIES:Acworth Business Association
END:VEVENT
BEGIN:VEVENT
DTSTART;TZID=America/New_York:20270511T080000
DTEND;TZID=America/New_York:20270511T090000
DTSTAMP:20260424T123757
CREATED:20240806T181316Z
LAST-MODIFIED:20240807T202722Z
UID:10000705-1810022400-1810026000@theccbb.com
SUMMARY:ABA: Morning Jolt
DESCRIPTION:Join the ABA for early morning networking and coffee. \nFor ticket costs and to become a member\, please visit: https://acworthbusiness.org
URL:https://theccbb.com/event/aba-morning-jolt/2027-05-11/
LOCATION:The Cowan\, 4271 Southside Drive\, Acworth\, GA\, 30101\, United States
CATEGORIES:Acworth Business Association
END:VEVENT
BEGIN:VEVENT
DTSTART;TZID=America/New_York:20270525T080000
DTEND;TZID=America/New_York:20270525T090000
DTSTAMP:20260424T123757
CREATED:20240806T181316Z
LAST-MODIFIED:20240807T202722Z
UID:10000706-1811232000-1811235600@theccbb.com
SUMMARY:ABA: Morning Jolt
DESCRIPTION:Join the ABA for early morning networking and coffee. \nFor ticket costs and to become a member\, please visit: https://acworthbusiness.org
URL:https://theccbb.com/event/aba-morning-jolt/2027-05-25/
LOCATION:The Cowan\, 4271 Southside Drive\, Acworth\, GA\, 30101\, United States
CATEGORIES:Acworth Business Association
END:VEVENT
BEGIN:VEVENT
DTSTART;TZID=America/New_York:20270603T113000
DTEND;TZID=America/New_York:20270603T130000
DTSTAMP:20260424T123757
CREATED:20240806T180420Z
LAST-MODIFIED:20240806T180444Z
UID:10000606-1812022200-1812027600@theccbb.com
SUMMARY:ABA: Monthly Luncheon
DESCRIPTION:The ABA monthly luncheons include a dynamic format with updates on the community\, how ABA is impacting members & schools\, and engaging guest speakers. \n***PLEASE NOTE: REGISTRATION CLOSES AT 3PM THE DAY BEFORE.  IF YOU CHOOSE NOT TO REGISTER ONLINE IN ADVANCE\, YOU WILL PAY AN ADDITIONAL $5 AT THE DOOR*** \nFor ticket costs and to become a member\, please visit: https://acworthbusiness.org
URL:https://theccbb.com/event/aba-monthly-luncheon/2027-06-03/
LOCATION:Acworth Community Center\, 4361 Cherokee Street\, Acworth\, GA\, 30101\, United States
CATEGORIES:Acworth Business Association
END:VEVENT
BEGIN:VEVENT
DTSTART;TZID=America/New_York:20270608T080000
DTEND;TZID=America/New_York:20270608T090000
DTSTAMP:20260424T123757
CREATED:20240806T181316Z
LAST-MODIFIED:20240807T202722Z
UID:10000707-1812441600-1812445200@theccbb.com
SUMMARY:ABA: Morning Jolt
DESCRIPTION:Join the ABA for early morning networking and coffee. \nFor ticket costs and to become a member\, please visit: https://acworthbusiness.org
URL:https://theccbb.com/event/aba-morning-jolt/2027-06-08/
LOCATION:The Cowan\, 4271 Southside Drive\, Acworth\, GA\, 30101\, United States
CATEGORIES:Acworth Business Association
END:VEVENT
BEGIN:VEVENT
DTSTART;TZID=America/New_York:20270622T080000
DTEND;TZID=America/New_York:20270622T090000
DTSTAMP:20260424T123757
CREATED:20240806T181316Z
LAST-MODIFIED:20240807T202722Z
UID:10000708-1813651200-1813654800@theccbb.com
SUMMARY:ABA: Morning Jolt
DESCRIPTION:Join the ABA for early morning networking and coffee. \nFor ticket costs and to become a member\, please visit: https://acworthbusiness.org
URL:https://theccbb.com/event/aba-morning-jolt/2027-06-22/
LOCATION:The Cowan\, 4271 Southside Drive\, Acworth\, GA\, 30101\, United States
CATEGORIES:Acworth Business Association
END:VEVENT
BEGIN:VEVENT
DTSTART;TZID=America/New_York:20270701T113000
DTEND;TZID=America/New_York:20270701T130000
DTSTAMP:20260424T123757
CREATED:20240806T180420Z
LAST-MODIFIED:20240806T180444Z
UID:10000607-1814441400-1814446800@theccbb.com
SUMMARY:ABA: Monthly Luncheon
DESCRIPTION:The ABA monthly luncheons include a dynamic format with updates on the community\, how ABA is impacting members & schools\, and engaging guest speakers. \n***PLEASE NOTE: REGISTRATION CLOSES AT 3PM THE DAY BEFORE.  IF YOU CHOOSE NOT TO REGISTER ONLINE IN ADVANCE\, YOU WILL PAY AN ADDITIONAL $5 AT THE DOOR*** \nFor ticket costs and to become a member\, please visit: https://acworthbusiness.org
URL:https://theccbb.com/event/aba-monthly-luncheon/2027-07-01/
LOCATION:Acworth Community Center\, 4361 Cherokee Street\, Acworth\, GA\, 30101\, United States
CATEGORIES:Acworth Business Association
END:VEVENT
BEGIN:VEVENT
DTSTART;TZID=America/New_York:20270706T080000
DTEND;TZID=America/New_York:20270706T090000
DTSTAMP:20260424T123757
CREATED:20240806T181316Z
LAST-MODIFIED:20240807T202722Z
UID:10000709-1814860800-1814864400@theccbb.com
SUMMARY:ABA: Morning Jolt
DESCRIPTION:Join the ABA for early morning networking and coffee. \nFor ticket costs and to become a member\, please visit: https://acworthbusiness.org
URL:https://theccbb.com/event/aba-morning-jolt/2027-07-06/
LOCATION:The Cowan\, 4271 Southside Drive\, Acworth\, GA\, 30101\, United States
CATEGORIES:Acworth Business Association
END:VEVENT
BEGIN:VEVENT
DTSTART;TZID=America/New_York:20270720T080000
DTEND;TZID=America/New_York:20270720T090000
DTSTAMP:20260424T123757
CREATED:20240806T181316Z
LAST-MODIFIED:20240807T202722Z
UID:10000710-1816070400-1816074000@theccbb.com
SUMMARY:ABA: Morning Jolt
DESCRIPTION:Join the ABA for early morning networking and coffee. \nFor ticket costs and to become a member\, please visit: https://acworthbusiness.org
URL:https://theccbb.com/event/aba-morning-jolt/2027-07-20/
LOCATION:The Cowan\, 4271 Southside Drive\, Acworth\, GA\, 30101\, United States
CATEGORIES:Acworth Business Association
END:VEVENT
BEGIN:VEVENT
DTSTART;TZID=America/New_York:20270803T080000
DTEND;TZID=America/New_York:20270803T090000
DTSTAMP:20260424T123757
CREATED:20240806T181316Z
LAST-MODIFIED:20240807T202722Z
UID:10000711-1817280000-1817283600@theccbb.com
SUMMARY:ABA: Morning Jolt
DESCRIPTION:Join the ABA for early morning networking and coffee. \nFor ticket costs and to become a member\, please visit: https://acworthbusiness.org
URL:https://theccbb.com/event/aba-morning-jolt/2027-08-03/
LOCATION:The Cowan\, 4271 Southside Drive\, Acworth\, GA\, 30101\, United States
CATEGORIES:Acworth Business Association
END:VEVENT
END:VCALENDAR