BEGIN:VCALENDAR
VERSION:2.0
PRODID:-//Cobb County Business Bootcamp - ECPv6.15.18//NONSGML v1.0//EN
CALSCALE:GREGORIAN
METHOD:PUBLISH
X-WR-CALNAME:Cobb County Business Bootcamp
X-ORIGINAL-URL:https://theccbb.com
X-WR-CALDESC:Events for Cobb County Business Bootcamp
REFRESH-INTERVAL;VALUE=DURATION:PT1H
X-Robots-Tag:noindex
X-PUBLISHED-TTL:PT1H
BEGIN:VTIMEZONE
TZID:America/New_York
BEGIN:DAYLIGHT
TZOFFSETFROM:-0500
TZOFFSETTO:-0400
TZNAME:EDT
DTSTART:20250309T070000
END:DAYLIGHT
BEGIN:STANDARD
TZOFFSETFROM:-0400
TZOFFSETTO:-0500
TZNAME:EST
DTSTART:20251102T060000
END:STANDARD
BEGIN:DAYLIGHT
TZOFFSETFROM:-0500
TZOFFSETTO:-0400
TZNAME:EDT
DTSTART:20260308T070000
END:DAYLIGHT
BEGIN:STANDARD
TZOFFSETFROM:-0400
TZOFFSETTO:-0500
TZNAME:EST
DTSTART:20261101T060000
END:STANDARD
BEGIN:DAYLIGHT
TZOFFSETFROM:-0500
TZOFFSETTO:-0400
TZNAME:EDT
DTSTART:20270314T070000
END:DAYLIGHT
BEGIN:STANDARD
TZOFFSETFROM:-0400
TZOFFSETTO:-0500
TZNAME:EST
DTSTART:20271107T060000
END:STANDARD
END:VTIMEZONE
BEGIN:VEVENT
DTSTART;TZID=America/New_York:20260410T073000
DTEND;TZID=America/New_York:20260410T083000
DTSTAMP:20260421T211735
CREATED:20240806T175616Z
LAST-MODIFIED:20250519T210149Z
UID:10004180-1775806200-1775809800@theccbb.com
SUMMARY:ECBA: ECON Open Networking
DESCRIPTION:
URL:https://theccbb.com/event/ecba-econ-open-networking/2026-04-10/
LOCATION:IHOP\, 3130 Johnson Ferry Rd.\, Marietta\, GA\, 30062\, United States
CATEGORIES:East Cobb Business Association
END:VEVENT
BEGIN:VEVENT
DTSTART;TZID=America/New_York:20260410T113000
DTEND;TZID=America/New_York:20260410T130000
DTSTAMP:20260421T211735
CREATED:20240806T174337Z
LAST-MODIFIED:20240806T175649Z
UID:10000271-1775820600-1775826000@theccbb.com
SUMMARY:ECBA: Professional Women of East Cobb
DESCRIPTION:*Members only event* \nCome join us in our monthly events to build relationships with other East Cobb businesswomen. This group is intended to support\, learn\, and grow from one another. We meet the first Friday of every month.  \nPlease register and pay in advance at: eastcobbba.com
URL:https://theccbb.com/event/ecba-professional-women-of-east-cobb/2026-04-10/
LOCATION:Georgia
CATEGORIES:East Cobb Business Association
END:VEVENT
END:VCALENDAR