BEGIN:VCALENDAR
VERSION:2.0
PRODID:-//Cobb County Business Bootcamp - ECPv6.15.18//NONSGML v1.0//EN
CALSCALE:GREGORIAN
METHOD:PUBLISH
X-ORIGINAL-URL:https://theccbb.com
X-WR-CALDESC:Events for Cobb County Business Bootcamp
REFRESH-INTERVAL;VALUE=DURATION:PT1H
X-Robots-Tag:noindex
X-PUBLISHED-TTL:PT1H
BEGIN:VTIMEZONE
TZID:America/New_York
BEGIN:DAYLIGHT
TZOFFSETFROM:-0500
TZOFFSETTO:-0400
TZNAME:EDT
DTSTART:20250309T070000
END:DAYLIGHT
BEGIN:STANDARD
TZOFFSETFROM:-0400
TZOFFSETTO:-0500
TZNAME:EST
DTSTART:20251102T060000
END:STANDARD
BEGIN:DAYLIGHT
TZOFFSETFROM:-0500
TZOFFSETTO:-0400
TZNAME:EDT
DTSTART:20260308T070000
END:DAYLIGHT
BEGIN:STANDARD
TZOFFSETFROM:-0400
TZOFFSETTO:-0500
TZNAME:EST
DTSTART:20261101T060000
END:STANDARD
BEGIN:DAYLIGHT
TZOFFSETFROM:-0500
TZOFFSETTO:-0400
TZNAME:EDT
DTSTART:20270314T070000
END:DAYLIGHT
BEGIN:STANDARD
TZOFFSETFROM:-0400
TZOFFSETTO:-0500
TZNAME:EST
DTSTART:20271107T060000
END:STANDARD
END:VTIMEZONE
BEGIN:VEVENT
DTSTART;TZID=America/New_York:20260710T073000
DTEND;TZID=America/New_York:20260710T083000
DTSTAMP:20260422T123454
CREATED:20240806T175616Z
LAST-MODIFIED:20250519T210149Z
UID:10004193-1783668600-1783672200@theccbb.com
SUMMARY:ECBA: ECON Open Networking
DESCRIPTION:
URL:https://theccbb.com/event/ecba-econ-open-networking/2026-07-10/
LOCATION:IHOP\, 3130 Johnson Ferry Rd.\, Marietta\, GA\, 30062\, United States
CATEGORIES:East Cobb Business Association
END:VEVENT
BEGIN:VEVENT
DTSTART;TZID=America/New_York:20260710T113000
DTEND;TZID=America/New_York:20260710T130000
DTSTAMP:20260422T123454
CREATED:20240806T174337Z
LAST-MODIFIED:20240806T175649Z
UID:10000274-1783683000-1783688400@theccbb.com
SUMMARY:ECBA: Professional Women of East Cobb
DESCRIPTION:*Members only event* \nCome join us in our monthly events to build relationships with other East Cobb businesswomen. This group is intended to support\, learn\, and grow from one another. We meet the first Friday of every month.  \nPlease register and pay in advance at: eastcobbba.com
URL:https://theccbb.com/event/ecba-professional-women-of-east-cobb/2026-07-10/
LOCATION:GA
CATEGORIES:East Cobb Business Association
END:VEVENT
BEGIN:VEVENT
DTSTART;TZID=America/New_York:20260717T073000
DTEND;TZID=America/New_York:20260717T083000
DTSTAMP:20260422T123454
CREATED:20240806T175616Z
LAST-MODIFIED:20250519T210149Z
UID:10004194-1784273400-1784277000@theccbb.com
SUMMARY:ECBA: ECON Open Networking
DESCRIPTION:
URL:https://theccbb.com/event/ecba-econ-open-networking/2026-07-17/
LOCATION:IHOP\, 3130 Johnson Ferry Rd.\, Marietta\, GA\, 30062\, United States
CATEGORIES:East Cobb Business Association
END:VEVENT
BEGIN:VEVENT
DTSTART;TZID=America/New_York:20260721T110000
DTEND;TZID=America/New_York:20260721T130000
DTSTAMP:20260422T123454
CREATED:20240806T173639Z
LAST-MODIFIED:20240807T202735Z
UID:10001533-1784631600-1784638800@theccbb.com
SUMMARY:ECBA: Monthly Business Luncheon
DESCRIPTION:For ticket costs and to become a member\, please visit: https://eastcobbba.com
URL:https://theccbb.com/event/ecba-monthly-business-luncheon/2026-07-21/
LOCATION:Rich Hart Global Studios\, 2030 Powers Ferry Rd SE Suite # 270/ 280\, Atlanta\, GA\, 30339\, United States
CATEGORIES:East Cobb Business Association
END:VEVENT
BEGIN:VEVENT
DTSTART;TZID=America/New_York:20260724T073000
DTEND;TZID=America/New_York:20260724T083000
DTSTAMP:20260422T123454
CREATED:20240806T175616Z
LAST-MODIFIED:20250519T210149Z
UID:10004195-1784878200-1784881800@theccbb.com
SUMMARY:ECBA: ECON Open Networking
DESCRIPTION:
URL:https://theccbb.com/event/ecba-econ-open-networking/2026-07-24/
LOCATION:IHOP\, 3130 Johnson Ferry Rd.\, Marietta\, GA\, 30062\, United States
CATEGORIES:East Cobb Business Association
END:VEVENT
BEGIN:VEVENT
DTSTART;TZID=America/New_York:20260731T073000
DTEND;TZID=America/New_York:20260731T083000
DTSTAMP:20260422T123454
CREATED:20240806T175616Z
LAST-MODIFIED:20250519T210149Z
UID:10004196-1785483000-1785486600@theccbb.com
SUMMARY:ECBA: ECON Open Networking
DESCRIPTION:
URL:https://theccbb.com/event/ecba-econ-open-networking/2026-07-31/
LOCATION:IHOP\, 3130 Johnson Ferry Rd.\, Marietta\, GA\, 30062\, United States
CATEGORIES:East Cobb Business Association
END:VEVENT
BEGIN:VEVENT
DTSTART;TZID=America/New_York:20260807T073000
DTEND;TZID=America/New_York:20260807T083000
DTSTAMP:20260422T123454
CREATED:20240806T175616Z
LAST-MODIFIED:20250519T210149Z
UID:10004197-1786087800-1786091400@theccbb.com
SUMMARY:ECBA: ECON Open Networking
DESCRIPTION:
URL:https://theccbb.com/event/ecba-econ-open-networking/2026-08-07/
LOCATION:IHOP\, 3130 Johnson Ferry Rd.\, Marietta\, GA\, 30062\, United States
CATEGORIES:East Cobb Business Association
END:VEVENT
BEGIN:VEVENT
DTSTART;TZID=America/New_York:20260814T073000
DTEND;TZID=America/New_York:20260814T083000
DTSTAMP:20260422T123454
CREATED:20240806T175616Z
LAST-MODIFIED:20250519T210149Z
UID:10004198-1786692600-1786696200@theccbb.com
SUMMARY:ECBA: ECON Open Networking
DESCRIPTION:
URL:https://theccbb.com/event/ecba-econ-open-networking/2026-08-14/
LOCATION:IHOP\, 3130 Johnson Ferry Rd.\, Marietta\, GA\, 30062\, United States
CATEGORIES:East Cobb Business Association
END:VEVENT
BEGIN:VEVENT
DTSTART;TZID=America/New_York:20260814T113000
DTEND;TZID=America/New_York:20260814T130000
DTSTAMP:20260422T123454
CREATED:20240806T174337Z
LAST-MODIFIED:20240806T175649Z
UID:10000275-1786707000-1786712400@theccbb.com
SUMMARY:ECBA: Professional Women of East Cobb
DESCRIPTION:*Members only event* \nCome join us in our monthly events to build relationships with other East Cobb businesswomen. This group is intended to support\, learn\, and grow from one another. We meet the first Friday of every month.  \nPlease register and pay in advance at: eastcobbba.com
URL:https://theccbb.com/event/ecba-professional-women-of-east-cobb/2026-08-14/
LOCATION:GA
CATEGORIES:East Cobb Business Association
END:VEVENT
BEGIN:VEVENT
DTSTART;TZID=America/New_York:20260818T110000
DTEND;TZID=America/New_York:20260818T130000
DTSTAMP:20260422T123454
CREATED:20240806T173639Z
LAST-MODIFIED:20240807T202735Z
UID:10001534-1787050800-1787058000@theccbb.com
SUMMARY:ECBA: Monthly Business Luncheon
DESCRIPTION:For ticket costs and to become a member\, please visit: https://eastcobbba.com
URL:https://theccbb.com/event/ecba-monthly-business-luncheon/2026-08-18/
LOCATION:Rich Hart Global Studios\, 2030 Powers Ferry Rd SE Suite # 270/ 280\, Atlanta\, GA\, 30339\, United States
CATEGORIES:East Cobb Business Association
END:VEVENT
BEGIN:VEVENT
DTSTART;TZID=America/New_York:20260821T073000
DTEND;TZID=America/New_York:20260821T083000
DTSTAMP:20260422T123454
CREATED:20240806T175616Z
LAST-MODIFIED:20250519T210149Z
UID:10004199-1787297400-1787301000@theccbb.com
SUMMARY:ECBA: ECON Open Networking
DESCRIPTION:
URL:https://theccbb.com/event/ecba-econ-open-networking/2026-08-21/
LOCATION:IHOP\, 3130 Johnson Ferry Rd.\, Marietta\, GA\, 30062\, United States
CATEGORIES:East Cobb Business Association
END:VEVENT
BEGIN:VEVENT
DTSTART;TZID=America/New_York:20260828T073000
DTEND;TZID=America/New_York:20260828T083000
DTSTAMP:20260422T123454
CREATED:20240806T175616Z
LAST-MODIFIED:20250519T210149Z
UID:10004200-1787902200-1787905800@theccbb.com
SUMMARY:ECBA: ECON Open Networking
DESCRIPTION:
URL:https://theccbb.com/event/ecba-econ-open-networking/2026-08-28/
LOCATION:IHOP\, 3130 Johnson Ferry Rd.\, Marietta\, GA\, 30062\, United States
CATEGORIES:East Cobb Business Association
END:VEVENT
BEGIN:VEVENT
DTSTART;TZID=America/New_York:20260904T073000
DTEND;TZID=America/New_York:20260904T083000
DTSTAMP:20260422T123454
CREATED:20240806T175616Z
LAST-MODIFIED:20250519T210149Z
UID:10004201-1788507000-1788510600@theccbb.com
SUMMARY:ECBA: ECON Open Networking
DESCRIPTION:
URL:https://theccbb.com/event/ecba-econ-open-networking/2026-09-04/
LOCATION:IHOP\, 3130 Johnson Ferry Rd.\, Marietta\, GA\, 30062\, United States
CATEGORIES:East Cobb Business Association
END:VEVENT
BEGIN:VEVENT
DTSTART;TZID=America/New_York:20260911T073000
DTEND;TZID=America/New_York:20260911T083000
DTSTAMP:20260422T123454
CREATED:20240806T175616Z
LAST-MODIFIED:20250519T210149Z
UID:10004202-1789111800-1789115400@theccbb.com
SUMMARY:ECBA: ECON Open Networking
DESCRIPTION:
URL:https://theccbb.com/event/ecba-econ-open-networking/2026-09-11/
LOCATION:IHOP\, 3130 Johnson Ferry Rd.\, Marietta\, GA\, 30062\, United States
CATEGORIES:East Cobb Business Association
END:VEVENT
BEGIN:VEVENT
DTSTART;TZID=America/New_York:20260911T113000
DTEND;TZID=America/New_York:20260911T130000
DTSTAMP:20260422T123454
CREATED:20240806T174337Z
LAST-MODIFIED:20240806T175649Z
UID:10000276-1789126200-1789131600@theccbb.com
SUMMARY:ECBA: Professional Women of East Cobb
DESCRIPTION:*Members only event* \nCome join us in our monthly events to build relationships with other East Cobb businesswomen. This group is intended to support\, learn\, and grow from one another. We meet the first Friday of every month.  \nPlease register and pay in advance at: eastcobbba.com
URL:https://theccbb.com/event/ecba-professional-women-of-east-cobb/2026-09-11/
LOCATION:GA
CATEGORIES:East Cobb Business Association
END:VEVENT
BEGIN:VEVENT
DTSTART;TZID=America/New_York:20260915T110000
DTEND;TZID=America/New_York:20260915T130000
DTSTAMP:20260422T123454
CREATED:20240806T173639Z
LAST-MODIFIED:20240807T202735Z
UID:10001535-1789470000-1789477200@theccbb.com
SUMMARY:ECBA: Monthly Business Luncheon
DESCRIPTION:For ticket costs and to become a member\, please visit: https://eastcobbba.com
URL:https://theccbb.com/event/ecba-monthly-business-luncheon/2026-09-15/
LOCATION:Rich Hart Global Studios\, 2030 Powers Ferry Rd SE Suite # 270/ 280\, Atlanta\, GA\, 30339\, United States
CATEGORIES:East Cobb Business Association
END:VEVENT
BEGIN:VEVENT
DTSTART;TZID=America/New_York:20260918T073000
DTEND;TZID=America/New_York:20260918T083000
DTSTAMP:20260422T123454
CREATED:20240806T175616Z
LAST-MODIFIED:20250519T210149Z
UID:10004203-1789716600-1789720200@theccbb.com
SUMMARY:ECBA: ECON Open Networking
DESCRIPTION:
URL:https://theccbb.com/event/ecba-econ-open-networking/2026-09-18/
LOCATION:IHOP\, 3130 Johnson Ferry Rd.\, Marietta\, GA\, 30062\, United States
CATEGORIES:East Cobb Business Association
END:VEVENT
BEGIN:VEVENT
DTSTART;TZID=America/New_York:20260925T073000
DTEND;TZID=America/New_York:20260925T083000
DTSTAMP:20260422T123454
CREATED:20240806T175616Z
LAST-MODIFIED:20250519T210149Z
UID:10004204-1790321400-1790325000@theccbb.com
SUMMARY:ECBA: ECON Open Networking
DESCRIPTION:
URL:https://theccbb.com/event/ecba-econ-open-networking/2026-09-25/
LOCATION:IHOP\, 3130 Johnson Ferry Rd.\, Marietta\, GA\, 30062\, United States
CATEGORIES:East Cobb Business Association
END:VEVENT
BEGIN:VEVENT
DTSTART;TZID=America/New_York:20261002T073000
DTEND;TZID=America/New_York:20261002T083000
DTSTAMP:20260422T123454
CREATED:20240806T175616Z
LAST-MODIFIED:20250519T210149Z
UID:10004205-1790926200-1790929800@theccbb.com
SUMMARY:ECBA: ECON Open Networking
DESCRIPTION:
URL:https://theccbb.com/event/ecba-econ-open-networking/2026-10-02/
LOCATION:IHOP\, 3130 Johnson Ferry Rd.\, Marietta\, GA\, 30062\, United States
CATEGORIES:East Cobb Business Association
END:VEVENT
BEGIN:VEVENT
DTSTART;TZID=America/New_York:20261009T073000
DTEND;TZID=America/New_York:20261009T083000
DTSTAMP:20260422T123454
CREATED:20240806T175616Z
LAST-MODIFIED:20250519T210149Z
UID:10004206-1791531000-1791534600@theccbb.com
SUMMARY:ECBA: ECON Open Networking
DESCRIPTION:
URL:https://theccbb.com/event/ecba-econ-open-networking/2026-10-09/
LOCATION:IHOP\, 3130 Johnson Ferry Rd.\, Marietta\, GA\, 30062\, United States
CATEGORIES:East Cobb Business Association
END:VEVENT
BEGIN:VEVENT
DTSTART;TZID=America/New_York:20261009T113000
DTEND;TZID=America/New_York:20261009T130000
DTSTAMP:20260422T123454
CREATED:20240806T174337Z
LAST-MODIFIED:20240806T175649Z
UID:10000277-1791545400-1791550800@theccbb.com
SUMMARY:ECBA: Professional Women of East Cobb
DESCRIPTION:*Members only event* \nCome join us in our monthly events to build relationships with other East Cobb businesswomen. This group is intended to support\, learn\, and grow from one another. We meet the first Friday of every month.  \nPlease register and pay in advance at: eastcobbba.com
URL:https://theccbb.com/event/ecba-professional-women-of-east-cobb/2026-10-09/
LOCATION:GA
CATEGORIES:East Cobb Business Association
END:VEVENT
BEGIN:VEVENT
DTSTART;TZID=America/New_York:20261016T073000
DTEND;TZID=America/New_York:20261016T083000
DTSTAMP:20260422T123454
CREATED:20240806T175616Z
LAST-MODIFIED:20250519T210149Z
UID:10004207-1792135800-1792139400@theccbb.com
SUMMARY:ECBA: ECON Open Networking
DESCRIPTION:
URL:https://theccbb.com/event/ecba-econ-open-networking/2026-10-16/
LOCATION:IHOP\, 3130 Johnson Ferry Rd.\, Marietta\, GA\, 30062\, United States
CATEGORIES:East Cobb Business Association
END:VEVENT
BEGIN:VEVENT
DTSTART;TZID=America/New_York:20261020T110000
DTEND;TZID=America/New_York:20261020T130000
DTSTAMP:20260422T123454
CREATED:20240806T173639Z
LAST-MODIFIED:20240807T202735Z
UID:10001536-1792494000-1792501200@theccbb.com
SUMMARY:ECBA: Monthly Business Luncheon
DESCRIPTION:For ticket costs and to become a member\, please visit: https://eastcobbba.com
URL:https://theccbb.com/event/ecba-monthly-business-luncheon/2026-10-20/
LOCATION:Rich Hart Global Studios\, 2030 Powers Ferry Rd SE Suite # 270/ 280\, Atlanta\, GA\, 30339\, United States
CATEGORIES:East Cobb Business Association
END:VEVENT
BEGIN:VEVENT
DTSTART;TZID=America/New_York:20261023T073000
DTEND;TZID=America/New_York:20261023T083000
DTSTAMP:20260422T123454
CREATED:20240806T175616Z
LAST-MODIFIED:20250519T210149Z
UID:10004208-1792740600-1792744200@theccbb.com
SUMMARY:ECBA: ECON Open Networking
DESCRIPTION:
URL:https://theccbb.com/event/ecba-econ-open-networking/2026-10-23/
LOCATION:IHOP\, 3130 Johnson Ferry Rd.\, Marietta\, GA\, 30062\, United States
CATEGORIES:East Cobb Business Association
END:VEVENT
BEGIN:VEVENT
DTSTART;TZID=America/New_York:20261030T073000
DTEND;TZID=America/New_York:20261030T083000
DTSTAMP:20260422T123454
CREATED:20240806T175616Z
LAST-MODIFIED:20250519T210149Z
UID:10004209-1793345400-1793349000@theccbb.com
SUMMARY:ECBA: ECON Open Networking
DESCRIPTION:
URL:https://theccbb.com/event/ecba-econ-open-networking/2026-10-30/
LOCATION:IHOP\, 3130 Johnson Ferry Rd.\, Marietta\, GA\, 30062\, United States
CATEGORIES:East Cobb Business Association
END:VEVENT
BEGIN:VEVENT
DTSTART;TZID=America/New_York:20261106T073000
DTEND;TZID=America/New_York:20261106T083000
DTSTAMP:20260422T123454
CREATED:20240806T175616Z
LAST-MODIFIED:20250519T210149Z
UID:10004210-1793950200-1793953800@theccbb.com
SUMMARY:ECBA: ECON Open Networking
DESCRIPTION:
URL:https://theccbb.com/event/ecba-econ-open-networking/2026-11-06/
LOCATION:IHOP\, 3130 Johnson Ferry Rd.\, Marietta\, GA\, 30062\, United States
CATEGORIES:East Cobb Business Association
END:VEVENT
BEGIN:VEVENT
DTSTART;TZID=America/New_York:20261113T073000
DTEND;TZID=America/New_York:20261113T083000
DTSTAMP:20260422T123454
CREATED:20240806T175616Z
LAST-MODIFIED:20250519T210149Z
UID:10004211-1794555000-1794558600@theccbb.com
SUMMARY:ECBA: ECON Open Networking
DESCRIPTION:
URL:https://theccbb.com/event/ecba-econ-open-networking/2026-11-13/
LOCATION:IHOP\, 3130 Johnson Ferry Rd.\, Marietta\, GA\, 30062\, United States
CATEGORIES:East Cobb Business Association
END:VEVENT
BEGIN:VEVENT
DTSTART;TZID=America/New_York:20261113T113000
DTEND;TZID=America/New_York:20261113T130000
DTSTAMP:20260422T123454
CREATED:20240806T174337Z
LAST-MODIFIED:20240806T175649Z
UID:10000278-1794569400-1794574800@theccbb.com
SUMMARY:ECBA: Professional Women of East Cobb
DESCRIPTION:*Members only event* \nCome join us in our monthly events to build relationships with other East Cobb businesswomen. This group is intended to support\, learn\, and grow from one another. We meet the first Friday of every month.  \nPlease register and pay in advance at: eastcobbba.com
URL:https://theccbb.com/event/ecba-professional-women-of-east-cobb/2026-11-13/
LOCATION:GA
CATEGORIES:East Cobb Business Association
END:VEVENT
BEGIN:VEVENT
DTSTART;TZID=America/New_York:20261117T110000
DTEND;TZID=America/New_York:20261117T130000
DTSTAMP:20260422T123454
CREATED:20240806T173639Z
LAST-MODIFIED:20240807T202735Z
UID:10001537-1794913200-1794920400@theccbb.com
SUMMARY:ECBA: Monthly Business Luncheon
DESCRIPTION:For ticket costs and to become a member\, please visit: https://eastcobbba.com
URL:https://theccbb.com/event/ecba-monthly-business-luncheon/2026-11-17/
LOCATION:Rich Hart Global Studios\, 2030 Powers Ferry Rd SE Suite # 270/ 280\, Atlanta\, GA\, 30339\, United States
CATEGORIES:East Cobb Business Association
END:VEVENT
BEGIN:VEVENT
DTSTART;TZID=America/New_York:20261120T073000
DTEND;TZID=America/New_York:20261120T083000
DTSTAMP:20260422T123454
CREATED:20240806T175616Z
LAST-MODIFIED:20250519T210149Z
UID:10004212-1795159800-1795163400@theccbb.com
SUMMARY:ECBA: ECON Open Networking
DESCRIPTION:
URL:https://theccbb.com/event/ecba-econ-open-networking/2026-11-20/
LOCATION:IHOP\, 3130 Johnson Ferry Rd.\, Marietta\, GA\, 30062\, United States
CATEGORIES:East Cobb Business Association
END:VEVENT
END:VCALENDAR