BEGIN:VCALENDAR
VERSION:2.0
PRODID:-//Cobb County Business Bootcamp - ECPv6.15.18//NONSGML v1.0//EN
CALSCALE:GREGORIAN
METHOD:PUBLISH
X-ORIGINAL-URL:https://theccbb.com
X-WR-CALDESC:Events for Cobb County Business Bootcamp
REFRESH-INTERVAL;VALUE=DURATION:PT1H
X-Robots-Tag:noindex
X-PUBLISHED-TTL:PT1H
BEGIN:VTIMEZONE
TZID:America/New_York
BEGIN:DAYLIGHT
TZOFFSETFROM:-0500
TZOFFSETTO:-0400
TZNAME:EDT
DTSTART:20260308T070000
END:DAYLIGHT
BEGIN:STANDARD
TZOFFSETFROM:-0400
TZOFFSETTO:-0500
TZNAME:EST
DTSTART:20261101T060000
END:STANDARD
BEGIN:DAYLIGHT
TZOFFSETFROM:-0500
TZOFFSETTO:-0400
TZNAME:EDT
DTSTART:20270314T070000
END:DAYLIGHT
BEGIN:STANDARD
TZOFFSETFROM:-0400
TZOFFSETTO:-0500
TZNAME:EST
DTSTART:20271107T060000
END:STANDARD
BEGIN:DAYLIGHT
TZOFFSETFROM:-0500
TZOFFSETTO:-0400
TZNAME:EDT
DTSTART:20280312T070000
END:DAYLIGHT
BEGIN:STANDARD
TZOFFSETFROM:-0400
TZOFFSETTO:-0500
TZNAME:EST
DTSTART:20281105T060000
END:STANDARD
END:VTIMEZONE
BEGIN:VEVENT
DTSTART;TZID=America/New_York:20270129T073000
DTEND;TZID=America/New_York:20270129T083000
DTSTAMP:20260422T175556
CREATED:20240806T175616Z
LAST-MODIFIED:20250519T210149Z
UID:10004222-1801207800-1801211400@theccbb.com
SUMMARY:ECBA: ECON Open Networking
DESCRIPTION:
URL:https://theccbb.com/event/ecba-econ-open-networking/2027-01-29/
LOCATION:IHOP\, 3130 Johnson Ferry Rd.\, Marietta\, GA\, 30062\, United States
CATEGORIES:East Cobb Business Association
END:VEVENT
BEGIN:VEVENT
DTSTART;TZID=America/New_York:20270205T073000
DTEND;TZID=America/New_York:20270205T083000
DTSTAMP:20260422T175556
CREATED:20240806T175616Z
LAST-MODIFIED:20250519T210149Z
UID:10004223-1801812600-1801816200@theccbb.com
SUMMARY:ECBA: ECON Open Networking
DESCRIPTION:
URL:https://theccbb.com/event/ecba-econ-open-networking/2027-02-05/
LOCATION:IHOP\, 3130 Johnson Ferry Rd.\, Marietta\, GA\, 30062\, United States
CATEGORIES:East Cobb Business Association
END:VEVENT
BEGIN:VEVENT
DTSTART;TZID=America/New_York:20270212T073000
DTEND;TZID=America/New_York:20270212T083000
DTSTAMP:20260422T175556
CREATED:20240806T175616Z
LAST-MODIFIED:20250519T210149Z
UID:10004224-1802417400-1802421000@theccbb.com
SUMMARY:ECBA: ECON Open Networking
DESCRIPTION:
URL:https://theccbb.com/event/ecba-econ-open-networking/2027-02-12/
LOCATION:IHOP\, 3130 Johnson Ferry Rd.\, Marietta\, GA\, 30062\, United States
CATEGORIES:East Cobb Business Association
END:VEVENT
BEGIN:VEVENT
DTSTART;TZID=America/New_York:20270212T113000
DTEND;TZID=America/New_York:20270212T130000
DTSTAMP:20260422T175556
CREATED:20240806T174337Z
LAST-MODIFIED:20240806T175649Z
UID:10000281-1802431800-1802437200@theccbb.com
SUMMARY:ECBA: Professional Women of East Cobb
DESCRIPTION:*Members only event* \nCome join us in our monthly events to build relationships with other East Cobb businesswomen. This group is intended to support\, learn\, and grow from one another. We meet the first Friday of every month.  \nPlease register and pay in advance at: eastcobbba.com
URL:https://theccbb.com/event/ecba-professional-women-of-east-cobb/2027-02-12/
LOCATION:GA
CATEGORIES:East Cobb Business Association
END:VEVENT
BEGIN:VEVENT
DTSTART;TZID=America/New_York:20270216T110000
DTEND;TZID=America/New_York:20270216T130000
DTSTAMP:20260422T175556
CREATED:20240806T173639Z
LAST-MODIFIED:20240807T202735Z
UID:10001540-1802775600-1802782800@theccbb.com
SUMMARY:ECBA: Monthly Business Luncheon
DESCRIPTION:For ticket costs and to become a member\, please visit: https://eastcobbba.com
URL:https://theccbb.com/event/ecba-monthly-business-luncheon/2027-02-16/
LOCATION:Rich Hart Global Studios\, 2030 Powers Ferry Rd SE Suite # 270/ 280\, Atlanta\, GA\, 30339\, United States
CATEGORIES:East Cobb Business Association
END:VEVENT
BEGIN:VEVENT
DTSTART;TZID=America/New_York:20270219T073000
DTEND;TZID=America/New_York:20270219T083000
DTSTAMP:20260422T175556
CREATED:20240806T175616Z
LAST-MODIFIED:20250519T210149Z
UID:10004225-1803022200-1803025800@theccbb.com
SUMMARY:ECBA: ECON Open Networking
DESCRIPTION:
URL:https://theccbb.com/event/ecba-econ-open-networking/2027-02-19/
LOCATION:IHOP\, 3130 Johnson Ferry Rd.\, Marietta\, GA\, 30062\, United States
CATEGORIES:East Cobb Business Association
END:VEVENT
BEGIN:VEVENT
DTSTART;TZID=America/New_York:20270226T073000
DTEND;TZID=America/New_York:20270226T083000
DTSTAMP:20260422T175556
CREATED:20240806T175616Z
LAST-MODIFIED:20250519T210149Z
UID:10004226-1803627000-1803630600@theccbb.com
SUMMARY:ECBA: ECON Open Networking
DESCRIPTION:
URL:https://theccbb.com/event/ecba-econ-open-networking/2027-02-26/
LOCATION:IHOP\, 3130 Johnson Ferry Rd.\, Marietta\, GA\, 30062\, United States
CATEGORIES:East Cobb Business Association
END:VEVENT
BEGIN:VEVENT
DTSTART;TZID=America/New_York:20270305T073000
DTEND;TZID=America/New_York:20270305T083000
DTSTAMP:20260422T175556
CREATED:20240806T175616Z
LAST-MODIFIED:20250519T210149Z
UID:10004227-1804231800-1804235400@theccbb.com
SUMMARY:ECBA: ECON Open Networking
DESCRIPTION:
URL:https://theccbb.com/event/ecba-econ-open-networking/2027-03-05/
LOCATION:IHOP\, 3130 Johnson Ferry Rd.\, Marietta\, GA\, 30062\, United States
CATEGORIES:East Cobb Business Association
END:VEVENT
BEGIN:VEVENT
DTSTART;TZID=America/New_York:20270312T073000
DTEND;TZID=America/New_York:20270312T083000
DTSTAMP:20260422T175556
CREATED:20240806T175616Z
LAST-MODIFIED:20250519T210149Z
UID:10004228-1804836600-1804840200@theccbb.com
SUMMARY:ECBA: ECON Open Networking
DESCRIPTION:
URL:https://theccbb.com/event/ecba-econ-open-networking/2027-03-12/
LOCATION:IHOP\, 3130 Johnson Ferry Rd.\, Marietta\, GA\, 30062\, United States
CATEGORIES:East Cobb Business Association
END:VEVENT
BEGIN:VEVENT
DTSTART;TZID=America/New_York:20270312T113000
DTEND;TZID=America/New_York:20270312T130000
DTSTAMP:20260422T175556
CREATED:20240806T174337Z
LAST-MODIFIED:20240806T175649Z
UID:10000282-1804851000-1804856400@theccbb.com
SUMMARY:ECBA: Professional Women of East Cobb
DESCRIPTION:*Members only event* \nCome join us in our monthly events to build relationships with other East Cobb businesswomen. This group is intended to support\, learn\, and grow from one another. We meet the first Friday of every month.  \nPlease register and pay in advance at: eastcobbba.com
URL:https://theccbb.com/event/ecba-professional-women-of-east-cobb/2027-03-12/
LOCATION:GA
CATEGORIES:East Cobb Business Association
END:VEVENT
BEGIN:VEVENT
DTSTART;TZID=America/New_York:20270316T110000
DTEND;TZID=America/New_York:20270316T130000
DTSTAMP:20260422T175556
CREATED:20240806T173639Z
LAST-MODIFIED:20240807T202735Z
UID:10001541-1805194800-1805202000@theccbb.com
SUMMARY:ECBA: Monthly Business Luncheon
DESCRIPTION:For ticket costs and to become a member\, please visit: https://eastcobbba.com
URL:https://theccbb.com/event/ecba-monthly-business-luncheon/2027-03-16/
LOCATION:Rich Hart Global Studios\, 2030 Powers Ferry Rd SE Suite # 270/ 280\, Atlanta\, GA\, 30339\, United States
CATEGORIES:East Cobb Business Association
END:VEVENT
BEGIN:VEVENT
DTSTART;TZID=America/New_York:20270319T073000
DTEND;TZID=America/New_York:20270319T083000
DTSTAMP:20260422T175556
CREATED:20240806T175616Z
LAST-MODIFIED:20250519T210149Z
UID:10004229-1805441400-1805445000@theccbb.com
SUMMARY:ECBA: ECON Open Networking
DESCRIPTION:
URL:https://theccbb.com/event/ecba-econ-open-networking/2027-03-19/
LOCATION:IHOP\, 3130 Johnson Ferry Rd.\, Marietta\, GA\, 30062\, United States
CATEGORIES:East Cobb Business Association
END:VEVENT
BEGIN:VEVENT
DTSTART;TZID=America/New_York:20270326T073000
DTEND;TZID=America/New_York:20270326T083000
DTSTAMP:20260422T175556
CREATED:20240806T175616Z
LAST-MODIFIED:20250519T210149Z
UID:10004230-1806046200-1806049800@theccbb.com
SUMMARY:ECBA: ECON Open Networking
DESCRIPTION:
URL:https://theccbb.com/event/ecba-econ-open-networking/2027-03-26/
LOCATION:IHOP\, 3130 Johnson Ferry Rd.\, Marietta\, GA\, 30062\, United States
CATEGORIES:East Cobb Business Association
END:VEVENT
BEGIN:VEVENT
DTSTART;TZID=America/New_York:20270402T073000
DTEND;TZID=America/New_York:20270402T083000
DTSTAMP:20260422T175556
CREATED:20240806T175616Z
LAST-MODIFIED:20250519T210149Z
UID:10004231-1806651000-1806654600@theccbb.com
SUMMARY:ECBA: ECON Open Networking
DESCRIPTION:
URL:https://theccbb.com/event/ecba-econ-open-networking/2027-04-02/
LOCATION:IHOP\, 3130 Johnson Ferry Rd.\, Marietta\, GA\, 30062\, United States
CATEGORIES:East Cobb Business Association
END:VEVENT
BEGIN:VEVENT
DTSTART;TZID=America/New_York:20270409T073000
DTEND;TZID=America/New_York:20270409T083000
DTSTAMP:20260422T175556
CREATED:20240806T175616Z
LAST-MODIFIED:20250519T210149Z
UID:10004232-1807255800-1807259400@theccbb.com
SUMMARY:ECBA: ECON Open Networking
DESCRIPTION:
URL:https://theccbb.com/event/ecba-econ-open-networking/2027-04-09/
LOCATION:IHOP\, 3130 Johnson Ferry Rd.\, Marietta\, GA\, 30062\, United States
CATEGORIES:East Cobb Business Association
END:VEVENT
BEGIN:VEVENT
DTSTART;TZID=America/New_York:20270409T113000
DTEND;TZID=America/New_York:20270409T130000
DTSTAMP:20260422T175556
CREATED:20240806T174337Z
LAST-MODIFIED:20240806T175649Z
UID:10000283-1807270200-1807275600@theccbb.com
SUMMARY:ECBA: Professional Women of East Cobb
DESCRIPTION:*Members only event* \nCome join us in our monthly events to build relationships with other East Cobb businesswomen. This group is intended to support\, learn\, and grow from one another. We meet the first Friday of every month.  \nPlease register and pay in advance at: eastcobbba.com
URL:https://theccbb.com/event/ecba-professional-women-of-east-cobb/2027-04-09/
LOCATION:GA
CATEGORIES:East Cobb Business Association
END:VEVENT
BEGIN:VEVENT
DTSTART;TZID=America/New_York:20270416T073000
DTEND;TZID=America/New_York:20270416T083000
DTSTAMP:20260422T175556
CREATED:20240806T175616Z
LAST-MODIFIED:20250519T210149Z
UID:10004233-1807860600-1807864200@theccbb.com
SUMMARY:ECBA: ECON Open Networking
DESCRIPTION:
URL:https://theccbb.com/event/ecba-econ-open-networking/2027-04-16/
LOCATION:IHOP\, 3130 Johnson Ferry Rd.\, Marietta\, GA\, 30062\, United States
CATEGORIES:East Cobb Business Association
END:VEVENT
BEGIN:VEVENT
DTSTART;TZID=America/New_York:20270420T110000
DTEND;TZID=America/New_York:20270420T130000
DTSTAMP:20260422T175556
CREATED:20240806T173639Z
LAST-MODIFIED:20240807T202735Z
UID:10001542-1808218800-1808226000@theccbb.com
SUMMARY:ECBA: Monthly Business Luncheon
DESCRIPTION:For ticket costs and to become a member\, please visit: https://eastcobbba.com
URL:https://theccbb.com/event/ecba-monthly-business-luncheon/2027-04-20/
LOCATION:Rich Hart Global Studios\, 2030 Powers Ferry Rd SE Suite # 270/ 280\, Atlanta\, GA\, 30339\, United States
CATEGORIES:East Cobb Business Association
END:VEVENT
BEGIN:VEVENT
DTSTART;TZID=America/New_York:20270423T073000
DTEND;TZID=America/New_York:20270423T083000
DTSTAMP:20260422T175556
CREATED:20240806T175616Z
LAST-MODIFIED:20250519T210149Z
UID:10004234-1808465400-1808469000@theccbb.com
SUMMARY:ECBA: ECON Open Networking
DESCRIPTION:
URL:https://theccbb.com/event/ecba-econ-open-networking/2027-04-23/
LOCATION:IHOP\, 3130 Johnson Ferry Rd.\, Marietta\, GA\, 30062\, United States
CATEGORIES:East Cobb Business Association
END:VEVENT
BEGIN:VEVENT
DTSTART;TZID=America/New_York:20270430T073000
DTEND;TZID=America/New_York:20270430T083000
DTSTAMP:20260422T175556
CREATED:20240806T175616Z
LAST-MODIFIED:20250519T210149Z
UID:10004235-1809070200-1809073800@theccbb.com
SUMMARY:ECBA: ECON Open Networking
DESCRIPTION:
URL:https://theccbb.com/event/ecba-econ-open-networking/2027-04-30/
LOCATION:IHOP\, 3130 Johnson Ferry Rd.\, Marietta\, GA\, 30062\, United States
CATEGORIES:East Cobb Business Association
END:VEVENT
BEGIN:VEVENT
DTSTART;TZID=America/New_York:20270507T073000
DTEND;TZID=America/New_York:20270507T083000
DTSTAMP:20260422T175556
CREATED:20240806T175616Z
LAST-MODIFIED:20250519T210149Z
UID:10004236-1809675000-1809678600@theccbb.com
SUMMARY:ECBA: ECON Open Networking
DESCRIPTION:
URL:https://theccbb.com/event/ecba-econ-open-networking/2027-05-07/
LOCATION:IHOP\, 3130 Johnson Ferry Rd.\, Marietta\, GA\, 30062\, United States
CATEGORIES:East Cobb Business Association
END:VEVENT
BEGIN:VEVENT
DTSTART;TZID=America/New_York:20270514T073000
DTEND;TZID=America/New_York:20270514T083000
DTSTAMP:20260422T175557
CREATED:20240806T175616Z
LAST-MODIFIED:20250519T210149Z
UID:10004237-1810279800-1810283400@theccbb.com
SUMMARY:ECBA: ECON Open Networking
DESCRIPTION:
URL:https://theccbb.com/event/ecba-econ-open-networking/2027-05-14/
LOCATION:IHOP\, 3130 Johnson Ferry Rd.\, Marietta\, GA\, 30062\, United States
CATEGORIES:East Cobb Business Association
END:VEVENT
BEGIN:VEVENT
DTSTART;TZID=America/New_York:20270514T113000
DTEND;TZID=America/New_York:20270514T130000
DTSTAMP:20260422T175557
CREATED:20240806T174337Z
LAST-MODIFIED:20240806T175649Z
UID:10000284-1810294200-1810299600@theccbb.com
SUMMARY:ECBA: Professional Women of East Cobb
DESCRIPTION:*Members only event* \nCome join us in our monthly events to build relationships with other East Cobb businesswomen. This group is intended to support\, learn\, and grow from one another. We meet the first Friday of every month.  \nPlease register and pay in advance at: eastcobbba.com
URL:https://theccbb.com/event/ecba-professional-women-of-east-cobb/2027-05-14/
LOCATION:GA
CATEGORIES:East Cobb Business Association
END:VEVENT
BEGIN:VEVENT
DTSTART;TZID=America/New_York:20270518T110000
DTEND;TZID=America/New_York:20270518T130000
DTSTAMP:20260422T175557
CREATED:20240806T173639Z
LAST-MODIFIED:20240807T202735Z
UID:10001543-1810638000-1810645200@theccbb.com
SUMMARY:ECBA: Monthly Business Luncheon
DESCRIPTION:For ticket costs and to become a member\, please visit: https://eastcobbba.com
URL:https://theccbb.com/event/ecba-monthly-business-luncheon/2027-05-18/
LOCATION:Rich Hart Global Studios\, 2030 Powers Ferry Rd SE Suite # 270/ 280\, Atlanta\, GA\, 30339\, United States
CATEGORIES:East Cobb Business Association
END:VEVENT
BEGIN:VEVENT
DTSTART;TZID=America/New_York:20270521T073000
DTEND;TZID=America/New_York:20270521T083000
DTSTAMP:20260422T175557
CREATED:20240806T175616Z
LAST-MODIFIED:20250519T210149Z
UID:10004238-1810884600-1810888200@theccbb.com
SUMMARY:ECBA: ECON Open Networking
DESCRIPTION:
URL:https://theccbb.com/event/ecba-econ-open-networking/2027-05-21/
LOCATION:IHOP\, 3130 Johnson Ferry Rd.\, Marietta\, GA\, 30062\, United States
CATEGORIES:East Cobb Business Association
END:VEVENT
BEGIN:VEVENT
DTSTART;TZID=America/New_York:20270528T073000
DTEND;TZID=America/New_York:20270528T083000
DTSTAMP:20260422T175557
CREATED:20240806T175616Z
LAST-MODIFIED:20250519T210149Z
UID:10004239-1811489400-1811493000@theccbb.com
SUMMARY:ECBA: ECON Open Networking
DESCRIPTION:
URL:https://theccbb.com/event/ecba-econ-open-networking/2027-05-28/
LOCATION:IHOP\, 3130 Johnson Ferry Rd.\, Marietta\, GA\, 30062\, United States
CATEGORIES:East Cobb Business Association
END:VEVENT
BEGIN:VEVENT
DTSTART;TZID=America/New_York:20270604T073000
DTEND;TZID=America/New_York:20270604T083000
DTSTAMP:20260422T175557
CREATED:20240806T175616Z
LAST-MODIFIED:20250519T210149Z
UID:10004240-1812094200-1812097800@theccbb.com
SUMMARY:ECBA: ECON Open Networking
DESCRIPTION:
URL:https://theccbb.com/event/ecba-econ-open-networking/2027-06-04/
LOCATION:IHOP\, 3130 Johnson Ferry Rd.\, Marietta\, GA\, 30062\, United States
CATEGORIES:East Cobb Business Association
END:VEVENT
BEGIN:VEVENT
DTSTART;TZID=America/New_York:20270611T073000
DTEND;TZID=America/New_York:20270611T083000
DTSTAMP:20260422T175557
CREATED:20240806T175616Z
LAST-MODIFIED:20250519T210149Z
UID:10004241-1812699000-1812702600@theccbb.com
SUMMARY:ECBA: ECON Open Networking
DESCRIPTION:
URL:https://theccbb.com/event/ecba-econ-open-networking/2027-06-11/
LOCATION:IHOP\, 3130 Johnson Ferry Rd.\, Marietta\, GA\, 30062\, United States
CATEGORIES:East Cobb Business Association
END:VEVENT
BEGIN:VEVENT
DTSTART;TZID=America/New_York:20270611T113000
DTEND;TZID=America/New_York:20270611T130000
DTSTAMP:20260422T175557
CREATED:20240806T174337Z
LAST-MODIFIED:20240806T175649Z
UID:10000285-1812713400-1812718800@theccbb.com
SUMMARY:ECBA: Professional Women of East Cobb
DESCRIPTION:*Members only event* \nCome join us in our monthly events to build relationships with other East Cobb businesswomen. This group is intended to support\, learn\, and grow from one another. We meet the first Friday of every month.  \nPlease register and pay in advance at: eastcobbba.com
URL:https://theccbb.com/event/ecba-professional-women-of-east-cobb/2027-06-11/
LOCATION:GA
CATEGORIES:East Cobb Business Association
END:VEVENT
BEGIN:VEVENT
DTSTART;TZID=America/New_York:20270615T110000
DTEND;TZID=America/New_York:20270615T130000
DTSTAMP:20260422T175557
CREATED:20240806T173639Z
LAST-MODIFIED:20240807T202735Z
UID:10001544-1813057200-1813064400@theccbb.com
SUMMARY:ECBA: Monthly Business Luncheon
DESCRIPTION:For ticket costs and to become a member\, please visit: https://eastcobbba.com
URL:https://theccbb.com/event/ecba-monthly-business-luncheon/2027-06-15/
LOCATION:Rich Hart Global Studios\, 2030 Powers Ferry Rd SE Suite # 270/ 280\, Atlanta\, GA\, 30339\, United States
CATEGORIES:East Cobb Business Association
END:VEVENT
END:VCALENDAR