BEGIN:VCALENDAR
VERSION:2.0
PRODID:-//Cobb County Business Bootcamp - ECPv6.15.18//NONSGML v1.0//EN
CALSCALE:GREGORIAN
METHOD:PUBLISH
X-WR-CALNAME:Cobb County Business Bootcamp
X-ORIGINAL-URL:https://theccbb.com
X-WR-CALDESC:Events for Cobb County Business Bootcamp
REFRESH-INTERVAL;VALUE=DURATION:PT1H
X-Robots-Tag:noindex
X-PUBLISHED-TTL:PT1H
BEGIN:VTIMEZONE
TZID:America/New_York
BEGIN:DAYLIGHT
TZOFFSETFROM:-0500
TZOFFSETTO:-0400
TZNAME:EDT
DTSTART:20250309T070000
END:DAYLIGHT
BEGIN:STANDARD
TZOFFSETFROM:-0400
TZOFFSETTO:-0500
TZNAME:EST
DTSTART:20251102T060000
END:STANDARD
BEGIN:DAYLIGHT
TZOFFSETFROM:-0500
TZOFFSETTO:-0400
TZNAME:EDT
DTSTART:20260308T070000
END:DAYLIGHT
BEGIN:STANDARD
TZOFFSETFROM:-0400
TZOFFSETTO:-0500
TZNAME:EST
DTSTART:20261101T060000
END:STANDARD
BEGIN:DAYLIGHT
TZOFFSETFROM:-0500
TZOFFSETTO:-0400
TZNAME:EDT
DTSTART:20270314T070000
END:DAYLIGHT
BEGIN:STANDARD
TZOFFSETFROM:-0400
TZOFFSETTO:-0500
TZNAME:EST
DTSTART:20271107T060000
END:STANDARD
END:VTIMEZONE
BEGIN:VEVENT
DTSTART;TZID=America/New_York:20260424T073000
DTEND;TZID=America/New_York:20260424T083000
DTSTAMP:20260422T055439
CREATED:20240806T175616Z
LAST-MODIFIED:20250519T210149Z
UID:10004182-1777015800-1777019400@theccbb.com
SUMMARY:ECBA: ECON Open Networking
DESCRIPTION:
URL:https://theccbb.com/event/ecba-econ-open-networking/2026-04-24/
LOCATION:IHOP\, 3130 Johnson Ferry Rd.\, Marietta\, GA\, 30062\, United States
CATEGORIES:East Cobb Business Association
END:VEVENT
BEGIN:VEVENT
DTSTART;TZID=America/New_York:20260501T073000
DTEND;TZID=America/New_York:20260501T083000
DTSTAMP:20260422T055439
CREATED:20240806T175616Z
LAST-MODIFIED:20250519T210149Z
UID:10004183-1777620600-1777624200@theccbb.com
SUMMARY:ECBA: ECON Open Networking
DESCRIPTION:
URL:https://theccbb.com/event/ecba-econ-open-networking/2026-05-01/
LOCATION:IHOP\, 3130 Johnson Ferry Rd.\, Marietta\, GA\, 30062\, United States
CATEGORIES:East Cobb Business Association
END:VEVENT
BEGIN:VEVENT
DTSTART;TZID=America/New_York:20260508T073000
DTEND;TZID=America/New_York:20260508T083000
DTSTAMP:20260422T055439
CREATED:20240806T175616Z
LAST-MODIFIED:20250519T210149Z
UID:10004184-1778225400-1778229000@theccbb.com
SUMMARY:ECBA: ECON Open Networking
DESCRIPTION:
URL:https://theccbb.com/event/ecba-econ-open-networking/2026-05-08/
LOCATION:IHOP\, 3130 Johnson Ferry Rd.\, Marietta\, GA\, 30062\, United States
CATEGORIES:East Cobb Business Association
END:VEVENT
BEGIN:VEVENT
DTSTART;TZID=America/New_York:20260508T113000
DTEND;TZID=America/New_York:20260508T130000
DTSTAMP:20260422T055439
CREATED:20240806T174337Z
LAST-MODIFIED:20240806T175649Z
UID:10000272-1778239800-1778245200@theccbb.com
SUMMARY:ECBA: Professional Women of East Cobb
DESCRIPTION:*Members only event* \nCome join us in our monthly events to build relationships with other East Cobb businesswomen. This group is intended to support\, learn\, and grow from one another. We meet the first Friday of every month.  \nPlease register and pay in advance at: eastcobbba.com
URL:https://theccbb.com/event/ecba-professional-women-of-east-cobb/2026-05-08/
LOCATION:Georgia
CATEGORIES:East Cobb Business Association
END:VEVENT
BEGIN:VEVENT
DTSTART;TZID=America/New_York:20260515T073000
DTEND;TZID=America/New_York:20260515T083000
DTSTAMP:20260422T055439
CREATED:20240806T175616Z
LAST-MODIFIED:20250519T210149Z
UID:10004185-1778830200-1778833800@theccbb.com
SUMMARY:ECBA: ECON Open Networking
DESCRIPTION:
URL:https://theccbb.com/event/ecba-econ-open-networking/2026-05-15/
LOCATION:IHOP\, 3130 Johnson Ferry Rd.\, Marietta\, GA\, 30062\, United States
CATEGORIES:East Cobb Business Association
END:VEVENT
BEGIN:VEVENT
DTSTART;TZID=America/New_York:20260519T110000
DTEND;TZID=America/New_York:20260519T130000
DTSTAMP:20260422T055439
CREATED:20240806T173639Z
LAST-MODIFIED:20240807T202735Z
UID:10001531-1779188400-1779195600@theccbb.com
SUMMARY:ECBA: Monthly Business Luncheon
DESCRIPTION:For ticket costs and to become a member\, please visit: https://eastcobbba.com
URL:https://theccbb.com/event/ecba-monthly-business-luncheon/2026-05-19/
LOCATION:Rich Hart Global Studios\, 2030 Powers Ferry Rd SE Suite # 270/ 280\, Atlanta\, GA\, 30339\, United States
CATEGORIES:East Cobb Business Association
END:VEVENT
BEGIN:VEVENT
DTSTART;TZID=America/New_York:20260519T113000
DTEND;TZID=America/New_York:20260519T130000
DTSTAMP:20260422T055439
CREATED:20260117T160427Z
LAST-MODIFIED:20260117T160530Z
UID:10005689-1779190200-1779195600@theccbb.com
SUMMARY:ECBA: Monthly Business Luncheon
DESCRIPTION:Speaker: \nMike Albuquerque \n  \nParking – Please follow the ECBA event signs and park to right of the building in the Employee Parking area. Walk under the covered path to enter on the right side of the main building using either the stairs or elevator. The lobby entrance to the meeting space is a 1-minute walk on left of this entry hallway. \n\n\n\n\n\n\nDate and Time\nTuesday\, May 19\, 2026\, 11:30 AM until 1:00 PM\n\n\n\nEvent Contact(s)\nDon E Long\n\nRory Zimmerman
URL:https://theccbb.com/event/ecba-monthly-business-luncheon-6/
LOCATION:Wellstar East Cobb Health Park\, 3747 Roswell Rd.\, Marietta\, Georgia\, 30062
CATEGORIES:East Cobb Business Association
END:VEVENT
BEGIN:VEVENT
DTSTART;TZID=America/New_York:20260522T073000
DTEND;TZID=America/New_York:20260522T083000
DTSTAMP:20260422T055439
CREATED:20240806T175616Z
LAST-MODIFIED:20250519T210149Z
UID:10004186-1779435000-1779438600@theccbb.com
SUMMARY:ECBA: ECON Open Networking
DESCRIPTION:
URL:https://theccbb.com/event/ecba-econ-open-networking/2026-05-22/
LOCATION:IHOP\, 3130 Johnson Ferry Rd.\, Marietta\, GA\, 30062\, United States
CATEGORIES:East Cobb Business Association
END:VEVENT
BEGIN:VEVENT
DTSTART;TZID=America/New_York:20260529T073000
DTEND;TZID=America/New_York:20260529T083000
DTSTAMP:20260422T055439
CREATED:20240806T175616Z
LAST-MODIFIED:20250519T210149Z
UID:10004187-1780039800-1780043400@theccbb.com
SUMMARY:ECBA: ECON Open Networking
DESCRIPTION:
URL:https://theccbb.com/event/ecba-econ-open-networking/2026-05-29/
LOCATION:IHOP\, 3130 Johnson Ferry Rd.\, Marietta\, GA\, 30062\, United States
CATEGORIES:East Cobb Business Association
END:VEVENT
BEGIN:VEVENT
DTSTART;TZID=America/New_York:20260605T073000
DTEND;TZID=America/New_York:20260605T083000
DTSTAMP:20260422T055439
CREATED:20240806T175616Z
LAST-MODIFIED:20250519T210149Z
UID:10004188-1780644600-1780648200@theccbb.com
SUMMARY:ECBA: ECON Open Networking
DESCRIPTION:
URL:https://theccbb.com/event/ecba-econ-open-networking/2026-06-05/
LOCATION:IHOP\, 3130 Johnson Ferry Rd.\, Marietta\, GA\, 30062\, United States
CATEGORIES:East Cobb Business Association
END:VEVENT
BEGIN:VEVENT
DTSTART;TZID=America/New_York:20260612T073000
DTEND;TZID=America/New_York:20260612T083000
DTSTAMP:20260422T055439
CREATED:20240806T175616Z
LAST-MODIFIED:20250519T210149Z
UID:10004189-1781249400-1781253000@theccbb.com
SUMMARY:ECBA: ECON Open Networking
DESCRIPTION:
URL:https://theccbb.com/event/ecba-econ-open-networking/2026-06-12/
LOCATION:IHOP\, 3130 Johnson Ferry Rd.\, Marietta\, GA\, 30062\, United States
CATEGORIES:East Cobb Business Association
END:VEVENT
BEGIN:VEVENT
DTSTART;TZID=America/New_York:20260612T113000
DTEND;TZID=America/New_York:20260612T130000
DTSTAMP:20260422T055439
CREATED:20240806T174337Z
LAST-MODIFIED:20240806T175649Z
UID:10000273-1781263800-1781269200@theccbb.com
SUMMARY:ECBA: Professional Women of East Cobb
DESCRIPTION:*Members only event* \nCome join us in our monthly events to build relationships with other East Cobb businesswomen. This group is intended to support\, learn\, and grow from one another. We meet the first Friday of every month.  \nPlease register and pay in advance at: eastcobbba.com
URL:https://theccbb.com/event/ecba-professional-women-of-east-cobb/2026-06-12/
LOCATION:Georgia
CATEGORIES:East Cobb Business Association
END:VEVENT
BEGIN:VEVENT
DTSTART;TZID=America/New_York:20260616T110000
DTEND;TZID=America/New_York:20260616T130000
DTSTAMP:20260422T055439
CREATED:20240806T173639Z
LAST-MODIFIED:20240807T202735Z
UID:10001532-1781607600-1781614800@theccbb.com
SUMMARY:ECBA: Monthly Business Luncheon
DESCRIPTION:For ticket costs and to become a member\, please visit: https://eastcobbba.com
URL:https://theccbb.com/event/ecba-monthly-business-luncheon/2026-06-16/
LOCATION:Rich Hart Global Studios\, 2030 Powers Ferry Rd SE Suite # 270/ 280\, Atlanta\, GA\, 30339\, United States
CATEGORIES:East Cobb Business Association
END:VEVENT
BEGIN:VEVENT
DTSTART;TZID=America/New_York:20260616T113000
DTEND;TZID=America/New_York:20260616T130000
DTSTAMP:20260422T055439
CREATED:20260117T160712Z
LAST-MODIFIED:20260117T160712Z
UID:10005690-1781609400-1781614800@theccbb.com
SUMMARY:ECBA: Monthly Business Luncheon
DESCRIPTION:Parking – Please follow the ECBA event signs and park to right of the building in the Employee Parking area. Walk under the covered path to enter on the right side of the main building using either the stairs or elevator. The lobby entrance to the meeting space is a 1-minute walk on left of this entry hallway. \n\n\n\n\n\n\nDate and Time\nTuesday\, June 16\, 2026\, 11:30 AM until 1:00 PM\n\n\n\nEvent Contact(s)\nDon E Long\n\nRory Zimmerman
URL:https://theccbb.com/event/ecba-monthly-business-luncheon-7/
LOCATION:Wellstar East Cobb Health Park\, 3747 Roswell Rd.\, Marietta\, Georgia\, 30062
CATEGORIES:East Cobb Business Association
END:VEVENT
BEGIN:VEVENT
DTSTART;TZID=America/New_York:20260619T073000
DTEND;TZID=America/New_York:20260619T083000
DTSTAMP:20260422T055439
CREATED:20240806T175616Z
LAST-MODIFIED:20250519T210149Z
UID:10004190-1781854200-1781857800@theccbb.com
SUMMARY:ECBA: ECON Open Networking
DESCRIPTION:
URL:https://theccbb.com/event/ecba-econ-open-networking/2026-06-19/
LOCATION:IHOP\, 3130 Johnson Ferry Rd.\, Marietta\, GA\, 30062\, United States
CATEGORIES:East Cobb Business Association
END:VEVENT
BEGIN:VEVENT
DTSTART;TZID=America/New_York:20260626T073000
DTEND;TZID=America/New_York:20260626T083000
DTSTAMP:20260422T055439
CREATED:20240806T175616Z
LAST-MODIFIED:20250519T210149Z
UID:10004191-1782459000-1782462600@theccbb.com
SUMMARY:ECBA: ECON Open Networking
DESCRIPTION:
URL:https://theccbb.com/event/ecba-econ-open-networking/2026-06-26/
LOCATION:IHOP\, 3130 Johnson Ferry Rd.\, Marietta\, GA\, 30062\, United States
CATEGORIES:East Cobb Business Association
END:VEVENT
BEGIN:VEVENT
DTSTART;TZID=America/New_York:20260703T073000
DTEND;TZID=America/New_York:20260703T083000
DTSTAMP:20260422T055439
CREATED:20240806T175616Z
LAST-MODIFIED:20250519T210149Z
UID:10004192-1783063800-1783067400@theccbb.com
SUMMARY:ECBA: ECON Open Networking
DESCRIPTION:
URL:https://theccbb.com/event/ecba-econ-open-networking/2026-07-03/
LOCATION:IHOP\, 3130 Johnson Ferry Rd.\, Marietta\, GA\, 30062\, United States
CATEGORIES:East Cobb Business Association
END:VEVENT
BEGIN:VEVENT
DTSTART;TZID=America/New_York:20260710T073000
DTEND;TZID=America/New_York:20260710T083000
DTSTAMP:20260422T055439
CREATED:20240806T175616Z
LAST-MODIFIED:20250519T210149Z
UID:10004193-1783668600-1783672200@theccbb.com
SUMMARY:ECBA: ECON Open Networking
DESCRIPTION:
URL:https://theccbb.com/event/ecba-econ-open-networking/2026-07-10/
LOCATION:IHOP\, 3130 Johnson Ferry Rd.\, Marietta\, GA\, 30062\, United States
CATEGORIES:East Cobb Business Association
END:VEVENT
BEGIN:VEVENT
DTSTART;TZID=America/New_York:20260710T113000
DTEND;TZID=America/New_York:20260710T130000
DTSTAMP:20260422T055439
CREATED:20240806T174337Z
LAST-MODIFIED:20240806T175649Z
UID:10000274-1783683000-1783688400@theccbb.com
SUMMARY:ECBA: Professional Women of East Cobb
DESCRIPTION:*Members only event* \nCome join us in our monthly events to build relationships with other East Cobb businesswomen. This group is intended to support\, learn\, and grow from one another. We meet the first Friday of every month.  \nPlease register and pay in advance at: eastcobbba.com
URL:https://theccbb.com/event/ecba-professional-women-of-east-cobb/2026-07-10/
LOCATION:Georgia
CATEGORIES:East Cobb Business Association
END:VEVENT
BEGIN:VEVENT
DTSTART;TZID=America/New_York:20260717T073000
DTEND;TZID=America/New_York:20260717T083000
DTSTAMP:20260422T055439
CREATED:20240806T175616Z
LAST-MODIFIED:20250519T210149Z
UID:10004194-1784273400-1784277000@theccbb.com
SUMMARY:ECBA: ECON Open Networking
DESCRIPTION:
URL:https://theccbb.com/event/ecba-econ-open-networking/2026-07-17/
LOCATION:IHOP\, 3130 Johnson Ferry Rd.\, Marietta\, GA\, 30062\, United States
CATEGORIES:East Cobb Business Association
END:VEVENT
BEGIN:VEVENT
DTSTART;TZID=America/New_York:20260721T110000
DTEND;TZID=America/New_York:20260721T130000
DTSTAMP:20260422T055439
CREATED:20240806T173639Z
LAST-MODIFIED:20240807T202735Z
UID:10001533-1784631600-1784638800@theccbb.com
SUMMARY:ECBA: Monthly Business Luncheon
DESCRIPTION:For ticket costs and to become a member\, please visit: https://eastcobbba.com
URL:https://theccbb.com/event/ecba-monthly-business-luncheon/2026-07-21/
LOCATION:Rich Hart Global Studios\, 2030 Powers Ferry Rd SE Suite # 270/ 280\, Atlanta\, GA\, 30339\, United States
CATEGORIES:East Cobb Business Association
END:VEVENT
BEGIN:VEVENT
DTSTART;TZID=America/New_York:20260724T073000
DTEND;TZID=America/New_York:20260724T083000
DTSTAMP:20260422T055439
CREATED:20240806T175616Z
LAST-MODIFIED:20250519T210149Z
UID:10004195-1784878200-1784881800@theccbb.com
SUMMARY:ECBA: ECON Open Networking
DESCRIPTION:
URL:https://theccbb.com/event/ecba-econ-open-networking/2026-07-24/
LOCATION:IHOP\, 3130 Johnson Ferry Rd.\, Marietta\, GA\, 30062\, United States
CATEGORIES:East Cobb Business Association
END:VEVENT
BEGIN:VEVENT
DTSTART;TZID=America/New_York:20260731T073000
DTEND;TZID=America/New_York:20260731T083000
DTSTAMP:20260422T055439
CREATED:20240806T175616Z
LAST-MODIFIED:20250519T210149Z
UID:10004196-1785483000-1785486600@theccbb.com
SUMMARY:ECBA: ECON Open Networking
DESCRIPTION:
URL:https://theccbb.com/event/ecba-econ-open-networking/2026-07-31/
LOCATION:IHOP\, 3130 Johnson Ferry Rd.\, Marietta\, GA\, 30062\, United States
CATEGORIES:East Cobb Business Association
END:VEVENT
BEGIN:VEVENT
DTSTART;TZID=America/New_York:20260807T073000
DTEND;TZID=America/New_York:20260807T083000
DTSTAMP:20260422T055439
CREATED:20240806T175616Z
LAST-MODIFIED:20250519T210149Z
UID:10004197-1786087800-1786091400@theccbb.com
SUMMARY:ECBA: ECON Open Networking
DESCRIPTION:
URL:https://theccbb.com/event/ecba-econ-open-networking/2026-08-07/
LOCATION:IHOP\, 3130 Johnson Ferry Rd.\, Marietta\, GA\, 30062\, United States
CATEGORIES:East Cobb Business Association
END:VEVENT
BEGIN:VEVENT
DTSTART;TZID=America/New_York:20260814T073000
DTEND;TZID=America/New_York:20260814T083000
DTSTAMP:20260422T055439
CREATED:20240806T175616Z
LAST-MODIFIED:20250519T210149Z
UID:10004198-1786692600-1786696200@theccbb.com
SUMMARY:ECBA: ECON Open Networking
DESCRIPTION:
URL:https://theccbb.com/event/ecba-econ-open-networking/2026-08-14/
LOCATION:IHOP\, 3130 Johnson Ferry Rd.\, Marietta\, GA\, 30062\, United States
CATEGORIES:East Cobb Business Association
END:VEVENT
BEGIN:VEVENT
DTSTART;TZID=America/New_York:20260814T113000
DTEND;TZID=America/New_York:20260814T130000
DTSTAMP:20260422T055439
CREATED:20240806T174337Z
LAST-MODIFIED:20240806T175649Z
UID:10000275-1786707000-1786712400@theccbb.com
SUMMARY:ECBA: Professional Women of East Cobb
DESCRIPTION:*Members only event* \nCome join us in our monthly events to build relationships with other East Cobb businesswomen. This group is intended to support\, learn\, and grow from one another. We meet the first Friday of every month.  \nPlease register and pay in advance at: eastcobbba.com
URL:https://theccbb.com/event/ecba-professional-women-of-east-cobb/2026-08-14/
LOCATION:Georgia
CATEGORIES:East Cobb Business Association
END:VEVENT
BEGIN:VEVENT
DTSTART;TZID=America/New_York:20260818T110000
DTEND;TZID=America/New_York:20260818T130000
DTSTAMP:20260422T055439
CREATED:20240806T173639Z
LAST-MODIFIED:20240807T202735Z
UID:10001534-1787050800-1787058000@theccbb.com
SUMMARY:ECBA: Monthly Business Luncheon
DESCRIPTION:For ticket costs and to become a member\, please visit: https://eastcobbba.com
URL:https://theccbb.com/event/ecba-monthly-business-luncheon/2026-08-18/
LOCATION:Rich Hart Global Studios\, 2030 Powers Ferry Rd SE Suite # 270/ 280\, Atlanta\, GA\, 30339\, United States
CATEGORIES:East Cobb Business Association
END:VEVENT
BEGIN:VEVENT
DTSTART;TZID=America/New_York:20260821T073000
DTEND;TZID=America/New_York:20260821T083000
DTSTAMP:20260422T055439
CREATED:20240806T175616Z
LAST-MODIFIED:20250519T210149Z
UID:10004199-1787297400-1787301000@theccbb.com
SUMMARY:ECBA: ECON Open Networking
DESCRIPTION:
URL:https://theccbb.com/event/ecba-econ-open-networking/2026-08-21/
LOCATION:IHOP\, 3130 Johnson Ferry Rd.\, Marietta\, GA\, 30062\, United States
CATEGORIES:East Cobb Business Association
END:VEVENT
BEGIN:VEVENT
DTSTART;TZID=America/New_York:20260828T073000
DTEND;TZID=America/New_York:20260828T083000
DTSTAMP:20260422T055439
CREATED:20240806T175616Z
LAST-MODIFIED:20250519T210149Z
UID:10004200-1787902200-1787905800@theccbb.com
SUMMARY:ECBA: ECON Open Networking
DESCRIPTION:
URL:https://theccbb.com/event/ecba-econ-open-networking/2026-08-28/
LOCATION:IHOP\, 3130 Johnson Ferry Rd.\, Marietta\, GA\, 30062\, United States
CATEGORIES:East Cobb Business Association
END:VEVENT
BEGIN:VEVENT
DTSTART;TZID=America/New_York:20260904T073000
DTEND;TZID=America/New_York:20260904T083000
DTSTAMP:20260422T055439
CREATED:20240806T175616Z
LAST-MODIFIED:20250519T210149Z
UID:10004201-1788507000-1788510600@theccbb.com
SUMMARY:ECBA: ECON Open Networking
DESCRIPTION:
URL:https://theccbb.com/event/ecba-econ-open-networking/2026-09-04/
LOCATION:IHOP\, 3130 Johnson Ferry Rd.\, Marietta\, GA\, 30062\, United States
CATEGORIES:East Cobb Business Association
END:VEVENT
END:VCALENDAR