BEGIN:VCALENDAR
VERSION:2.0
PRODID:-//Cobb County Business Bootcamp - ECPv6.15.18//NONSGML v1.0//EN
CALSCALE:GREGORIAN
METHOD:PUBLISH
X-WR-CALNAME:Cobb County Business Bootcamp
X-ORIGINAL-URL:https://theccbb.com
X-WR-CALDESC:Events for Cobb County Business Bootcamp
REFRESH-INTERVAL;VALUE=DURATION:PT1H
X-Robots-Tag:noindex
X-PUBLISHED-TTL:PT1H
BEGIN:VTIMEZONE
TZID:America/New_York
BEGIN:DAYLIGHT
TZOFFSETFROM:-0500
TZOFFSETTO:-0400
TZNAME:EDT
DTSTART:20250309T070000
END:DAYLIGHT
BEGIN:STANDARD
TZOFFSETFROM:-0400
TZOFFSETTO:-0500
TZNAME:EST
DTSTART:20251102T060000
END:STANDARD
BEGIN:DAYLIGHT
TZOFFSETFROM:-0500
TZOFFSETTO:-0400
TZNAME:EDT
DTSTART:20260308T070000
END:DAYLIGHT
BEGIN:STANDARD
TZOFFSETFROM:-0400
TZOFFSETTO:-0500
TZNAME:EST
DTSTART:20261101T060000
END:STANDARD
BEGIN:DAYLIGHT
TZOFFSETFROM:-0500
TZOFFSETTO:-0400
TZNAME:EDT
DTSTART:20270314T070000
END:DAYLIGHT
BEGIN:STANDARD
TZOFFSETFROM:-0400
TZOFFSETTO:-0500
TZNAME:EST
DTSTART:20271107T060000
END:STANDARD
END:VTIMEZONE
BEGIN:VEVENT
DTSTART;TZID=America/New_York:20260512T110000
DTEND;TZID=America/New_York:20260512T130000
DTSTAMP:20260419T143538
CREATED:20240806T185255Z
LAST-MODIFIED:20240806T185322Z
UID:10000911-1778583600-1778590800@theccbb.com
SUMMARY:KBA: Monthly Luncheon
DESCRIPTION:Join us to hear from community\, state\, and nationally recognized government and business leaders as they share current and relevant information for doing business in Georgia. See lunch event dates below and mark your calendar! \nFor ticket costs and to become a member\, please visit: https://kennesawbusiness.org \n**PLEASE NOTE: If you choose not to register in advance\, you will pay $10 more at the door.
URL:https://theccbb.com/event/kba-monthly-luncheon/2026-05-12/
LOCATION:KSU Professional Education Building\, 3333 Busbee Parkway\, Kennesaw\, GA\, 30144\, United States
CATEGORIES:Kennesaw Business Association
END:VEVENT
BEGIN:VEVENT
DTSTART;TZID=America/New_York:20260512T110000
DTEND;TZID=America/New_York:20260512T130000
DTSTAMP:20260419T143538
CREATED:20260202T074150Z
LAST-MODIFIED:20260202T074150Z
UID:10006028-1778583600-1778590800@theccbb.com
SUMMARY:KBA: Monthly Luncheon
DESCRIPTION:May Luncheon\n\n\nJoin the KBA for an informative lunch and networking. \n***Please register in advance to ensure our caters are properly prepared. \n\n\n\n\n\n\n\nVenue\nGovernor’s Gun Club\n\n\nAddress\n1005 Cobb Place Blvd.KennesawGA30144\,US\n\n\nStarts\nTue May 12 2026\, 11:15am EDT\n\n\nEnds\nTue May 12 2026\, 11:30am EDT\n\n\n\n\n\n\n\n\n\n  \nJoin us to hear from community\, state\, and nationally recognized government and business leaders as they share current and relevant information for doing business in Georgia. See lunch event dates below and mark your calendar! \nFor ticket costs and to become a member\, please visit: https://kennesawbusiness.org \n**PLEASE NOTE: If you choose not to register in advance\, you will pay $10 more at the door.
URL:https://theccbb.com/event/kba-monthly-luncheon-5/
LOCATION:Governor’s Gun Club\, 1005 Cobb Place Blvd\, Kennesaw\, Georgia\, 30144
CATEGORIES:Kennesaw Business Association
END:VEVENT
BEGIN:VEVENT
DTSTART;TZID=America/New_York:20260519T173000
DTEND;TZID=America/New_York:20260519T190000
DTSTAMP:20260419T143538
CREATED:20240806T190005Z
LAST-MODIFIED:20240806T190005Z
UID:10000971-1779211800-1779217200@theccbb.com
SUMMARY:KBA: Alive After 5
DESCRIPTION:Join us from 5:30 – 7:00 at various locations around town on the 3rd Tuesday of each month! Interact with business owners & various team members in a relaxed\, after hours setting with adult beverages & great food!  Networking and Nightlife!  \nFor ticket costs and to become a member\, please visit: https://kennesawbusiness.org
URL:https://theccbb.com/event/kba-alive-after-5/2026-05-19/
LOCATION:Georgia
CATEGORIES:Kennesaw Business Association
END:VEVENT
END:VCALENDAR