BEGIN:VCALENDAR
VERSION:2.0
PRODID:-//Cobb County Business Bootcamp - ECPv6.15.18//NONSGML v1.0//EN
CALSCALE:GREGORIAN
METHOD:PUBLISH
X-WR-CALNAME:Cobb County Business Bootcamp
X-ORIGINAL-URL:https://theccbb.com
X-WR-CALDESC:Events for Cobb County Business Bootcamp
REFRESH-INTERVAL;VALUE=DURATION:PT1H
X-Robots-Tag:noindex
X-PUBLISHED-TTL:PT1H
BEGIN:VTIMEZONE
TZID:America/New_York
BEGIN:DAYLIGHT
TZOFFSETFROM:-0500
TZOFFSETTO:-0400
TZNAME:EDT
DTSTART:20250309T070000
END:DAYLIGHT
BEGIN:STANDARD
TZOFFSETFROM:-0400
TZOFFSETTO:-0500
TZNAME:EST
DTSTART:20251102T060000
END:STANDARD
BEGIN:DAYLIGHT
TZOFFSETFROM:-0500
TZOFFSETTO:-0400
TZNAME:EDT
DTSTART:20260308T070000
END:DAYLIGHT
BEGIN:STANDARD
TZOFFSETFROM:-0400
TZOFFSETTO:-0500
TZNAME:EST
DTSTART:20261101T060000
END:STANDARD
BEGIN:DAYLIGHT
TZOFFSETFROM:-0500
TZOFFSETTO:-0400
TZNAME:EDT
DTSTART:20270314T070000
END:DAYLIGHT
BEGIN:STANDARD
TZOFFSETFROM:-0400
TZOFFSETTO:-0500
TZNAME:EST
DTSTART:20271107T060000
END:STANDARD
END:VTIMEZONE
BEGIN:VEVENT
DTSTART;TZID=America/New_York:20260414T110000
DTEND;TZID=America/New_York:20260414T130000
DTSTAMP:20260417T063252
CREATED:20260202T073952Z
LAST-MODIFIED:20260202T073952Z
UID:10006027-1776164400-1776171600@theccbb.com
SUMMARY:KBA: Monthly Luncheon
DESCRIPTION:April Luncheon\n\n\nJoin the KBA for everyone’s favorite lunch when we will be celebrating the best and brightest students in Cobb County. \nMC: Mike Linch\, Pastor of NorthStar Church \n***Please register in advance to ensure our caters are properly prepared. \nSponsors: Cobb Coutny School District | Caterer: Adriene’s Delectables \n\n\n\nVenue\nGovernor’s Gun Club\n\n\nAddress\n1005 Cobb Place Blvd.KennesawGA30144\,US\n\n\nStarts\nTue Apr 14 2026\, 11:15am EDT\n\n\nEnds\nTue Apr 14 2026\, 11:30am EDT\n\n\n\n\n\n\n  \n  \nJoin us to hear from community\, state\, and nationally recognized government and business leaders as they share current and relevant information for doing business in Georgia. See lunch event dates below and mark your calendar! \nFor ticket costs and to become a member\, please visit: https://kennesawbusiness.org \n**PLEASE NOTE: If you choose not to register in advance\, you will pay $10 more at the door.
URL:https://theccbb.com/event/kba-monthly-luncheon-4/
LOCATION:Governor’s Gun Club\, 1005 Cobb Place Blvd\, Kennesaw\, Georgia\, 30144
CATEGORIES:Kennesaw Business Association
END:VEVENT
BEGIN:VEVENT
DTSTART;TZID=America/New_York:20260414T110000
DTEND;TZID=America/New_York:20260414T130000
DTSTAMP:20260417T063252
CREATED:20240806T185255Z
LAST-MODIFIED:20240806T185322Z
UID:10000910-1776164400-1776171600@theccbb.com
SUMMARY:KBA: Monthly Luncheon
DESCRIPTION:Join us to hear from community\, state\, and nationally recognized government and business leaders as they share current and relevant information for doing business in Georgia. See lunch event dates below and mark your calendar! \nFor ticket costs and to become a member\, please visit: https://kennesawbusiness.org \n**PLEASE NOTE: If you choose not to register in advance\, you will pay $10 more at the door.
URL:https://theccbb.com/event/kba-monthly-luncheon/2026-04-14/
LOCATION:KSU Professional Education Building\, 3333 Busbee Parkway\, Kennesaw\, GA\, 30144\, United States
CATEGORIES:Kennesaw Business Association
END:VEVENT
BEGIN:VEVENT
DTSTART;TZID=America/New_York:20260317T173000
DTEND;TZID=America/New_York:20260317T190000
DTSTAMP:20260417T063252
CREATED:20240806T190005Z
LAST-MODIFIED:20240806T190005Z
UID:10000969-1773768600-1773774000@theccbb.com
SUMMARY:KBA: Alive After 5
DESCRIPTION:Join us from 5:30 – 7:00 at various locations around town on the 3rd Tuesday of each month! Interact with business owners & various team members in a relaxed\, after hours setting with adult beverages & great food!  Networking and Nightlife!  \nFor ticket costs and to become a member\, please visit: https://kennesawbusiness.org
URL:https://theccbb.com/event/kba-alive-after-5/2026-03-17/
LOCATION:Georgia
CATEGORIES:Kennesaw Business Association
END:VEVENT
BEGIN:VEVENT
DTSTART;TZID=America/New_York:20260310T110000
DTEND;TZID=America/New_York:20260310T130000
DTSTAMP:20260417T063252
CREATED:20260202T073633Z
LAST-MODIFIED:20260202T073633Z
UID:10006026-1773140400-1773147600@theccbb.com
SUMMARY:KBA: Monthly Luncheon
DESCRIPTION:March Luncheon\n\n\nJoin the KBA for an informative lunch and networking. \nGuest Speaker: Melissa Cantrell\, CDH Architecture Partners CEO & Cobb Chamber of Commerce Chair \nSponsor: | Caterer: Carrabba’s \n***Please register in advance to ensure our caters are properly prepared. \n\n\n\nVenue\nGovernor’s Gun Club\n\n\nAddress\n1005 Cobb Place Blvd.KennesawGA30144\,US\n\n\nStarts\nTue Mar 10 2026\, 11:00am EDT\n\n\nEnds\nTue Mar 10 2026\, 1:00pm EDT\n\n\n\n\n\n  \n  \nJoin us to hear from community\, state\, and nationally recognized government and business leaders as they share current and relevant information for doing business in Georgia. See lunch event dates below and mark your calendar! \nFor ticket costs and to become a member\, please visit: https://kennesawbusiness.org \n**PLEASE NOTE: If you choose not to register in advance\, you will pay $10 more at the door.
URL:https://theccbb.com/event/kba-monthly-luncheon-3/
LOCATION:Governor’s Gun Club\, 1005 Cobb Place Blvd\, Kennesaw\, Georgia\, 30144
CATEGORIES:Kennesaw Business Association
END:VEVENT
BEGIN:VEVENT
DTSTART;TZID=America/New_York:20260310T110000
DTEND;TZID=America/New_York:20260310T130000
DTSTAMP:20260417T063252
CREATED:20240806T185255Z
LAST-MODIFIED:20240806T185322Z
UID:10000909-1773140400-1773147600@theccbb.com
SUMMARY:KBA: Monthly Luncheon
DESCRIPTION:Join us to hear from community\, state\, and nationally recognized government and business leaders as they share current and relevant information for doing business in Georgia. See lunch event dates below and mark your calendar! \nFor ticket costs and to become a member\, please visit: https://kennesawbusiness.org \n**PLEASE NOTE: If you choose not to register in advance\, you will pay $10 more at the door.
URL:https://theccbb.com/event/kba-monthly-luncheon/2026-03-10/
LOCATION:KSU Professional Education Building\, 3333 Busbee Parkway\, Kennesaw\, GA\, 30144\, United States
CATEGORIES:Kennesaw Business Association
END:VEVENT
BEGIN:VEVENT
DTSTART;TZID=America/New_York:20260217T173000
DTEND;TZID=America/New_York:20260217T190000
DTSTAMP:20260417T063252
CREATED:20240806T190005Z
LAST-MODIFIED:20240806T190005Z
UID:10000968-1771349400-1771354800@theccbb.com
SUMMARY:KBA: Alive After 5
DESCRIPTION:Join us from 5:30 – 7:00 at various locations around town on the 3rd Tuesday of each month! Interact with business owners & various team members in a relaxed\, after hours setting with adult beverages & great food!  Networking and Nightlife!  \nFor ticket costs and to become a member\, please visit: https://kennesawbusiness.org
URL:https://theccbb.com/event/kba-alive-after-5/2026-02-17/
LOCATION:Georgia
CATEGORIES:Kennesaw Business Association
END:VEVENT
BEGIN:VEVENT
DTSTART;TZID=America/New_York:20260210T110000
DTEND;TZID=America/New_York:20260210T130000
DTSTAMP:20260417T063252
CREATED:20240806T185255Z
LAST-MODIFIED:20240806T185322Z
UID:10000908-1770721200-1770728400@theccbb.com
SUMMARY:KBA: Monthly Luncheon
DESCRIPTION:Join us to hear from community\, state\, and nationally recognized government and business leaders as they share current and relevant information for doing business in Georgia. See lunch event dates below and mark your calendar! \nFor ticket costs and to become a member\, please visit: https://kennesawbusiness.org \n**PLEASE NOTE: If you choose not to register in advance\, you will pay $10 more at the door.
URL:https://theccbb.com/event/kba-monthly-luncheon/2026-02-10/
LOCATION:KSU Professional Education Building\, 3333 Busbee Parkway\, Kennesaw\, GA\, 30144\, United States
CATEGORIES:Kennesaw Business Association
END:VEVENT
BEGIN:VEVENT
DTSTART;TZID=America/New_York:20260120T173000
DTEND;TZID=America/New_York:20260120T190000
DTSTAMP:20260417T063252
CREATED:20240806T190005Z
LAST-MODIFIED:20240806T190005Z
UID:10000967-1768930200-1768935600@theccbb.com
SUMMARY:KBA: Alive After 5
DESCRIPTION:Join us from 5:30 – 7:00 at various locations around town on the 3rd Tuesday of each month! Interact with business owners & various team members in a relaxed\, after hours setting with adult beverages & great food!  Networking and Nightlife!  \nFor ticket costs and to become a member\, please visit: https://kennesawbusiness.org
URL:https://theccbb.com/event/kba-alive-after-5/2026-01-20/
LOCATION:Georgia
CATEGORIES:Kennesaw Business Association
END:VEVENT
END:VCALENDAR