BEGIN:VCALENDAR
VERSION:2.0
PRODID:-//Cobb County Business Bootcamp - ECPv6.15.18//NONSGML v1.0//EN
CALSCALE:GREGORIAN
METHOD:PUBLISH
X-ORIGINAL-URL:https://theccbb.com
X-WR-CALDESC:Events for Cobb County Business Bootcamp
REFRESH-INTERVAL;VALUE=DURATION:PT1H
X-Robots-Tag:noindex
X-PUBLISHED-TTL:PT1H
BEGIN:VTIMEZONE
TZID:America/New_York
BEGIN:DAYLIGHT
TZOFFSETFROM:-0500
TZOFFSETTO:-0400
TZNAME:EDT
DTSTART:20250309T070000
END:DAYLIGHT
BEGIN:STANDARD
TZOFFSETFROM:-0400
TZOFFSETTO:-0500
TZNAME:EST
DTSTART:20251102T060000
END:STANDARD
BEGIN:DAYLIGHT
TZOFFSETFROM:-0500
TZOFFSETTO:-0400
TZNAME:EDT
DTSTART:20260308T070000
END:DAYLIGHT
BEGIN:STANDARD
TZOFFSETFROM:-0400
TZOFFSETTO:-0500
TZNAME:EST
DTSTART:20261101T060000
END:STANDARD
BEGIN:DAYLIGHT
TZOFFSETFROM:-0500
TZOFFSETTO:-0400
TZNAME:EDT
DTSTART:20270314T070000
END:DAYLIGHT
BEGIN:STANDARD
TZOFFSETFROM:-0400
TZOFFSETTO:-0500
TZNAME:EST
DTSTART:20271107T060000
END:STANDARD
BEGIN:DAYLIGHT
TZOFFSETFROM:-0500
TZOFFSETTO:-0400
TZNAME:EDT
DTSTART:20280312T070000
END:DAYLIGHT
BEGIN:STANDARD
TZOFFSETFROM:-0400
TZOFFSETTO:-0500
TZNAME:EST
DTSTART:20281105T060000
END:STANDARD
END:VTIMEZONE
BEGIN:VEVENT
DTSTART;TZID=America/New_York:20261013T110000
DTEND;TZID=America/New_York:20261013T130000
DTSTAMP:20260419T214715
CREATED:20240806T185255Z
LAST-MODIFIED:20240806T185322Z
UID:10000916-1791889200-1791896400@theccbb.com
SUMMARY:KBA: Monthly Luncheon
DESCRIPTION:Join us to hear from community\, state\, and nationally recognized government and business leaders as they share current and relevant information for doing business in Georgia. See lunch event dates below and mark your calendar! \nFor ticket costs and to become a member\, please visit: https://kennesawbusiness.org \n**PLEASE NOTE: If you choose not to register in advance\, you will pay $10 more at the door.
URL:https://theccbb.com/event/kba-monthly-luncheon/2026-10-13/
LOCATION:KSU Professional Education Building\, 3333 Busbee Parkway\, Kennesaw\, GA\, 30144\, United States
CATEGORIES:Kennesaw Business Association
END:VEVENT
BEGIN:VEVENT
DTSTART;TZID=America/New_York:20261020T173000
DTEND;TZID=America/New_York:20261020T190000
DTSTAMP:20260419T214715
CREATED:20240806T190005Z
LAST-MODIFIED:20240806T190005Z
UID:10000976-1792517400-1792522800@theccbb.com
SUMMARY:KBA: Alive After 5
DESCRIPTION:Join us from 5:30 – 7:00 at various locations around town on the 3rd Tuesday of each month! Interact with business owners & various team members in a relaxed\, after hours setting with adult beverages & great food!  Networking and Nightlife!  \nFor ticket costs and to become a member\, please visit: https://kennesawbusiness.org
URL:https://theccbb.com/event/kba-alive-after-5/2026-10-20/
CATEGORIES:Kennesaw Business Association
END:VEVENT
BEGIN:VEVENT
DTSTART;TZID=America/New_York:20261110T110000
DTEND;TZID=America/New_York:20261110T130000
DTSTAMP:20260419T214715
CREATED:20240806T185255Z
LAST-MODIFIED:20240806T185322Z
UID:10000917-1794308400-1794315600@theccbb.com
SUMMARY:KBA: Monthly Luncheon
DESCRIPTION:Join us to hear from community\, state\, and nationally recognized government and business leaders as they share current and relevant information for doing business in Georgia. See lunch event dates below and mark your calendar! \nFor ticket costs and to become a member\, please visit: https://kennesawbusiness.org \n**PLEASE NOTE: If you choose not to register in advance\, you will pay $10 more at the door.
URL:https://theccbb.com/event/kba-monthly-luncheon/2026-11-10/
LOCATION:KSU Professional Education Building\, 3333 Busbee Parkway\, Kennesaw\, GA\, 30144\, United States
CATEGORIES:Kennesaw Business Association
END:VEVENT
BEGIN:VEVENT
DTSTART;TZID=America/New_York:20261117T173000
DTEND;TZID=America/New_York:20261117T190000
DTSTAMP:20260419T214715
CREATED:20240806T190005Z
LAST-MODIFIED:20240806T190005Z
UID:10000977-1794936600-1794942000@theccbb.com
SUMMARY:KBA: Alive After 5
DESCRIPTION:Join us from 5:30 – 7:00 at various locations around town on the 3rd Tuesday of each month! Interact with business owners & various team members in a relaxed\, after hours setting with adult beverages & great food!  Networking and Nightlife!  \nFor ticket costs and to become a member\, please visit: https://kennesawbusiness.org
URL:https://theccbb.com/event/kba-alive-after-5/2026-11-17/
CATEGORIES:Kennesaw Business Association
END:VEVENT
BEGIN:VEVENT
DTSTART;TZID=America/New_York:20261208T110000
DTEND;TZID=America/New_York:20261208T130000
DTSTAMP:20260419T214715
CREATED:20240806T185255Z
LAST-MODIFIED:20240806T185322Z
UID:10000918-1796727600-1796734800@theccbb.com
SUMMARY:KBA: Monthly Luncheon
DESCRIPTION:Join us to hear from community\, state\, and nationally recognized government and business leaders as they share current and relevant information for doing business in Georgia. See lunch event dates below and mark your calendar! \nFor ticket costs and to become a member\, please visit: https://kennesawbusiness.org \n**PLEASE NOTE: If you choose not to register in advance\, you will pay $10 more at the door.
URL:https://theccbb.com/event/kba-monthly-luncheon/2026-12-08/
LOCATION:KSU Professional Education Building\, 3333 Busbee Parkway\, Kennesaw\, GA\, 30144\, United States
CATEGORIES:Kennesaw Business Association
END:VEVENT
BEGIN:VEVENT
DTSTART;TZID=America/New_York:20261215T173000
DTEND;TZID=America/New_York:20261215T190000
DTSTAMP:20260419T214715
CREATED:20240806T190005Z
LAST-MODIFIED:20240806T190005Z
UID:10000978-1797355800-1797361200@theccbb.com
SUMMARY:KBA: Alive After 5
DESCRIPTION:Join us from 5:30 – 7:00 at various locations around town on the 3rd Tuesday of each month! Interact with business owners & various team members in a relaxed\, after hours setting with adult beverages & great food!  Networking and Nightlife!  \nFor ticket costs and to become a member\, please visit: https://kennesawbusiness.org
URL:https://theccbb.com/event/kba-alive-after-5/2026-12-15/
CATEGORIES:Kennesaw Business Association
END:VEVENT
BEGIN:VEVENT
DTSTART;TZID=America/New_York:20270112T110000
DTEND;TZID=America/New_York:20270112T130000
DTSTAMP:20260419T214715
CREATED:20240806T185255Z
LAST-MODIFIED:20240806T185322Z
UID:10000919-1799751600-1799758800@theccbb.com
SUMMARY:KBA: Monthly Luncheon
DESCRIPTION:Join us to hear from community\, state\, and nationally recognized government and business leaders as they share current and relevant information for doing business in Georgia. See lunch event dates below and mark your calendar! \nFor ticket costs and to become a member\, please visit: https://kennesawbusiness.org \n**PLEASE NOTE: If you choose not to register in advance\, you will pay $10 more at the door.
URL:https://theccbb.com/event/kba-monthly-luncheon/2027-01-12/
LOCATION:KSU Professional Education Building\, 3333 Busbee Parkway\, Kennesaw\, GA\, 30144\, United States
CATEGORIES:Kennesaw Business Association
END:VEVENT
BEGIN:VEVENT
DTSTART;TZID=America/New_York:20270119T173000
DTEND;TZID=America/New_York:20270119T190000
DTSTAMP:20260419T214715
CREATED:20240806T190005Z
LAST-MODIFIED:20240806T190005Z
UID:10000979-1800379800-1800385200@theccbb.com
SUMMARY:KBA: Alive After 5
DESCRIPTION:Join us from 5:30 – 7:00 at various locations around town on the 3rd Tuesday of each month! Interact with business owners & various team members in a relaxed\, after hours setting with adult beverages & great food!  Networking and Nightlife!  \nFor ticket costs and to become a member\, please visit: https://kennesawbusiness.org
URL:https://theccbb.com/event/kba-alive-after-5/2027-01-19/
CATEGORIES:Kennesaw Business Association
END:VEVENT
BEGIN:VEVENT
DTSTART;TZID=America/New_York:20270209T110000
DTEND;TZID=America/New_York:20270209T130000
DTSTAMP:20260419T214715
CREATED:20240806T185255Z
LAST-MODIFIED:20240806T185322Z
UID:10000920-1802170800-1802178000@theccbb.com
SUMMARY:KBA: Monthly Luncheon
DESCRIPTION:Join us to hear from community\, state\, and nationally recognized government and business leaders as they share current and relevant information for doing business in Georgia. See lunch event dates below and mark your calendar! \nFor ticket costs and to become a member\, please visit: https://kennesawbusiness.org \n**PLEASE NOTE: If you choose not to register in advance\, you will pay $10 more at the door.
URL:https://theccbb.com/event/kba-monthly-luncheon/2027-02-09/
LOCATION:KSU Professional Education Building\, 3333 Busbee Parkway\, Kennesaw\, GA\, 30144\, United States
CATEGORIES:Kennesaw Business Association
END:VEVENT
BEGIN:VEVENT
DTSTART;TZID=America/New_York:20270216T173000
DTEND;TZID=America/New_York:20270216T190000
DTSTAMP:20260419T214715
CREATED:20240806T190005Z
LAST-MODIFIED:20240806T190005Z
UID:10000980-1802799000-1802804400@theccbb.com
SUMMARY:KBA: Alive After 5
DESCRIPTION:Join us from 5:30 – 7:00 at various locations around town on the 3rd Tuesday of each month! Interact with business owners & various team members in a relaxed\, after hours setting with adult beverages & great food!  Networking and Nightlife!  \nFor ticket costs and to become a member\, please visit: https://kennesawbusiness.org
URL:https://theccbb.com/event/kba-alive-after-5/2027-02-16/
CATEGORIES:Kennesaw Business Association
END:VEVENT
BEGIN:VEVENT
DTSTART;TZID=America/New_York:20270309T110000
DTEND;TZID=America/New_York:20270309T130000
DTSTAMP:20260419T214715
CREATED:20240806T185255Z
LAST-MODIFIED:20240806T185322Z
UID:10000921-1804590000-1804597200@theccbb.com
SUMMARY:KBA: Monthly Luncheon
DESCRIPTION:Join us to hear from community\, state\, and nationally recognized government and business leaders as they share current and relevant information for doing business in Georgia. See lunch event dates below and mark your calendar! \nFor ticket costs and to become a member\, please visit: https://kennesawbusiness.org \n**PLEASE NOTE: If you choose not to register in advance\, you will pay $10 more at the door.
URL:https://theccbb.com/event/kba-monthly-luncheon/2027-03-09/
LOCATION:KSU Professional Education Building\, 3333 Busbee Parkway\, Kennesaw\, GA\, 30144\, United States
CATEGORIES:Kennesaw Business Association
END:VEVENT
BEGIN:VEVENT
DTSTART;TZID=America/New_York:20270316T173000
DTEND;TZID=America/New_York:20270316T190000
DTSTAMP:20260419T214715
CREATED:20240806T190005Z
LAST-MODIFIED:20240806T190005Z
UID:10000981-1805218200-1805223600@theccbb.com
SUMMARY:KBA: Alive After 5
DESCRIPTION:Join us from 5:30 – 7:00 at various locations around town on the 3rd Tuesday of each month! Interact with business owners & various team members in a relaxed\, after hours setting with adult beverages & great food!  Networking and Nightlife!  \nFor ticket costs and to become a member\, please visit: https://kennesawbusiness.org
URL:https://theccbb.com/event/kba-alive-after-5/2027-03-16/
CATEGORIES:Kennesaw Business Association
END:VEVENT
BEGIN:VEVENT
DTSTART;TZID=America/New_York:20270413T110000
DTEND;TZID=America/New_York:20270413T130000
DTSTAMP:20260419T214715
CREATED:20240806T185255Z
LAST-MODIFIED:20240806T185322Z
UID:10000922-1807614000-1807621200@theccbb.com
SUMMARY:KBA: Monthly Luncheon
DESCRIPTION:Join us to hear from community\, state\, and nationally recognized government and business leaders as they share current and relevant information for doing business in Georgia. See lunch event dates below and mark your calendar! \nFor ticket costs and to become a member\, please visit: https://kennesawbusiness.org \n**PLEASE NOTE: If you choose not to register in advance\, you will pay $10 more at the door.
URL:https://theccbb.com/event/kba-monthly-luncheon/2027-04-13/
LOCATION:KSU Professional Education Building\, 3333 Busbee Parkway\, Kennesaw\, GA\, 30144\, United States
CATEGORIES:Kennesaw Business Association
END:VEVENT
BEGIN:VEVENT
DTSTART;TZID=America/New_York:20270420T173000
DTEND;TZID=America/New_York:20270420T190000
DTSTAMP:20260419T214715
CREATED:20240806T190005Z
LAST-MODIFIED:20240806T190005Z
UID:10000982-1808242200-1808247600@theccbb.com
SUMMARY:KBA: Alive After 5
DESCRIPTION:Join us from 5:30 – 7:00 at various locations around town on the 3rd Tuesday of each month! Interact with business owners & various team members in a relaxed\, after hours setting with adult beverages & great food!  Networking and Nightlife!  \nFor ticket costs and to become a member\, please visit: https://kennesawbusiness.org
URL:https://theccbb.com/event/kba-alive-after-5/2027-04-20/
CATEGORIES:Kennesaw Business Association
END:VEVENT
BEGIN:VEVENT
DTSTART;TZID=America/New_York:20270511T110000
DTEND;TZID=America/New_York:20270511T130000
DTSTAMP:20260419T214715
CREATED:20240806T185255Z
LAST-MODIFIED:20240806T185322Z
UID:10000923-1810033200-1810040400@theccbb.com
SUMMARY:KBA: Monthly Luncheon
DESCRIPTION:Join us to hear from community\, state\, and nationally recognized government and business leaders as they share current and relevant information for doing business in Georgia. See lunch event dates below and mark your calendar! \nFor ticket costs and to become a member\, please visit: https://kennesawbusiness.org \n**PLEASE NOTE: If you choose not to register in advance\, you will pay $10 more at the door.
URL:https://theccbb.com/event/kba-monthly-luncheon/2027-05-11/
LOCATION:KSU Professional Education Building\, 3333 Busbee Parkway\, Kennesaw\, GA\, 30144\, United States
CATEGORIES:Kennesaw Business Association
END:VEVENT
BEGIN:VEVENT
DTSTART;TZID=America/New_York:20270518T173000
DTEND;TZID=America/New_York:20270518T190000
DTSTAMP:20260419T214715
CREATED:20240806T190005Z
LAST-MODIFIED:20240806T190005Z
UID:10000983-1810661400-1810666800@theccbb.com
SUMMARY:KBA: Alive After 5
DESCRIPTION:Join us from 5:30 – 7:00 at various locations around town on the 3rd Tuesday of each month! Interact with business owners & various team members in a relaxed\, after hours setting with adult beverages & great food!  Networking and Nightlife!  \nFor ticket costs and to become a member\, please visit: https://kennesawbusiness.org
URL:https://theccbb.com/event/kba-alive-after-5/2027-05-18/
CATEGORIES:Kennesaw Business Association
END:VEVENT
BEGIN:VEVENT
DTSTART;TZID=America/New_York:20270608T110000
DTEND;TZID=America/New_York:20270608T130000
DTSTAMP:20260419T214715
CREATED:20240806T185255Z
LAST-MODIFIED:20240806T185322Z
UID:10000924-1812452400-1812459600@theccbb.com
SUMMARY:KBA: Monthly Luncheon
DESCRIPTION:Join us to hear from community\, state\, and nationally recognized government and business leaders as they share current and relevant information for doing business in Georgia. See lunch event dates below and mark your calendar! \nFor ticket costs and to become a member\, please visit: https://kennesawbusiness.org \n**PLEASE NOTE: If you choose not to register in advance\, you will pay $10 more at the door.
URL:https://theccbb.com/event/kba-monthly-luncheon/2027-06-08/
LOCATION:KSU Professional Education Building\, 3333 Busbee Parkway\, Kennesaw\, GA\, 30144\, United States
CATEGORIES:Kennesaw Business Association
END:VEVENT
BEGIN:VEVENT
DTSTART;TZID=America/New_York:20270615T173000
DTEND;TZID=America/New_York:20270615T190000
DTSTAMP:20260419T214715
CREATED:20240806T190005Z
LAST-MODIFIED:20240806T190005Z
UID:10000984-1813080600-1813086000@theccbb.com
SUMMARY:KBA: Alive After 5
DESCRIPTION:Join us from 5:30 – 7:00 at various locations around town on the 3rd Tuesday of each month! Interact with business owners & various team members in a relaxed\, after hours setting with adult beverages & great food!  Networking and Nightlife!  \nFor ticket costs and to become a member\, please visit: https://kennesawbusiness.org
URL:https://theccbb.com/event/kba-alive-after-5/2027-06-15/
CATEGORIES:Kennesaw Business Association
END:VEVENT
BEGIN:VEVENT
DTSTART;TZID=America/New_York:20270713T110000
DTEND;TZID=America/New_York:20270713T130000
DTSTAMP:20260419T214715
CREATED:20240806T185255Z
LAST-MODIFIED:20240806T185322Z
UID:10000925-1815476400-1815483600@theccbb.com
SUMMARY:KBA: Monthly Luncheon
DESCRIPTION:Join us to hear from community\, state\, and nationally recognized government and business leaders as they share current and relevant information for doing business in Georgia. See lunch event dates below and mark your calendar! \nFor ticket costs and to become a member\, please visit: https://kennesawbusiness.org \n**PLEASE NOTE: If you choose not to register in advance\, you will pay $10 more at the door.
URL:https://theccbb.com/event/kba-monthly-luncheon/2027-07-13/
LOCATION:KSU Professional Education Building\, 3333 Busbee Parkway\, Kennesaw\, GA\, 30144\, United States
CATEGORIES:Kennesaw Business Association
END:VEVENT
BEGIN:VEVENT
DTSTART;TZID=America/New_York:20270720T173000
DTEND;TZID=America/New_York:20270720T190000
DTSTAMP:20260419T214715
CREATED:20240806T190005Z
LAST-MODIFIED:20240806T190005Z
UID:10000985-1816104600-1816110000@theccbb.com
SUMMARY:KBA: Alive After 5
DESCRIPTION:Join us from 5:30 – 7:00 at various locations around town on the 3rd Tuesday of each month! Interact with business owners & various team members in a relaxed\, after hours setting with adult beverages & great food!  Networking and Nightlife!  \nFor ticket costs and to become a member\, please visit: https://kennesawbusiness.org
URL:https://theccbb.com/event/kba-alive-after-5/2027-07-20/
CATEGORIES:Kennesaw Business Association
END:VEVENT
BEGIN:VEVENT
DTSTART;TZID=America/New_York:20270810T110000
DTEND;TZID=America/New_York:20270810T130000
DTSTAMP:20260419T214715
CREATED:20240806T185255Z
LAST-MODIFIED:20240806T185322Z
UID:10000926-1817895600-1817902800@theccbb.com
SUMMARY:KBA: Monthly Luncheon
DESCRIPTION:Join us to hear from community\, state\, and nationally recognized government and business leaders as they share current and relevant information for doing business in Georgia. See lunch event dates below and mark your calendar! \nFor ticket costs and to become a member\, please visit: https://kennesawbusiness.org \n**PLEASE NOTE: If you choose not to register in advance\, you will pay $10 more at the door.
URL:https://theccbb.com/event/kba-monthly-luncheon/2027-08-10/
LOCATION:KSU Professional Education Building\, 3333 Busbee Parkway\, Kennesaw\, GA\, 30144\, United States
CATEGORIES:Kennesaw Business Association
END:VEVENT
BEGIN:VEVENT
DTSTART;TZID=America/New_York:20270817T173000
DTEND;TZID=America/New_York:20270817T190000
DTSTAMP:20260419T214715
CREATED:20240806T190005Z
LAST-MODIFIED:20240806T190005Z
UID:10000986-1818523800-1818529200@theccbb.com
SUMMARY:KBA: Alive After 5
DESCRIPTION:Join us from 5:30 – 7:00 at various locations around town on the 3rd Tuesday of each month! Interact with business owners & various team members in a relaxed\, after hours setting with adult beverages & great food!  Networking and Nightlife!  \nFor ticket costs and to become a member\, please visit: https://kennesawbusiness.org
URL:https://theccbb.com/event/kba-alive-after-5/2027-08-17/
CATEGORIES:Kennesaw Business Association
END:VEVENT
BEGIN:VEVENT
DTSTART;TZID=America/New_York:20270914T110000
DTEND;TZID=America/New_York:20270914T130000
DTSTAMP:20260419T214715
CREATED:20240806T185255Z
LAST-MODIFIED:20240806T185322Z
UID:10000927-1820919600-1820926800@theccbb.com
SUMMARY:KBA: Monthly Luncheon
DESCRIPTION:Join us to hear from community\, state\, and nationally recognized government and business leaders as they share current and relevant information for doing business in Georgia. See lunch event dates below and mark your calendar! \nFor ticket costs and to become a member\, please visit: https://kennesawbusiness.org \n**PLEASE NOTE: If you choose not to register in advance\, you will pay $10 more at the door.
URL:https://theccbb.com/event/kba-monthly-luncheon/2027-09-14/
LOCATION:KSU Professional Education Building\, 3333 Busbee Parkway\, Kennesaw\, GA\, 30144\, United States
CATEGORIES:Kennesaw Business Association
END:VEVENT
BEGIN:VEVENT
DTSTART;TZID=America/New_York:20270921T173000
DTEND;TZID=America/New_York:20270921T190000
DTSTAMP:20260419T214715
CREATED:20240806T190005Z
LAST-MODIFIED:20240806T190005Z
UID:10000987-1821547800-1821553200@theccbb.com
SUMMARY:KBA: Alive After 5
DESCRIPTION:Join us from 5:30 – 7:00 at various locations around town on the 3rd Tuesday of each month! Interact with business owners & various team members in a relaxed\, after hours setting with adult beverages & great food!  Networking and Nightlife!  \nFor ticket costs and to become a member\, please visit: https://kennesawbusiness.org
URL:https://theccbb.com/event/kba-alive-after-5/2027-09-21/
CATEGORIES:Kennesaw Business Association
END:VEVENT
BEGIN:VEVENT
DTSTART;TZID=America/New_York:20271012T110000
DTEND;TZID=America/New_York:20271012T130000
DTSTAMP:20260419T214715
CREATED:20240806T185255Z
LAST-MODIFIED:20240806T185322Z
UID:10000928-1823338800-1823346000@theccbb.com
SUMMARY:KBA: Monthly Luncheon
DESCRIPTION:Join us to hear from community\, state\, and nationally recognized government and business leaders as they share current and relevant information for doing business in Georgia. See lunch event dates below and mark your calendar! \nFor ticket costs and to become a member\, please visit: https://kennesawbusiness.org \n**PLEASE NOTE: If you choose not to register in advance\, you will pay $10 more at the door.
URL:https://theccbb.com/event/kba-monthly-luncheon/2027-10-12/
LOCATION:KSU Professional Education Building\, 3333 Busbee Parkway\, Kennesaw\, GA\, 30144\, United States
CATEGORIES:Kennesaw Business Association
END:VEVENT
BEGIN:VEVENT
DTSTART;TZID=America/New_York:20271019T173000
DTEND;TZID=America/New_York:20271019T190000
DTSTAMP:20260419T214715
CREATED:20240806T190005Z
LAST-MODIFIED:20240806T190005Z
UID:10000988-1823967000-1823972400@theccbb.com
SUMMARY:KBA: Alive After 5
DESCRIPTION:Join us from 5:30 – 7:00 at various locations around town on the 3rd Tuesday of each month! Interact with business owners & various team members in a relaxed\, after hours setting with adult beverages & great food!  Networking and Nightlife!  \nFor ticket costs and to become a member\, please visit: https://kennesawbusiness.org
URL:https://theccbb.com/event/kba-alive-after-5/2027-10-19/
CATEGORIES:Kennesaw Business Association
END:VEVENT
BEGIN:VEVENT
DTSTART;TZID=America/New_York:20271109T110000
DTEND;TZID=America/New_York:20271109T130000
DTSTAMP:20260419T214715
CREATED:20240806T185255Z
LAST-MODIFIED:20240806T185322Z
UID:10000929-1825758000-1825765200@theccbb.com
SUMMARY:KBA: Monthly Luncheon
DESCRIPTION:Join us to hear from community\, state\, and nationally recognized government and business leaders as they share current and relevant information for doing business in Georgia. See lunch event dates below and mark your calendar! \nFor ticket costs and to become a member\, please visit: https://kennesawbusiness.org \n**PLEASE NOTE: If you choose not to register in advance\, you will pay $10 more at the door.
URL:https://theccbb.com/event/kba-monthly-luncheon/2027-11-09/
LOCATION:KSU Professional Education Building\, 3333 Busbee Parkway\, Kennesaw\, GA\, 30144\, United States
CATEGORIES:Kennesaw Business Association
END:VEVENT
BEGIN:VEVENT
DTSTART;TZID=America/New_York:20271116T173000
DTEND;TZID=America/New_York:20271116T190000
DTSTAMP:20260419T214715
CREATED:20240806T190005Z
LAST-MODIFIED:20240806T190005Z
UID:10000989-1826386200-1826391600@theccbb.com
SUMMARY:KBA: Alive After 5
DESCRIPTION:Join us from 5:30 – 7:00 at various locations around town on the 3rd Tuesday of each month! Interact with business owners & various team members in a relaxed\, after hours setting with adult beverages & great food!  Networking and Nightlife!  \nFor ticket costs and to become a member\, please visit: https://kennesawbusiness.org
URL:https://theccbb.com/event/kba-alive-after-5/2027-11-16/
CATEGORIES:Kennesaw Business Association
END:VEVENT
BEGIN:VEVENT
DTSTART;TZID=America/New_York:20271214T110000
DTEND;TZID=America/New_York:20271214T130000
DTSTAMP:20260419T214715
CREATED:20240806T185255Z
LAST-MODIFIED:20240806T185322Z
UID:10000930-1828782000-1828789200@theccbb.com
SUMMARY:KBA: Monthly Luncheon
DESCRIPTION:Join us to hear from community\, state\, and nationally recognized government and business leaders as they share current and relevant information for doing business in Georgia. See lunch event dates below and mark your calendar! \nFor ticket costs and to become a member\, please visit: https://kennesawbusiness.org \n**PLEASE NOTE: If you choose not to register in advance\, you will pay $10 more at the door.
URL:https://theccbb.com/event/kba-monthly-luncheon/2027-12-14/
LOCATION:KSU Professional Education Building\, 3333 Busbee Parkway\, Kennesaw\, GA\, 30144\, United States
CATEGORIES:Kennesaw Business Association
END:VEVENT
BEGIN:VEVENT
DTSTART;TZID=America/New_York:20271221T173000
DTEND;TZID=America/New_York:20271221T190000
DTSTAMP:20260419T214715
CREATED:20240806T190005Z
LAST-MODIFIED:20240806T190005Z
UID:10000990-1829410200-1829415600@theccbb.com
SUMMARY:KBA: Alive After 5
DESCRIPTION:Join us from 5:30 – 7:00 at various locations around town on the 3rd Tuesday of each month! Interact with business owners & various team members in a relaxed\, after hours setting with adult beverages & great food!  Networking and Nightlife!  \nFor ticket costs and to become a member\, please visit: https://kennesawbusiness.org
URL:https://theccbb.com/event/kba-alive-after-5/2027-12-21/
CATEGORIES:Kennesaw Business Association
END:VEVENT
END:VCALENDAR