BEGIN:VCALENDAR
VERSION:2.0
PRODID:-//Cobb County Business Bootcamp - ECPv6.15.18//NONSGML v1.0//EN
CALSCALE:GREGORIAN
METHOD:PUBLISH
X-WR-CALNAME:Cobb County Business Bootcamp
X-ORIGINAL-URL:https://theccbb.com
X-WR-CALDESC:Events for Cobb County Business Bootcamp
REFRESH-INTERVAL;VALUE=DURATION:PT1H
X-Robots-Tag:noindex
X-PUBLISHED-TTL:PT1H
BEGIN:VTIMEZONE
TZID:America/New_York
BEGIN:DAYLIGHT
TZOFFSETFROM:-0500
TZOFFSETTO:-0400
TZNAME:EDT
DTSTART:20270314T070000
END:DAYLIGHT
BEGIN:STANDARD
TZOFFSETFROM:-0400
TZOFFSETTO:-0500
TZNAME:EST
DTSTART:20271107T060000
END:STANDARD
BEGIN:DAYLIGHT
TZOFFSETFROM:-0500
TZOFFSETTO:-0400
TZNAME:EDT
DTSTART:20280312T070000
END:DAYLIGHT
BEGIN:STANDARD
TZOFFSETFROM:-0400
TZOFFSETTO:-0500
TZNAME:EST
DTSTART:20281105T060000
END:STANDARD
BEGIN:DAYLIGHT
TZOFFSETFROM:-0500
TZOFFSETTO:-0400
TZNAME:EDT
DTSTART:20290311T070000
END:DAYLIGHT
BEGIN:STANDARD
TZOFFSETFROM:-0400
TZOFFSETTO:-0500
TZNAME:EST
DTSTART:20291104T060000
END:STANDARD
BEGIN:DAYLIGHT
TZOFFSETFROM:-0500
TZOFFSETTO:-0400
TZNAME:EDT
DTSTART:20300310T070000
END:DAYLIGHT
BEGIN:STANDARD
TZOFFSETFROM:-0400
TZOFFSETTO:-0500
TZNAME:EST
DTSTART:20301103T060000
END:STANDARD
END:VTIMEZONE
BEGIN:VEVENT
DTSTART;TZID=America/New_York:20280111T110000
DTEND;TZID=America/New_York:20280111T130000
DTSTAMP:20260420T011705
CREATED:20240806T185255Z
LAST-MODIFIED:20240806T185322Z
UID:10000931-1831201200-1831208400@theccbb.com
SUMMARY:KBA: Monthly Luncheon
DESCRIPTION:Join us to hear from community\, state\, and nationally recognized government and business leaders as they share current and relevant information for doing business in Georgia. See lunch event dates below and mark your calendar! \nFor ticket costs and to become a member\, please visit: https://kennesawbusiness.org \n**PLEASE NOTE: If you choose not to register in advance\, you will pay $10 more at the door.
URL:https://theccbb.com/event/kba-monthly-luncheon/2028-01-11/
LOCATION:KSU Professional Education Building\, 3333 Busbee Parkway\, Kennesaw\, GA\, 30144\, United States
CATEGORIES:Kennesaw Business Association
END:VEVENT
BEGIN:VEVENT
DTSTART;TZID=America/New_York:20280118T173000
DTEND;TZID=America/New_York:20280118T190000
DTSTAMP:20260420T011705
CREATED:20240806T190005Z
LAST-MODIFIED:20240806T190005Z
UID:10000991-1831829400-1831834800@theccbb.com
SUMMARY:KBA: Alive After 5
DESCRIPTION:Join us from 5:30 – 7:00 at various locations around town on the 3rd Tuesday of each month! Interact with business owners & various team members in a relaxed\, after hours setting with adult beverages & great food!  Networking and Nightlife!  \nFor ticket costs and to become a member\, please visit: https://kennesawbusiness.org
URL:https://theccbb.com/event/kba-alive-after-5/2028-01-18/
CATEGORIES:Kennesaw Business Association
END:VEVENT
BEGIN:VEVENT
DTSTART;TZID=America/New_York:20280208T110000
DTEND;TZID=America/New_York:20280208T130000
DTSTAMP:20260420T011705
CREATED:20240806T185255Z
LAST-MODIFIED:20240806T185322Z
UID:10000932-1833620400-1833627600@theccbb.com
SUMMARY:KBA: Monthly Luncheon
DESCRIPTION:Join us to hear from community\, state\, and nationally recognized government and business leaders as they share current and relevant information for doing business in Georgia. See lunch event dates below and mark your calendar! \nFor ticket costs and to become a member\, please visit: https://kennesawbusiness.org \n**PLEASE NOTE: If you choose not to register in advance\, you will pay $10 more at the door.
URL:https://theccbb.com/event/kba-monthly-luncheon/2028-02-08/
LOCATION:KSU Professional Education Building\, 3333 Busbee Parkway\, Kennesaw\, GA\, 30144\, United States
CATEGORIES:Kennesaw Business Association
END:VEVENT
BEGIN:VEVENT
DTSTART;TZID=America/New_York:20280215T173000
DTEND;TZID=America/New_York:20280215T190000
DTSTAMP:20260420T011705
CREATED:20240806T190005Z
LAST-MODIFIED:20240806T190005Z
UID:10000992-1834248600-1834254000@theccbb.com
SUMMARY:KBA: Alive After 5
DESCRIPTION:Join us from 5:30 – 7:00 at various locations around town on the 3rd Tuesday of each month! Interact with business owners & various team members in a relaxed\, after hours setting with adult beverages & great food!  Networking and Nightlife!  \nFor ticket costs and to become a member\, please visit: https://kennesawbusiness.org
URL:https://theccbb.com/event/kba-alive-after-5/2028-02-15/
CATEGORIES:Kennesaw Business Association
END:VEVENT
BEGIN:VEVENT
DTSTART;TZID=America/New_York:20280314T110000
DTEND;TZID=America/New_York:20280314T130000
DTSTAMP:20260420T011705
CREATED:20240806T185255Z
LAST-MODIFIED:20240806T185322Z
UID:10000933-1836644400-1836651600@theccbb.com
SUMMARY:KBA: Monthly Luncheon
DESCRIPTION:Join us to hear from community\, state\, and nationally recognized government and business leaders as they share current and relevant information for doing business in Georgia. See lunch event dates below and mark your calendar! \nFor ticket costs and to become a member\, please visit: https://kennesawbusiness.org \n**PLEASE NOTE: If you choose not to register in advance\, you will pay $10 more at the door.
URL:https://theccbb.com/event/kba-monthly-luncheon/2028-03-14/
LOCATION:KSU Professional Education Building\, 3333 Busbee Parkway\, Kennesaw\, GA\, 30144\, United States
CATEGORIES:Kennesaw Business Association
END:VEVENT
BEGIN:VEVENT
DTSTART;TZID=America/New_York:20280321T173000
DTEND;TZID=America/New_York:20280321T190000
DTSTAMP:20260420T011705
CREATED:20240806T190005Z
LAST-MODIFIED:20240806T190005Z
UID:10000993-1837272600-1837278000@theccbb.com
SUMMARY:KBA: Alive After 5
DESCRIPTION:Join us from 5:30 – 7:00 at various locations around town on the 3rd Tuesday of each month! Interact with business owners & various team members in a relaxed\, after hours setting with adult beverages & great food!  Networking and Nightlife!  \nFor ticket costs and to become a member\, please visit: https://kennesawbusiness.org
URL:https://theccbb.com/event/kba-alive-after-5/2028-03-21/
CATEGORIES:Kennesaw Business Association
END:VEVENT
BEGIN:VEVENT
DTSTART;TZID=America/New_York:20280411T110000
DTEND;TZID=America/New_York:20280411T130000
DTSTAMP:20260420T011705
CREATED:20240806T185255Z
LAST-MODIFIED:20240806T185322Z
UID:10000934-1839063600-1839070800@theccbb.com
SUMMARY:KBA: Monthly Luncheon
DESCRIPTION:Join us to hear from community\, state\, and nationally recognized government and business leaders as they share current and relevant information for doing business in Georgia. See lunch event dates below and mark your calendar! \nFor ticket costs and to become a member\, please visit: https://kennesawbusiness.org \n**PLEASE NOTE: If you choose not to register in advance\, you will pay $10 more at the door.
URL:https://theccbb.com/event/kba-monthly-luncheon/2028-04-11/
LOCATION:KSU Professional Education Building\, 3333 Busbee Parkway\, Kennesaw\, GA\, 30144\, United States
CATEGORIES:Kennesaw Business Association
END:VEVENT
BEGIN:VEVENT
DTSTART;TZID=America/New_York:20280418T173000
DTEND;TZID=America/New_York:20280418T190000
DTSTAMP:20260420T011705
CREATED:20240806T190005Z
LAST-MODIFIED:20240806T190005Z
UID:10000994-1839691800-1839697200@theccbb.com
SUMMARY:KBA: Alive After 5
DESCRIPTION:Join us from 5:30 – 7:00 at various locations around town on the 3rd Tuesday of each month! Interact with business owners & various team members in a relaxed\, after hours setting with adult beverages & great food!  Networking and Nightlife!  \nFor ticket costs and to become a member\, please visit: https://kennesawbusiness.org
URL:https://theccbb.com/event/kba-alive-after-5/2028-04-18/
CATEGORIES:Kennesaw Business Association
END:VEVENT
BEGIN:VEVENT
DTSTART;TZID=America/New_York:20280509T110000
DTEND;TZID=America/New_York:20280509T130000
DTSTAMP:20260420T011705
CREATED:20240806T185255Z
LAST-MODIFIED:20240806T185322Z
UID:10000935-1841482800-1841490000@theccbb.com
SUMMARY:KBA: Monthly Luncheon
DESCRIPTION:Join us to hear from community\, state\, and nationally recognized government and business leaders as they share current and relevant information for doing business in Georgia. See lunch event dates below and mark your calendar! \nFor ticket costs and to become a member\, please visit: https://kennesawbusiness.org \n**PLEASE NOTE: If you choose not to register in advance\, you will pay $10 more at the door.
URL:https://theccbb.com/event/kba-monthly-luncheon/2028-05-09/
LOCATION:KSU Professional Education Building\, 3333 Busbee Parkway\, Kennesaw\, GA\, 30144\, United States
CATEGORIES:Kennesaw Business Association
END:VEVENT
BEGIN:VEVENT
DTSTART;TZID=America/New_York:20280516T173000
DTEND;TZID=America/New_York:20280516T190000
DTSTAMP:20260420T011705
CREATED:20240806T190005Z
LAST-MODIFIED:20240806T190005Z
UID:10000995-1842111000-1842116400@theccbb.com
SUMMARY:KBA: Alive After 5
DESCRIPTION:Join us from 5:30 – 7:00 at various locations around town on the 3rd Tuesday of each month! Interact with business owners & various team members in a relaxed\, after hours setting with adult beverages & great food!  Networking and Nightlife!  \nFor ticket costs and to become a member\, please visit: https://kennesawbusiness.org
URL:https://theccbb.com/event/kba-alive-after-5/2028-05-16/
CATEGORIES:Kennesaw Business Association
END:VEVENT
BEGIN:VEVENT
DTSTART;TZID=America/New_York:20280613T110000
DTEND;TZID=America/New_York:20280613T130000
DTSTAMP:20260420T011705
CREATED:20240806T185255Z
LAST-MODIFIED:20240806T185322Z
UID:10000936-1844506800-1844514000@theccbb.com
SUMMARY:KBA: Monthly Luncheon
DESCRIPTION:Join us to hear from community\, state\, and nationally recognized government and business leaders as they share current and relevant information for doing business in Georgia. See lunch event dates below and mark your calendar! \nFor ticket costs and to become a member\, please visit: https://kennesawbusiness.org \n**PLEASE NOTE: If you choose not to register in advance\, you will pay $10 more at the door.
URL:https://theccbb.com/event/kba-monthly-luncheon/2028-06-13/
LOCATION:KSU Professional Education Building\, 3333 Busbee Parkway\, Kennesaw\, GA\, 30144\, United States
CATEGORIES:Kennesaw Business Association
END:VEVENT
BEGIN:VEVENT
DTSTART;TZID=America/New_York:20280620T173000
DTEND;TZID=America/New_York:20280620T190000
DTSTAMP:20260420T011705
CREATED:20240806T190005Z
LAST-MODIFIED:20240806T190005Z
UID:10000996-1845135000-1845140400@theccbb.com
SUMMARY:KBA: Alive After 5
DESCRIPTION:Join us from 5:30 – 7:00 at various locations around town on the 3rd Tuesday of each month! Interact with business owners & various team members in a relaxed\, after hours setting with adult beverages & great food!  Networking and Nightlife!  \nFor ticket costs and to become a member\, please visit: https://kennesawbusiness.org
URL:https://theccbb.com/event/kba-alive-after-5/2028-06-20/
CATEGORIES:Kennesaw Business Association
END:VEVENT
BEGIN:VEVENT
DTSTART;TZID=America/New_York:20280711T110000
DTEND;TZID=America/New_York:20280711T130000
DTSTAMP:20260420T011705
CREATED:20240806T185255Z
LAST-MODIFIED:20240806T185322Z
UID:10000937-1846926000-1846933200@theccbb.com
SUMMARY:KBA: Monthly Luncheon
DESCRIPTION:Join us to hear from community\, state\, and nationally recognized government and business leaders as they share current and relevant information for doing business in Georgia. See lunch event dates below and mark your calendar! \nFor ticket costs and to become a member\, please visit: https://kennesawbusiness.org \n**PLEASE NOTE: If you choose not to register in advance\, you will pay $10 more at the door.
URL:https://theccbb.com/event/kba-monthly-luncheon/2028-07-11/
LOCATION:KSU Professional Education Building\, 3333 Busbee Parkway\, Kennesaw\, GA\, 30144\, United States
CATEGORIES:Kennesaw Business Association
END:VEVENT
BEGIN:VEVENT
DTSTART;TZID=America/New_York:20280718T173000
DTEND;TZID=America/New_York:20280718T190000
DTSTAMP:20260420T011705
CREATED:20240806T190005Z
LAST-MODIFIED:20240806T190005Z
UID:10000997-1847554200-1847559600@theccbb.com
SUMMARY:KBA: Alive After 5
DESCRIPTION:Join us from 5:30 – 7:00 at various locations around town on the 3rd Tuesday of each month! Interact with business owners & various team members in a relaxed\, after hours setting with adult beverages & great food!  Networking and Nightlife!  \nFor ticket costs and to become a member\, please visit: https://kennesawbusiness.org
URL:https://theccbb.com/event/kba-alive-after-5/2028-07-18/
CATEGORIES:Kennesaw Business Association
END:VEVENT
BEGIN:VEVENT
DTSTART;TZID=America/New_York:20280808T110000
DTEND;TZID=America/New_York:20280808T130000
DTSTAMP:20260420T011705
CREATED:20240806T185255Z
LAST-MODIFIED:20240806T185322Z
UID:10000938-1849345200-1849352400@theccbb.com
SUMMARY:KBA: Monthly Luncheon
DESCRIPTION:Join us to hear from community\, state\, and nationally recognized government and business leaders as they share current and relevant information for doing business in Georgia. See lunch event dates below and mark your calendar! \nFor ticket costs and to become a member\, please visit: https://kennesawbusiness.org \n**PLEASE NOTE: If you choose not to register in advance\, you will pay $10 more at the door.
URL:https://theccbb.com/event/kba-monthly-luncheon/2028-08-08/
LOCATION:KSU Professional Education Building\, 3333 Busbee Parkway\, Kennesaw\, GA\, 30144\, United States
CATEGORIES:Kennesaw Business Association
END:VEVENT
BEGIN:VEVENT
DTSTART;TZID=America/New_York:20280815T173000
DTEND;TZID=America/New_York:20280815T190000
DTSTAMP:20260420T011705
CREATED:20240806T190005Z
LAST-MODIFIED:20240806T190005Z
UID:10000998-1849973400-1849978800@theccbb.com
SUMMARY:KBA: Alive After 5
DESCRIPTION:Join us from 5:30 – 7:00 at various locations around town on the 3rd Tuesday of each month! Interact with business owners & various team members in a relaxed\, after hours setting with adult beverages & great food!  Networking and Nightlife!  \nFor ticket costs and to become a member\, please visit: https://kennesawbusiness.org
URL:https://theccbb.com/event/kba-alive-after-5/2028-08-15/
CATEGORIES:Kennesaw Business Association
END:VEVENT
BEGIN:VEVENT
DTSTART;TZID=America/New_York:20280912T110000
DTEND;TZID=America/New_York:20280912T130000
DTSTAMP:20260420T011705
CREATED:20240806T185255Z
LAST-MODIFIED:20240806T185322Z
UID:10000939-1852369200-1852376400@theccbb.com
SUMMARY:KBA: Monthly Luncheon
DESCRIPTION:Join us to hear from community\, state\, and nationally recognized government and business leaders as they share current and relevant information for doing business in Georgia. See lunch event dates below and mark your calendar! \nFor ticket costs and to become a member\, please visit: https://kennesawbusiness.org \n**PLEASE NOTE: If you choose not to register in advance\, you will pay $10 more at the door.
URL:https://theccbb.com/event/kba-monthly-luncheon/2028-09-12/
LOCATION:KSU Professional Education Building\, 3333 Busbee Parkway\, Kennesaw\, GA\, 30144\, United States
CATEGORIES:Kennesaw Business Association
END:VEVENT
BEGIN:VEVENT
DTSTART;TZID=America/New_York:20280919T173000
DTEND;TZID=America/New_York:20280919T190000
DTSTAMP:20260420T011705
CREATED:20240806T190005Z
LAST-MODIFIED:20240806T190005Z
UID:10000999-1852997400-1853002800@theccbb.com
SUMMARY:KBA: Alive After 5
DESCRIPTION:Join us from 5:30 – 7:00 at various locations around town on the 3rd Tuesday of each month! Interact with business owners & various team members in a relaxed\, after hours setting with adult beverages & great food!  Networking and Nightlife!  \nFor ticket costs and to become a member\, please visit: https://kennesawbusiness.org
URL:https://theccbb.com/event/kba-alive-after-5/2028-09-19/
CATEGORIES:Kennesaw Business Association
END:VEVENT
BEGIN:VEVENT
DTSTART;TZID=America/New_York:20281010T110000
DTEND;TZID=America/New_York:20281010T130000
DTSTAMP:20260420T011705
CREATED:20240806T185255Z
LAST-MODIFIED:20240806T185322Z
UID:10000940-1854788400-1854795600@theccbb.com
SUMMARY:KBA: Monthly Luncheon
DESCRIPTION:Join us to hear from community\, state\, and nationally recognized government and business leaders as they share current and relevant information for doing business in Georgia. See lunch event dates below and mark your calendar! \nFor ticket costs and to become a member\, please visit: https://kennesawbusiness.org \n**PLEASE NOTE: If you choose not to register in advance\, you will pay $10 more at the door.
URL:https://theccbb.com/event/kba-monthly-luncheon/2028-10-10/
LOCATION:KSU Professional Education Building\, 3333 Busbee Parkway\, Kennesaw\, GA\, 30144\, United States
CATEGORIES:Kennesaw Business Association
END:VEVENT
BEGIN:VEVENT
DTSTART;TZID=America/New_York:20281017T173000
DTEND;TZID=America/New_York:20281017T190000
DTSTAMP:20260420T011705
CREATED:20240806T190005Z
LAST-MODIFIED:20240806T190005Z
UID:10001000-1855416600-1855422000@theccbb.com
SUMMARY:KBA: Alive After 5
DESCRIPTION:Join us from 5:30 – 7:00 at various locations around town on the 3rd Tuesday of each month! Interact with business owners & various team members in a relaxed\, after hours setting with adult beverages & great food!  Networking and Nightlife!  \nFor ticket costs and to become a member\, please visit: https://kennesawbusiness.org
URL:https://theccbb.com/event/kba-alive-after-5/2028-10-17/
CATEGORIES:Kennesaw Business Association
END:VEVENT
BEGIN:VEVENT
DTSTART;TZID=America/New_York:20281114T110000
DTEND;TZID=America/New_York:20281114T130000
DTSTAMP:20260420T011705
CREATED:20240806T185255Z
LAST-MODIFIED:20240806T185322Z
UID:10000941-1857812400-1857819600@theccbb.com
SUMMARY:KBA: Monthly Luncheon
DESCRIPTION:Join us to hear from community\, state\, and nationally recognized government and business leaders as they share current and relevant information for doing business in Georgia. See lunch event dates below and mark your calendar! \nFor ticket costs and to become a member\, please visit: https://kennesawbusiness.org \n**PLEASE NOTE: If you choose not to register in advance\, you will pay $10 more at the door.
URL:https://theccbb.com/event/kba-monthly-luncheon/2028-11-14/
LOCATION:KSU Professional Education Building\, 3333 Busbee Parkway\, Kennesaw\, GA\, 30144\, United States
CATEGORIES:Kennesaw Business Association
END:VEVENT
BEGIN:VEVENT
DTSTART;TZID=America/New_York:20281121T173000
DTEND;TZID=America/New_York:20281121T190000
DTSTAMP:20260420T011705
CREATED:20240806T190005Z
LAST-MODIFIED:20240806T190005Z
UID:10001001-1858440600-1858446000@theccbb.com
SUMMARY:KBA: Alive After 5
DESCRIPTION:Join us from 5:30 – 7:00 at various locations around town on the 3rd Tuesday of each month! Interact with business owners & various team members in a relaxed\, after hours setting with adult beverages & great food!  Networking and Nightlife!  \nFor ticket costs and to become a member\, please visit: https://kennesawbusiness.org
URL:https://theccbb.com/event/kba-alive-after-5/2028-11-21/
CATEGORIES:Kennesaw Business Association
END:VEVENT
BEGIN:VEVENT
DTSTART;TZID=America/New_York:20281212T110000
DTEND;TZID=America/New_York:20281212T130000
DTSTAMP:20260420T011705
CREATED:20240806T185255Z
LAST-MODIFIED:20240806T185322Z
UID:10000942-1860231600-1860238800@theccbb.com
SUMMARY:KBA: Monthly Luncheon
DESCRIPTION:Join us to hear from community\, state\, and nationally recognized government and business leaders as they share current and relevant information for doing business in Georgia. See lunch event dates below and mark your calendar! \nFor ticket costs and to become a member\, please visit: https://kennesawbusiness.org \n**PLEASE NOTE: If you choose not to register in advance\, you will pay $10 more at the door.
URL:https://theccbb.com/event/kba-monthly-luncheon/2028-12-12/
LOCATION:KSU Professional Education Building\, 3333 Busbee Parkway\, Kennesaw\, GA\, 30144\, United States
CATEGORIES:Kennesaw Business Association
END:VEVENT
BEGIN:VEVENT
DTSTART;TZID=America/New_York:20281219T173000
DTEND;TZID=America/New_York:20281219T190000
DTSTAMP:20260420T011705
CREATED:20240806T190005Z
LAST-MODIFIED:20240806T190005Z
UID:10001002-1860859800-1860865200@theccbb.com
SUMMARY:KBA: Alive After 5
DESCRIPTION:Join us from 5:30 – 7:00 at various locations around town on the 3rd Tuesday of each month! Interact with business owners & various team members in a relaxed\, after hours setting with adult beverages & great food!  Networking and Nightlife!  \nFor ticket costs and to become a member\, please visit: https://kennesawbusiness.org
URL:https://theccbb.com/event/kba-alive-after-5/2028-12-19/
CATEGORIES:Kennesaw Business Association
END:VEVENT
BEGIN:VEVENT
DTSTART;TZID=America/New_York:20290109T110000
DTEND;TZID=America/New_York:20290109T130000
DTSTAMP:20260420T011705
CREATED:20240806T185255Z
LAST-MODIFIED:20240806T185322Z
UID:10000943-1862650800-1862658000@theccbb.com
SUMMARY:KBA: Monthly Luncheon
DESCRIPTION:Join us to hear from community\, state\, and nationally recognized government and business leaders as they share current and relevant information for doing business in Georgia. See lunch event dates below and mark your calendar! \nFor ticket costs and to become a member\, please visit: https://kennesawbusiness.org \n**PLEASE NOTE: If you choose not to register in advance\, you will pay $10 more at the door.
URL:https://theccbb.com/event/kba-monthly-luncheon/2029-01-09/
LOCATION:KSU Professional Education Building\, 3333 Busbee Parkway\, Kennesaw\, GA\, 30144\, United States
CATEGORIES:Kennesaw Business Association
END:VEVENT
BEGIN:VEVENT
DTSTART;TZID=America/New_York:20290116T173000
DTEND;TZID=America/New_York:20290116T190000
DTSTAMP:20260420T011705
CREATED:20240806T190005Z
LAST-MODIFIED:20240806T190005Z
UID:10001003-1863279000-1863284400@theccbb.com
SUMMARY:KBA: Alive After 5
DESCRIPTION:Join us from 5:30 – 7:00 at various locations around town on the 3rd Tuesday of each month! Interact with business owners & various team members in a relaxed\, after hours setting with adult beverages & great food!  Networking and Nightlife!  \nFor ticket costs and to become a member\, please visit: https://kennesawbusiness.org
URL:https://theccbb.com/event/kba-alive-after-5/2029-01-16/
CATEGORIES:Kennesaw Business Association
END:VEVENT
BEGIN:VEVENT
DTSTART;TZID=America/New_York:20290213T110000
DTEND;TZID=America/New_York:20290213T130000
DTSTAMP:20260420T011705
CREATED:20240806T185255Z
LAST-MODIFIED:20240806T185322Z
UID:10000944-1865674800-1865682000@theccbb.com
SUMMARY:KBA: Monthly Luncheon
DESCRIPTION:Join us to hear from community\, state\, and nationally recognized government and business leaders as they share current and relevant information for doing business in Georgia. See lunch event dates below and mark your calendar! \nFor ticket costs and to become a member\, please visit: https://kennesawbusiness.org \n**PLEASE NOTE: If you choose not to register in advance\, you will pay $10 more at the door.
URL:https://theccbb.com/event/kba-monthly-luncheon/2029-02-13/
LOCATION:KSU Professional Education Building\, 3333 Busbee Parkway\, Kennesaw\, GA\, 30144\, United States
CATEGORIES:Kennesaw Business Association
END:VEVENT
BEGIN:VEVENT
DTSTART;TZID=America/New_York:20290220T173000
DTEND;TZID=America/New_York:20290220T190000
DTSTAMP:20260420T011705
CREATED:20240806T190005Z
LAST-MODIFIED:20240806T190005Z
UID:10001004-1866303000-1866308400@theccbb.com
SUMMARY:KBA: Alive After 5
DESCRIPTION:Join us from 5:30 – 7:00 at various locations around town on the 3rd Tuesday of each month! Interact with business owners & various team members in a relaxed\, after hours setting with adult beverages & great food!  Networking and Nightlife!  \nFor ticket costs and to become a member\, please visit: https://kennesawbusiness.org
URL:https://theccbb.com/event/kba-alive-after-5/2029-02-20/
CATEGORIES:Kennesaw Business Association
END:VEVENT
BEGIN:VEVENT
DTSTART;TZID=America/New_York:20290313T110000
DTEND;TZID=America/New_York:20290313T130000
DTSTAMP:20260420T011705
CREATED:20240806T185255Z
LAST-MODIFIED:20240806T185322Z
UID:10000945-1868094000-1868101200@theccbb.com
SUMMARY:KBA: Monthly Luncheon
DESCRIPTION:Join us to hear from community\, state\, and nationally recognized government and business leaders as they share current and relevant information for doing business in Georgia. See lunch event dates below and mark your calendar! \nFor ticket costs and to become a member\, please visit: https://kennesawbusiness.org \n**PLEASE NOTE: If you choose not to register in advance\, you will pay $10 more at the door.
URL:https://theccbb.com/event/kba-monthly-luncheon/2029-03-13/
LOCATION:KSU Professional Education Building\, 3333 Busbee Parkway\, Kennesaw\, GA\, 30144\, United States
CATEGORIES:Kennesaw Business Association
END:VEVENT
BEGIN:VEVENT
DTSTART;TZID=America/New_York:20290320T173000
DTEND;TZID=America/New_York:20290320T190000
DTSTAMP:20260420T011705
CREATED:20240806T190005Z
LAST-MODIFIED:20240806T190005Z
UID:10001005-1868722200-1868727600@theccbb.com
SUMMARY:KBA: Alive After 5
DESCRIPTION:Join us from 5:30 – 7:00 at various locations around town on the 3rd Tuesday of each month! Interact with business owners & various team members in a relaxed\, after hours setting with adult beverages & great food!  Networking and Nightlife!  \nFor ticket costs and to become a member\, please visit: https://kennesawbusiness.org
URL:https://theccbb.com/event/kba-alive-after-5/2029-03-20/
CATEGORIES:Kennesaw Business Association
END:VEVENT
END:VCALENDAR