BEGIN:VCALENDAR
VERSION:2.0
PRODID:-//Cobb County Business Bootcamp - ECPv6.15.18//NONSGML v1.0//EN
CALSCALE:GREGORIAN
METHOD:PUBLISH
X-WR-CALNAME:Cobb County Business Bootcamp
X-ORIGINAL-URL:https://theccbb.com
X-WR-CALDESC:Events for Cobb County Business Bootcamp
REFRESH-INTERVAL;VALUE=DURATION:PT1H
X-Robots-Tag:noindex
X-PUBLISHED-TTL:PT1H
BEGIN:VTIMEZONE
TZID:America/New_York
BEGIN:DAYLIGHT
TZOFFSETFROM:-0500
TZOFFSETTO:-0400
TZNAME:EDT
DTSTART:20250309T070000
END:DAYLIGHT
BEGIN:STANDARD
TZOFFSETFROM:-0400
TZOFFSETTO:-0500
TZNAME:EST
DTSTART:20251102T060000
END:STANDARD
BEGIN:DAYLIGHT
TZOFFSETFROM:-0500
TZOFFSETTO:-0400
TZNAME:EDT
DTSTART:20260308T070000
END:DAYLIGHT
BEGIN:STANDARD
TZOFFSETFROM:-0400
TZOFFSETTO:-0500
TZNAME:EST
DTSTART:20261101T060000
END:STANDARD
BEGIN:DAYLIGHT
TZOFFSETFROM:-0500
TZOFFSETTO:-0400
TZNAME:EDT
DTSTART:20270314T070000
END:DAYLIGHT
BEGIN:STANDARD
TZOFFSETFROM:-0400
TZOFFSETTO:-0500
TZNAME:EST
DTSTART:20271107T060000
END:STANDARD
END:VTIMEZONE
BEGIN:VEVENT
DTSTART;TZID=America/New_York:20260430T150000
DTEND;TZID=America/New_York:20260430T163000
DTSTAMP:20260424T075242
CREATED:20240806T191527Z
LAST-MODIFIED:20240806T191527Z
UID:10001219-1777561200-1777566600@theccbb.com
SUMMARY:MBA: N.O.W.
DESCRIPTION:Join us every Thursday at this “Invite only” FREE\, OPEN SEAT networking event. Our purpose is to support one another by learning about each other’s businesses which result in referrals \nWhat to bring:\n*Business cards\n*Your best 45-60 seconds about yourself\n*Notepad \nThe Format:\n***PLEASE DO NOT ARRIVE BEFORE 2:45***\n3-3:30 open networking\n3:30-4:30 45-60 second presentations\, Q&A\, and announcements on upcoming MBA events \nFor ticket costs and to become a member\, please visit: mariettabusiness.org
URL:https://theccbb.com/event/mba-n-o-w/2026-04-30/
LOCATION:Third Door\, 131 Church Street\, Marietta\, GA\, 30060\, United States
CATEGORIES:Marietta Business Association
END:VEVENT
END:VCALENDAR