BEGIN:VCALENDAR
VERSION:2.0
PRODID:-//Cobb County Business Bootcamp - ECPv6.15.18//NONSGML v1.0//EN
CALSCALE:GREGORIAN
METHOD:PUBLISH
X-ORIGINAL-URL:https://theccbb.com
X-WR-CALDESC:Events for Cobb County Business Bootcamp
REFRESH-INTERVAL;VALUE=DURATION:PT1H
X-Robots-Tag:noindex
X-PUBLISHED-TTL:PT1H
BEGIN:VTIMEZONE
TZID:America/New_York
BEGIN:DAYLIGHT
TZOFFSETFROM:-0500
TZOFFSETTO:-0400
TZNAME:EDT
DTSTART:20250309T070000
END:DAYLIGHT
BEGIN:STANDARD
TZOFFSETFROM:-0400
TZOFFSETTO:-0500
TZNAME:EST
DTSTART:20251102T060000
END:STANDARD
BEGIN:DAYLIGHT
TZOFFSETFROM:-0500
TZOFFSETTO:-0400
TZNAME:EDT
DTSTART:20260308T070000
END:DAYLIGHT
BEGIN:STANDARD
TZOFFSETFROM:-0400
TZOFFSETTO:-0500
TZNAME:EST
DTSTART:20261101T060000
END:STANDARD
BEGIN:DAYLIGHT
TZOFFSETFROM:-0500
TZOFFSETTO:-0400
TZNAME:EDT
DTSTART:20270314T070000
END:DAYLIGHT
BEGIN:STANDARD
TZOFFSETFROM:-0400
TZOFFSETTO:-0500
TZNAME:EST
DTSTART:20271107T060000
END:STANDARD
BEGIN:DAYLIGHT
TZOFFSETFROM:-0500
TZOFFSETTO:-0400
TZNAME:EDT
DTSTART:20280312T070000
END:DAYLIGHT
BEGIN:STANDARD
TZOFFSETFROM:-0400
TZOFFSETTO:-0500
TZNAME:EST
DTSTART:20281105T060000
END:STANDARD
END:VTIMEZONE
BEGIN:VEVENT
DTSTART;TZID=America/New_York:20261112T150000
DTEND;TZID=America/New_York:20261112T163000
DTSTAMP:20260425T071717
CREATED:20240806T191527Z
LAST-MODIFIED:20240806T191527Z
UID:10001247-1794495600-1794501000@theccbb.com
SUMMARY:MBA: N.O.W.
DESCRIPTION:Join us every Thursday at this “Invite only” FREE\, OPEN SEAT networking event. Our purpose is to support one another by learning about each other’s businesses which result in referrals \nWhat to bring:\n*Business cards\n*Your best 45-60 seconds about yourself\n*Notepad \nThe Format:\n***PLEASE DO NOT ARRIVE BEFORE 2:45***\n3-3:30 open networking\n3:30-4:30 45-60 second presentations\, Q&A\, and announcements on upcoming MBA events \nFor ticket costs and to become a member\, please visit: mariettabusiness.org
URL:https://theccbb.com/event/mba-n-o-w/2026-11-12/
LOCATION:Third Door\, 131 Church Street\, Marietta\, GA\, 30060\, United States
CATEGORIES:Marietta Business Association
END:VEVENT
BEGIN:VEVENT
DTSTART;TZID=America/New_York:20261119T150000
DTEND;TZID=America/New_York:20261119T163000
DTSTAMP:20260425T071717
CREATED:20240806T191527Z
LAST-MODIFIED:20240806T191527Z
UID:10001248-1795100400-1795105800@theccbb.com
SUMMARY:MBA: N.O.W.
DESCRIPTION:Join us every Thursday at this “Invite only” FREE\, OPEN SEAT networking event. Our purpose is to support one another by learning about each other’s businesses which result in referrals \nWhat to bring:\n*Business cards\n*Your best 45-60 seconds about yourself\n*Notepad \nThe Format:\n***PLEASE DO NOT ARRIVE BEFORE 2:45***\n3-3:30 open networking\n3:30-4:30 45-60 second presentations\, Q&A\, and announcements on upcoming MBA events \nFor ticket costs and to become a member\, please visit: mariettabusiness.org
URL:https://theccbb.com/event/mba-n-o-w/2026-11-19/
LOCATION:Third Door\, 131 Church Street\, Marietta\, GA\, 30060\, United States
CATEGORIES:Marietta Business Association
END:VEVENT
BEGIN:VEVENT
DTSTART;TZID=America/New_York:20261123T113000
DTEND;TZID=America/New_York:20261123T130000
DTSTAMP:20260425T071717
CREATED:20240806T191105Z
LAST-MODIFIED:20240807T203043Z
UID:10001597-1795433400-1795438800@theccbb.com
SUMMARY:MBA: Business Development Luncheon
DESCRIPTION:Join us to hear from community\, state\, and nationally recognized government and business leaders as they share current and relevant information for doing business in Georgia. \n**Please note: If you choose not to register in advance\, you will pay an additional $5 at the door. \nFor ticket costs and to become a member\, please visit: mariettabusiness.org
URL:https://theccbb.com/event/mba-business-development-luncheon/2026-11-23/
LOCATION:The Foxglove\, 54 Atlanta St SE Suite B\, Marietta\, GA\, 30060\, United States
CATEGORIES:Marietta Business Association
END:VEVENT
BEGIN:VEVENT
DTSTART;TZID=America/New_York:20261126T150000
DTEND;TZID=America/New_York:20261126T163000
DTSTAMP:20260425T071717
CREATED:20240806T191527Z
LAST-MODIFIED:20240806T191527Z
UID:10001249-1795705200-1795710600@theccbb.com
SUMMARY:MBA: N.O.W.
DESCRIPTION:Join us every Thursday at this “Invite only” FREE\, OPEN SEAT networking event. Our purpose is to support one another by learning about each other’s businesses which result in referrals \nWhat to bring:\n*Business cards\n*Your best 45-60 seconds about yourself\n*Notepad \nThe Format:\n***PLEASE DO NOT ARRIVE BEFORE 2:45***\n3-3:30 open networking\n3:30-4:30 45-60 second presentations\, Q&A\, and announcements on upcoming MBA events \nFor ticket costs and to become a member\, please visit: mariettabusiness.org
URL:https://theccbb.com/event/mba-n-o-w/2026-11-26/
LOCATION:Third Door\, 131 Church Street\, Marietta\, GA\, 30060\, United States
CATEGORIES:Marietta Business Association
END:VEVENT
BEGIN:VEVENT
DTSTART;TZID=America/New_York:20261203T150000
DTEND;TZID=America/New_York:20261203T163000
DTSTAMP:20260425T071717
CREATED:20240806T191527Z
LAST-MODIFIED:20240806T191527Z
UID:10001250-1796310000-1796315400@theccbb.com
SUMMARY:MBA: N.O.W.
DESCRIPTION:Join us every Thursday at this “Invite only” FREE\, OPEN SEAT networking event. Our purpose is to support one another by learning about each other’s businesses which result in referrals \nWhat to bring:\n*Business cards\n*Your best 45-60 seconds about yourself\n*Notepad \nThe Format:\n***PLEASE DO NOT ARRIVE BEFORE 2:45***\n3-3:30 open networking\n3:30-4:30 45-60 second presentations\, Q&A\, and announcements on upcoming MBA events \nFor ticket costs and to become a member\, please visit: mariettabusiness.org
URL:https://theccbb.com/event/mba-n-o-w/2026-12-03/
LOCATION:Third Door\, 131 Church Street\, Marietta\, GA\, 30060\, United States
CATEGORIES:Marietta Business Association
END:VEVENT
BEGIN:VEVENT
DTSTART;TZID=America/New_York:20261210T150000
DTEND;TZID=America/New_York:20261210T163000
DTSTAMP:20260425T071717
CREATED:20240806T191527Z
LAST-MODIFIED:20240806T191527Z
UID:10001251-1796914800-1796920200@theccbb.com
SUMMARY:MBA: N.O.W.
DESCRIPTION:Join us every Thursday at this “Invite only” FREE\, OPEN SEAT networking event. Our purpose is to support one another by learning about each other’s businesses which result in referrals \nWhat to bring:\n*Business cards\n*Your best 45-60 seconds about yourself\n*Notepad \nThe Format:\n***PLEASE DO NOT ARRIVE BEFORE 2:45***\n3-3:30 open networking\n3:30-4:30 45-60 second presentations\, Q&A\, and announcements on upcoming MBA events \nFor ticket costs and to become a member\, please visit: mariettabusiness.org
URL:https://theccbb.com/event/mba-n-o-w/2026-12-10/
LOCATION:Third Door\, 131 Church Street\, Marietta\, GA\, 30060\, United States
CATEGORIES:Marietta Business Association
END:VEVENT
BEGIN:VEVENT
DTSTART;TZID=America/New_York:20261217T150000
DTEND;TZID=America/New_York:20261217T163000
DTSTAMP:20260425T071717
CREATED:20240806T191527Z
LAST-MODIFIED:20240806T191527Z
UID:10001252-1797519600-1797525000@theccbb.com
SUMMARY:MBA: N.O.W.
DESCRIPTION:Join us every Thursday at this “Invite only” FREE\, OPEN SEAT networking event. Our purpose is to support one another by learning about each other’s businesses which result in referrals \nWhat to bring:\n*Business cards\n*Your best 45-60 seconds about yourself\n*Notepad \nThe Format:\n***PLEASE DO NOT ARRIVE BEFORE 2:45***\n3-3:30 open networking\n3:30-4:30 45-60 second presentations\, Q&A\, and announcements on upcoming MBA events \nFor ticket costs and to become a member\, please visit: mariettabusiness.org
URL:https://theccbb.com/event/mba-n-o-w/2026-12-17/
LOCATION:Third Door\, 131 Church Street\, Marietta\, GA\, 30060\, United States
CATEGORIES:Marietta Business Association
END:VEVENT
BEGIN:VEVENT
DTSTART;TZID=America/New_York:20261224T150000
DTEND;TZID=America/New_York:20261224T163000
DTSTAMP:20260425T071717
CREATED:20240806T191527Z
LAST-MODIFIED:20240806T191527Z
UID:10001253-1798124400-1798129800@theccbb.com
SUMMARY:MBA: N.O.W.
DESCRIPTION:Join us every Thursday at this “Invite only” FREE\, OPEN SEAT networking event. Our purpose is to support one another by learning about each other’s businesses which result in referrals \nWhat to bring:\n*Business cards\n*Your best 45-60 seconds about yourself\n*Notepad \nThe Format:\n***PLEASE DO NOT ARRIVE BEFORE 2:45***\n3-3:30 open networking\n3:30-4:30 45-60 second presentations\, Q&A\, and announcements on upcoming MBA events \nFor ticket costs and to become a member\, please visit: mariettabusiness.org
URL:https://theccbb.com/event/mba-n-o-w/2026-12-24/
LOCATION:Third Door\, 131 Church Street\, Marietta\, GA\, 30060\, United States
CATEGORIES:Marietta Business Association
END:VEVENT
BEGIN:VEVENT
DTSTART;TZID=America/New_York:20261228T113000
DTEND;TZID=America/New_York:20261228T130000
DTSTAMP:20260425T071717
CREATED:20240806T191105Z
LAST-MODIFIED:20240807T203043Z
UID:10001598-1798457400-1798462800@theccbb.com
SUMMARY:MBA: Business Development Luncheon
DESCRIPTION:Join us to hear from community\, state\, and nationally recognized government and business leaders as they share current and relevant information for doing business in Georgia. \n**Please note: If you choose not to register in advance\, you will pay an additional $5 at the door. \nFor ticket costs and to become a member\, please visit: mariettabusiness.org
URL:https://theccbb.com/event/mba-business-development-luncheon/2026-12-28/
LOCATION:The Foxglove\, 54 Atlanta St SE Suite B\, Marietta\, GA\, 30060\, United States
CATEGORIES:Marietta Business Association
END:VEVENT
BEGIN:VEVENT
DTSTART;TZID=America/New_York:20261231T150000
DTEND;TZID=America/New_York:20261231T163000
DTSTAMP:20260425T071717
CREATED:20240806T191527Z
LAST-MODIFIED:20240806T191527Z
UID:10001254-1798729200-1798734600@theccbb.com
SUMMARY:MBA: N.O.W.
DESCRIPTION:Join us every Thursday at this “Invite only” FREE\, OPEN SEAT networking event. Our purpose is to support one another by learning about each other’s businesses which result in referrals \nWhat to bring:\n*Business cards\n*Your best 45-60 seconds about yourself\n*Notepad \nThe Format:\n***PLEASE DO NOT ARRIVE BEFORE 2:45***\n3-3:30 open networking\n3:30-4:30 45-60 second presentations\, Q&A\, and announcements on upcoming MBA events \nFor ticket costs and to become a member\, please visit: mariettabusiness.org
URL:https://theccbb.com/event/mba-n-o-w/2026-12-31/
LOCATION:Third Door\, 131 Church Street\, Marietta\, GA\, 30060\, United States
CATEGORIES:Marietta Business Association
END:VEVENT
BEGIN:VEVENT
DTSTART;TZID=America/New_York:20270107T150000
DTEND;TZID=America/New_York:20270107T163000
DTSTAMP:20260425T071717
CREATED:20240806T191527Z
LAST-MODIFIED:20240806T191527Z
UID:10001255-1799334000-1799339400@theccbb.com
SUMMARY:MBA: N.O.W.
DESCRIPTION:Join us every Thursday at this “Invite only” FREE\, OPEN SEAT networking event. Our purpose is to support one another by learning about each other’s businesses which result in referrals \nWhat to bring:\n*Business cards\n*Your best 45-60 seconds about yourself\n*Notepad \nThe Format:\n***PLEASE DO NOT ARRIVE BEFORE 2:45***\n3-3:30 open networking\n3:30-4:30 45-60 second presentations\, Q&A\, and announcements on upcoming MBA events \nFor ticket costs and to become a member\, please visit: mariettabusiness.org
URL:https://theccbb.com/event/mba-n-o-w/2027-01-07/
LOCATION:Third Door\, 131 Church Street\, Marietta\, GA\, 30060\, United States
CATEGORIES:Marietta Business Association
END:VEVENT
BEGIN:VEVENT
DTSTART;TZID=America/New_York:20270114T150000
DTEND;TZID=America/New_York:20270114T163000
DTSTAMP:20260425T071717
CREATED:20240806T191527Z
LAST-MODIFIED:20240806T191527Z
UID:10001256-1799938800-1799944200@theccbb.com
SUMMARY:MBA: N.O.W.
DESCRIPTION:Join us every Thursday at this “Invite only” FREE\, OPEN SEAT networking event. Our purpose is to support one another by learning about each other’s businesses which result in referrals \nWhat to bring:\n*Business cards\n*Your best 45-60 seconds about yourself\n*Notepad \nThe Format:\n***PLEASE DO NOT ARRIVE BEFORE 2:45***\n3-3:30 open networking\n3:30-4:30 45-60 second presentations\, Q&A\, and announcements on upcoming MBA events \nFor ticket costs and to become a member\, please visit: mariettabusiness.org
URL:https://theccbb.com/event/mba-n-o-w/2027-01-14/
LOCATION:Third Door\, 131 Church Street\, Marietta\, GA\, 30060\, United States
CATEGORIES:Marietta Business Association
END:VEVENT
BEGIN:VEVENT
DTSTART;TZID=America/New_York:20270121T150000
DTEND;TZID=America/New_York:20270121T163000
DTSTAMP:20260425T071717
CREATED:20240806T191527Z
LAST-MODIFIED:20240806T191527Z
UID:10001257-1800543600-1800549000@theccbb.com
SUMMARY:MBA: N.O.W.
DESCRIPTION:Join us every Thursday at this “Invite only” FREE\, OPEN SEAT networking event. Our purpose is to support one another by learning about each other’s businesses which result in referrals \nWhat to bring:\n*Business cards\n*Your best 45-60 seconds about yourself\n*Notepad \nThe Format:\n***PLEASE DO NOT ARRIVE BEFORE 2:45***\n3-3:30 open networking\n3:30-4:30 45-60 second presentations\, Q&A\, and announcements on upcoming MBA events \nFor ticket costs and to become a member\, please visit: mariettabusiness.org
URL:https://theccbb.com/event/mba-n-o-w/2027-01-21/
LOCATION:Third Door\, 131 Church Street\, Marietta\, GA\, 30060\, United States
CATEGORIES:Marietta Business Association
END:VEVENT
BEGIN:VEVENT
DTSTART;TZID=America/New_York:20270125T113000
DTEND;TZID=America/New_York:20270125T130000
DTSTAMP:20260425T071717
CREATED:20240806T191105Z
LAST-MODIFIED:20240807T203043Z
UID:10001599-1800876600-1800882000@theccbb.com
SUMMARY:MBA: Business Development Luncheon
DESCRIPTION:Join us to hear from community\, state\, and nationally recognized government and business leaders as they share current and relevant information for doing business in Georgia. \n**Please note: If you choose not to register in advance\, you will pay an additional $5 at the door. \nFor ticket costs and to become a member\, please visit: mariettabusiness.org
URL:https://theccbb.com/event/mba-business-development-luncheon/2027-01-25/
LOCATION:The Foxglove\, 54 Atlanta St SE Suite B\, Marietta\, GA\, 30060\, United States
CATEGORIES:Marietta Business Association
END:VEVENT
BEGIN:VEVENT
DTSTART;TZID=America/New_York:20270128T150000
DTEND;TZID=America/New_York:20270128T163000
DTSTAMP:20260425T071717
CREATED:20240806T191527Z
LAST-MODIFIED:20240806T191527Z
UID:10001258-1801148400-1801153800@theccbb.com
SUMMARY:MBA: N.O.W.
DESCRIPTION:Join us every Thursday at this “Invite only” FREE\, OPEN SEAT networking event. Our purpose is to support one another by learning about each other’s businesses which result in referrals \nWhat to bring:\n*Business cards\n*Your best 45-60 seconds about yourself\n*Notepad \nThe Format:\n***PLEASE DO NOT ARRIVE BEFORE 2:45***\n3-3:30 open networking\n3:30-4:30 45-60 second presentations\, Q&A\, and announcements on upcoming MBA events \nFor ticket costs and to become a member\, please visit: mariettabusiness.org
URL:https://theccbb.com/event/mba-n-o-w/2027-01-28/
LOCATION:Third Door\, 131 Church Street\, Marietta\, GA\, 30060\, United States
CATEGORIES:Marietta Business Association
END:VEVENT
BEGIN:VEVENT
DTSTART;TZID=America/New_York:20270204T150000
DTEND;TZID=America/New_York:20270204T163000
DTSTAMP:20260425T071717
CREATED:20240806T191527Z
LAST-MODIFIED:20240806T191527Z
UID:10001259-1801753200-1801758600@theccbb.com
SUMMARY:MBA: N.O.W.
DESCRIPTION:Join us every Thursday at this “Invite only” FREE\, OPEN SEAT networking event. Our purpose is to support one another by learning about each other’s businesses which result in referrals \nWhat to bring:\n*Business cards\n*Your best 45-60 seconds about yourself\n*Notepad \nThe Format:\n***PLEASE DO NOT ARRIVE BEFORE 2:45***\n3-3:30 open networking\n3:30-4:30 45-60 second presentations\, Q&A\, and announcements on upcoming MBA events \nFor ticket costs and to become a member\, please visit: mariettabusiness.org
URL:https://theccbb.com/event/mba-n-o-w/2027-02-04/
LOCATION:Third Door\, 131 Church Street\, Marietta\, GA\, 30060\, United States
CATEGORIES:Marietta Business Association
END:VEVENT
BEGIN:VEVENT
DTSTART;TZID=America/New_York:20270211T150000
DTEND;TZID=America/New_York:20270211T163000
DTSTAMP:20260425T071717
CREATED:20240806T191527Z
LAST-MODIFIED:20240806T191527Z
UID:10001260-1802358000-1802363400@theccbb.com
SUMMARY:MBA: N.O.W.
DESCRIPTION:Join us every Thursday at this “Invite only” FREE\, OPEN SEAT networking event. Our purpose is to support one another by learning about each other’s businesses which result in referrals \nWhat to bring:\n*Business cards\n*Your best 45-60 seconds about yourself\n*Notepad \nThe Format:\n***PLEASE DO NOT ARRIVE BEFORE 2:45***\n3-3:30 open networking\n3:30-4:30 45-60 second presentations\, Q&A\, and announcements on upcoming MBA events \nFor ticket costs and to become a member\, please visit: mariettabusiness.org
URL:https://theccbb.com/event/mba-n-o-w/2027-02-11/
LOCATION:Third Door\, 131 Church Street\, Marietta\, GA\, 30060\, United States
CATEGORIES:Marietta Business Association
END:VEVENT
BEGIN:VEVENT
DTSTART;TZID=America/New_York:20270218T150000
DTEND;TZID=America/New_York:20270218T163000
DTSTAMP:20260425T071717
CREATED:20240806T191527Z
LAST-MODIFIED:20240806T191527Z
UID:10001261-1802962800-1802968200@theccbb.com
SUMMARY:MBA: N.O.W.
DESCRIPTION:Join us every Thursday at this “Invite only” FREE\, OPEN SEAT networking event. Our purpose is to support one another by learning about each other’s businesses which result in referrals \nWhat to bring:\n*Business cards\n*Your best 45-60 seconds about yourself\n*Notepad \nThe Format:\n***PLEASE DO NOT ARRIVE BEFORE 2:45***\n3-3:30 open networking\n3:30-4:30 45-60 second presentations\, Q&A\, and announcements on upcoming MBA events \nFor ticket costs and to become a member\, please visit: mariettabusiness.org
URL:https://theccbb.com/event/mba-n-o-w/2027-02-18/
LOCATION:Third Door\, 131 Church Street\, Marietta\, GA\, 30060\, United States
CATEGORIES:Marietta Business Association
END:VEVENT
BEGIN:VEVENT
DTSTART;TZID=America/New_York:20270222T113000
DTEND;TZID=America/New_York:20270222T130000
DTSTAMP:20260425T071717
CREATED:20240806T191105Z
LAST-MODIFIED:20240807T203043Z
UID:10001600-1803295800-1803301200@theccbb.com
SUMMARY:MBA: Business Development Luncheon
DESCRIPTION:Join us to hear from community\, state\, and nationally recognized government and business leaders as they share current and relevant information for doing business in Georgia. \n**Please note: If you choose not to register in advance\, you will pay an additional $5 at the door. \nFor ticket costs and to become a member\, please visit: mariettabusiness.org
URL:https://theccbb.com/event/mba-business-development-luncheon/2027-02-22/
LOCATION:The Foxglove\, 54 Atlanta St SE Suite B\, Marietta\, GA\, 30060\, United States
CATEGORIES:Marietta Business Association
END:VEVENT
BEGIN:VEVENT
DTSTART;TZID=America/New_York:20270225T150000
DTEND;TZID=America/New_York:20270225T163000
DTSTAMP:20260425T071717
CREATED:20240806T191527Z
LAST-MODIFIED:20240806T191527Z
UID:10001262-1803567600-1803573000@theccbb.com
SUMMARY:MBA: N.O.W.
DESCRIPTION:Join us every Thursday at this “Invite only” FREE\, OPEN SEAT networking event. Our purpose is to support one another by learning about each other’s businesses which result in referrals \nWhat to bring:\n*Business cards\n*Your best 45-60 seconds about yourself\n*Notepad \nThe Format:\n***PLEASE DO NOT ARRIVE BEFORE 2:45***\n3-3:30 open networking\n3:30-4:30 45-60 second presentations\, Q&A\, and announcements on upcoming MBA events \nFor ticket costs and to become a member\, please visit: mariettabusiness.org
URL:https://theccbb.com/event/mba-n-o-w/2027-02-25/
LOCATION:Third Door\, 131 Church Street\, Marietta\, GA\, 30060\, United States
CATEGORIES:Marietta Business Association
END:VEVENT
BEGIN:VEVENT
DTSTART;TZID=America/New_York:20270304T150000
DTEND;TZID=America/New_York:20270304T163000
DTSTAMP:20260425T071717
CREATED:20240806T191527Z
LAST-MODIFIED:20240806T191527Z
UID:10001263-1804172400-1804177800@theccbb.com
SUMMARY:MBA: N.O.W.
DESCRIPTION:Join us every Thursday at this “Invite only” FREE\, OPEN SEAT networking event. Our purpose is to support one another by learning about each other’s businesses which result in referrals \nWhat to bring:\n*Business cards\n*Your best 45-60 seconds about yourself\n*Notepad \nThe Format:\n***PLEASE DO NOT ARRIVE BEFORE 2:45***\n3-3:30 open networking\n3:30-4:30 45-60 second presentations\, Q&A\, and announcements on upcoming MBA events \nFor ticket costs and to become a member\, please visit: mariettabusiness.org
URL:https://theccbb.com/event/mba-n-o-w/2027-03-04/
LOCATION:Third Door\, 131 Church Street\, Marietta\, GA\, 30060\, United States
CATEGORIES:Marietta Business Association
END:VEVENT
BEGIN:VEVENT
DTSTART;TZID=America/New_York:20270311T150000
DTEND;TZID=America/New_York:20270311T163000
DTSTAMP:20260425T071717
CREATED:20240806T191527Z
LAST-MODIFIED:20240806T191527Z
UID:10001264-1804777200-1804782600@theccbb.com
SUMMARY:MBA: N.O.W.
DESCRIPTION:Join us every Thursday at this “Invite only” FREE\, OPEN SEAT networking event. Our purpose is to support one another by learning about each other’s businesses which result in referrals \nWhat to bring:\n*Business cards\n*Your best 45-60 seconds about yourself\n*Notepad \nThe Format:\n***PLEASE DO NOT ARRIVE BEFORE 2:45***\n3-3:30 open networking\n3:30-4:30 45-60 second presentations\, Q&A\, and announcements on upcoming MBA events \nFor ticket costs and to become a member\, please visit: mariettabusiness.org
URL:https://theccbb.com/event/mba-n-o-w/2027-03-11/
LOCATION:Third Door\, 131 Church Street\, Marietta\, GA\, 30060\, United States
CATEGORIES:Marietta Business Association
END:VEVENT
BEGIN:VEVENT
DTSTART;TZID=America/New_York:20270318T150000
DTEND;TZID=America/New_York:20270318T163000
DTSTAMP:20260425T071717
CREATED:20240806T191527Z
LAST-MODIFIED:20240806T191527Z
UID:10001265-1805382000-1805387400@theccbb.com
SUMMARY:MBA: N.O.W.
DESCRIPTION:Join us every Thursday at this “Invite only” FREE\, OPEN SEAT networking event. Our purpose is to support one another by learning about each other’s businesses which result in referrals \nWhat to bring:\n*Business cards\n*Your best 45-60 seconds about yourself\n*Notepad \nThe Format:\n***PLEASE DO NOT ARRIVE BEFORE 2:45***\n3-3:30 open networking\n3:30-4:30 45-60 second presentations\, Q&A\, and announcements on upcoming MBA events \nFor ticket costs and to become a member\, please visit: mariettabusiness.org
URL:https://theccbb.com/event/mba-n-o-w/2027-03-18/
LOCATION:Third Door\, 131 Church Street\, Marietta\, GA\, 30060\, United States
CATEGORIES:Marietta Business Association
END:VEVENT
BEGIN:VEVENT
DTSTART;TZID=America/New_York:20270322T113000
DTEND;TZID=America/New_York:20270322T130000
DTSTAMP:20260425T071717
CREATED:20240806T191105Z
LAST-MODIFIED:20240807T203043Z
UID:10001601-1805715000-1805720400@theccbb.com
SUMMARY:MBA: Business Development Luncheon
DESCRIPTION:Join us to hear from community\, state\, and nationally recognized government and business leaders as they share current and relevant information for doing business in Georgia. \n**Please note: If you choose not to register in advance\, you will pay an additional $5 at the door. \nFor ticket costs and to become a member\, please visit: mariettabusiness.org
URL:https://theccbb.com/event/mba-business-development-luncheon/2027-03-22/
LOCATION:The Foxglove\, 54 Atlanta St SE Suite B\, Marietta\, GA\, 30060\, United States
CATEGORIES:Marietta Business Association
END:VEVENT
BEGIN:VEVENT
DTSTART;TZID=America/New_York:20270325T150000
DTEND;TZID=America/New_York:20270325T163000
DTSTAMP:20260425T071717
CREATED:20240806T191527Z
LAST-MODIFIED:20240806T191527Z
UID:10001266-1805986800-1805992200@theccbb.com
SUMMARY:MBA: N.O.W.
DESCRIPTION:Join us every Thursday at this “Invite only” FREE\, OPEN SEAT networking event. Our purpose is to support one another by learning about each other’s businesses which result in referrals \nWhat to bring:\n*Business cards\n*Your best 45-60 seconds about yourself\n*Notepad \nThe Format:\n***PLEASE DO NOT ARRIVE BEFORE 2:45***\n3-3:30 open networking\n3:30-4:30 45-60 second presentations\, Q&A\, and announcements on upcoming MBA events \nFor ticket costs and to become a member\, please visit: mariettabusiness.org
URL:https://theccbb.com/event/mba-n-o-w/2027-03-25/
LOCATION:Third Door\, 131 Church Street\, Marietta\, GA\, 30060\, United States
CATEGORIES:Marietta Business Association
END:VEVENT
BEGIN:VEVENT
DTSTART;TZID=America/New_York:20270401T150000
DTEND;TZID=America/New_York:20270401T163000
DTSTAMP:20260425T071717
CREATED:20240806T191527Z
LAST-MODIFIED:20240806T191527Z
UID:10001267-1806591600-1806597000@theccbb.com
SUMMARY:MBA: N.O.W.
DESCRIPTION:Join us every Thursday at this “Invite only” FREE\, OPEN SEAT networking event. Our purpose is to support one another by learning about each other’s businesses which result in referrals \nWhat to bring:\n*Business cards\n*Your best 45-60 seconds about yourself\n*Notepad \nThe Format:\n***PLEASE DO NOT ARRIVE BEFORE 2:45***\n3-3:30 open networking\n3:30-4:30 45-60 second presentations\, Q&A\, and announcements on upcoming MBA events \nFor ticket costs and to become a member\, please visit: mariettabusiness.org
URL:https://theccbb.com/event/mba-n-o-w/2027-04-01/
LOCATION:Third Door\, 131 Church Street\, Marietta\, GA\, 30060\, United States
CATEGORIES:Marietta Business Association
END:VEVENT
BEGIN:VEVENT
DTSTART;TZID=America/New_York:20270408T150000
DTEND;TZID=America/New_York:20270408T163000
DTSTAMP:20260425T071717
CREATED:20240806T191527Z
LAST-MODIFIED:20240806T191527Z
UID:10001268-1807196400-1807201800@theccbb.com
SUMMARY:MBA: N.O.W.
DESCRIPTION:Join us every Thursday at this “Invite only” FREE\, OPEN SEAT networking event. Our purpose is to support one another by learning about each other’s businesses which result in referrals \nWhat to bring:\n*Business cards\n*Your best 45-60 seconds about yourself\n*Notepad \nThe Format:\n***PLEASE DO NOT ARRIVE BEFORE 2:45***\n3-3:30 open networking\n3:30-4:30 45-60 second presentations\, Q&A\, and announcements on upcoming MBA events \nFor ticket costs and to become a member\, please visit: mariettabusiness.org
URL:https://theccbb.com/event/mba-n-o-w/2027-04-08/
LOCATION:Third Door\, 131 Church Street\, Marietta\, GA\, 30060\, United States
CATEGORIES:Marietta Business Association
END:VEVENT
BEGIN:VEVENT
DTSTART;TZID=America/New_York:20270415T150000
DTEND;TZID=America/New_York:20270415T163000
DTSTAMP:20260425T071717
CREATED:20240806T191527Z
LAST-MODIFIED:20240806T191527Z
UID:10001269-1807801200-1807806600@theccbb.com
SUMMARY:MBA: N.O.W.
DESCRIPTION:Join us every Thursday at this “Invite only” FREE\, OPEN SEAT networking event. Our purpose is to support one another by learning about each other’s businesses which result in referrals \nWhat to bring:\n*Business cards\n*Your best 45-60 seconds about yourself\n*Notepad \nThe Format:\n***PLEASE DO NOT ARRIVE BEFORE 2:45***\n3-3:30 open networking\n3:30-4:30 45-60 second presentations\, Q&A\, and announcements on upcoming MBA events \nFor ticket costs and to become a member\, please visit: mariettabusiness.org
URL:https://theccbb.com/event/mba-n-o-w/2027-04-15/
LOCATION:Third Door\, 131 Church Street\, Marietta\, GA\, 30060\, United States
CATEGORIES:Marietta Business Association
END:VEVENT
BEGIN:VEVENT
DTSTART;TZID=America/New_York:20270422T150000
DTEND;TZID=America/New_York:20270422T163000
DTSTAMP:20260425T071717
CREATED:20240806T191527Z
LAST-MODIFIED:20240806T191527Z
UID:10001270-1808406000-1808411400@theccbb.com
SUMMARY:MBA: N.O.W.
DESCRIPTION:Join us every Thursday at this “Invite only” FREE\, OPEN SEAT networking event. Our purpose is to support one another by learning about each other’s businesses which result in referrals \nWhat to bring:\n*Business cards\n*Your best 45-60 seconds about yourself\n*Notepad \nThe Format:\n***PLEASE DO NOT ARRIVE BEFORE 2:45***\n3-3:30 open networking\n3:30-4:30 45-60 second presentations\, Q&A\, and announcements on upcoming MBA events \nFor ticket costs and to become a member\, please visit: mariettabusiness.org
URL:https://theccbb.com/event/mba-n-o-w/2027-04-22/
LOCATION:Third Door\, 131 Church Street\, Marietta\, GA\, 30060\, United States
CATEGORIES:Marietta Business Association
END:VEVENT
BEGIN:VEVENT
DTSTART;TZID=America/New_York:20270426T113000
DTEND;TZID=America/New_York:20270426T130000
DTSTAMP:20260425T071717
CREATED:20240806T191105Z
LAST-MODIFIED:20240807T203043Z
UID:10001602-1808739000-1808744400@theccbb.com
SUMMARY:MBA: Business Development Luncheon
DESCRIPTION:Join us to hear from community\, state\, and nationally recognized government and business leaders as they share current and relevant information for doing business in Georgia. \n**Please note: If you choose not to register in advance\, you will pay an additional $5 at the door. \nFor ticket costs and to become a member\, please visit: mariettabusiness.org
URL:https://theccbb.com/event/mba-business-development-luncheon/2027-04-26/
LOCATION:The Foxglove\, 54 Atlanta St SE Suite B\, Marietta\, GA\, 30060\, United States
CATEGORIES:Marietta Business Association
END:VEVENT
END:VCALENDAR