BEGIN:VCALENDAR
VERSION:2.0
PRODID:-//Cobb County Business Bootcamp - ECPv6.15.18//NONSGML v1.0//EN
CALSCALE:GREGORIAN
METHOD:PUBLISH
X-WR-CALNAME:Cobb County Business Bootcamp
X-ORIGINAL-URL:https://theccbb.com
X-WR-CALDESC:Events for Cobb County Business Bootcamp
REFRESH-INTERVAL;VALUE=DURATION:PT1H
X-Robots-Tag:noindex
X-PUBLISHED-TTL:PT1H
BEGIN:VTIMEZONE
TZID:America/New_York
BEGIN:DAYLIGHT
TZOFFSETFROM:-0500
TZOFFSETTO:-0400
TZNAME:EDT
DTSTART:20270314T070000
END:DAYLIGHT
BEGIN:STANDARD
TZOFFSETFROM:-0400
TZOFFSETTO:-0500
TZNAME:EST
DTSTART:20271107T060000
END:STANDARD
BEGIN:DAYLIGHT
TZOFFSETFROM:-0500
TZOFFSETTO:-0400
TZNAME:EDT
DTSTART:20280312T070000
END:DAYLIGHT
BEGIN:STANDARD
TZOFFSETFROM:-0400
TZOFFSETTO:-0500
TZNAME:EST
DTSTART:20281105T060000
END:STANDARD
BEGIN:DAYLIGHT
TZOFFSETFROM:-0500
TZOFFSETTO:-0400
TZNAME:EDT
DTSTART:20290311T070000
END:DAYLIGHT
BEGIN:STANDARD
TZOFFSETFROM:-0400
TZOFFSETTO:-0500
TZNAME:EST
DTSTART:20291104T060000
END:STANDARD
BEGIN:DAYLIGHT
TZOFFSETFROM:-0500
TZOFFSETTO:-0400
TZNAME:EDT
DTSTART:20300310T070000
END:DAYLIGHT
BEGIN:STANDARD
TZOFFSETFROM:-0400
TZOFFSETTO:-0500
TZNAME:EST
DTSTART:20301103T060000
END:STANDARD
END:VTIMEZONE
BEGIN:VEVENT
DTSTART;TZID=America/New_York:20281123T150000
DTEND;TZID=America/New_York:20281123T163000
DTSTAMP:20260425T173542
CREATED:20240806T191527Z
LAST-MODIFIED:20240806T191527Z
UID:10001353-1858604400-1858609800@theccbb.com
SUMMARY:MBA: N.O.W.
DESCRIPTION:Join us every Thursday at this “Invite only” FREE\, OPEN SEAT networking event. Our purpose is to support one another by learning about each other’s businesses which result in referrals \nWhat to bring:\n*Business cards\n*Your best 45-60 seconds about yourself\n*Notepad \nThe Format:\n***PLEASE DO NOT ARRIVE BEFORE 2:45***\n3-3:30 open networking\n3:30-4:30 45-60 second presentations\, Q&A\, and announcements on upcoming MBA events \nFor ticket costs and to become a member\, please visit: mariettabusiness.org
URL:https://theccbb.com/event/mba-n-o-w/2028-11-23/
LOCATION:Third Door\, 131 Church Street\, Marietta\, GA\, 30060\, United States
CATEGORIES:Marietta Business Association
END:VEVENT
BEGIN:VEVENT
DTSTART;TZID=America/New_York:20281127T113000
DTEND;TZID=America/New_York:20281127T130000
DTSTAMP:20260425T173542
CREATED:20240806T191105Z
LAST-MODIFIED:20240807T203043Z
UID:10001621-1858937400-1858942800@theccbb.com
SUMMARY:MBA: Business Development Luncheon
DESCRIPTION:Join us to hear from community\, state\, and nationally recognized government and business leaders as they share current and relevant information for doing business in Georgia. \n**Please note: If you choose not to register in advance\, you will pay an additional $5 at the door. \nFor ticket costs and to become a member\, please visit: mariettabusiness.org
URL:https://theccbb.com/event/mba-business-development-luncheon/2028-11-27/
LOCATION:The Foxglove\, 54 Atlanta St SE Suite B\, Marietta\, GA\, 30060\, United States
CATEGORIES:Marietta Business Association
END:VEVENT
BEGIN:VEVENT
DTSTART;TZID=America/New_York:20281130T150000
DTEND;TZID=America/New_York:20281130T163000
DTSTAMP:20260425T173542
CREATED:20240806T191527Z
LAST-MODIFIED:20240806T191527Z
UID:10001354-1859209200-1859214600@theccbb.com
SUMMARY:MBA: N.O.W.
DESCRIPTION:Join us every Thursday at this “Invite only” FREE\, OPEN SEAT networking event. Our purpose is to support one another by learning about each other’s businesses which result in referrals \nWhat to bring:\n*Business cards\n*Your best 45-60 seconds about yourself\n*Notepad \nThe Format:\n***PLEASE DO NOT ARRIVE BEFORE 2:45***\n3-3:30 open networking\n3:30-4:30 45-60 second presentations\, Q&A\, and announcements on upcoming MBA events \nFor ticket costs and to become a member\, please visit: mariettabusiness.org
URL:https://theccbb.com/event/mba-n-o-w/2028-11-30/
LOCATION:Third Door\, 131 Church Street\, Marietta\, GA\, 30060\, United States
CATEGORIES:Marietta Business Association
END:VEVENT
BEGIN:VEVENT
DTSTART;TZID=America/New_York:20281207T150000
DTEND;TZID=America/New_York:20281207T163000
DTSTAMP:20260425T173542
CREATED:20240806T191527Z
LAST-MODIFIED:20240806T191527Z
UID:10001355-1859814000-1859819400@theccbb.com
SUMMARY:MBA: N.O.W.
DESCRIPTION:Join us every Thursday at this “Invite only” FREE\, OPEN SEAT networking event. Our purpose is to support one another by learning about each other’s businesses which result in referrals \nWhat to bring:\n*Business cards\n*Your best 45-60 seconds about yourself\n*Notepad \nThe Format:\n***PLEASE DO NOT ARRIVE BEFORE 2:45***\n3-3:30 open networking\n3:30-4:30 45-60 second presentations\, Q&A\, and announcements on upcoming MBA events \nFor ticket costs and to become a member\, please visit: mariettabusiness.org
URL:https://theccbb.com/event/mba-n-o-w/2028-12-07/
LOCATION:Third Door\, 131 Church Street\, Marietta\, GA\, 30060\, United States
CATEGORIES:Marietta Business Association
END:VEVENT
BEGIN:VEVENT
DTSTART;TZID=America/New_York:20281214T150000
DTEND;TZID=America/New_York:20281214T163000
DTSTAMP:20260425T173542
CREATED:20240806T191527Z
LAST-MODIFIED:20240806T191527Z
UID:10001356-1860418800-1860424200@theccbb.com
SUMMARY:MBA: N.O.W.
DESCRIPTION:Join us every Thursday at this “Invite only” FREE\, OPEN SEAT networking event. Our purpose is to support one another by learning about each other’s businesses which result in referrals \nWhat to bring:\n*Business cards\n*Your best 45-60 seconds about yourself\n*Notepad \nThe Format:\n***PLEASE DO NOT ARRIVE BEFORE 2:45***\n3-3:30 open networking\n3:30-4:30 45-60 second presentations\, Q&A\, and announcements on upcoming MBA events \nFor ticket costs and to become a member\, please visit: mariettabusiness.org
URL:https://theccbb.com/event/mba-n-o-w/2028-12-14/
LOCATION:Third Door\, 131 Church Street\, Marietta\, GA\, 30060\, United States
CATEGORIES:Marietta Business Association
END:VEVENT
BEGIN:VEVENT
DTSTART;TZID=America/New_York:20281221T150000
DTEND;TZID=America/New_York:20281221T163000
DTSTAMP:20260425T173542
CREATED:20240806T191527Z
LAST-MODIFIED:20240806T191527Z
UID:10001357-1861023600-1861029000@theccbb.com
SUMMARY:MBA: N.O.W.
DESCRIPTION:Join us every Thursday at this “Invite only” FREE\, OPEN SEAT networking event. Our purpose is to support one another by learning about each other’s businesses which result in referrals \nWhat to bring:\n*Business cards\n*Your best 45-60 seconds about yourself\n*Notepad \nThe Format:\n***PLEASE DO NOT ARRIVE BEFORE 2:45***\n3-3:30 open networking\n3:30-4:30 45-60 second presentations\, Q&A\, and announcements on upcoming MBA events \nFor ticket costs and to become a member\, please visit: mariettabusiness.org
URL:https://theccbb.com/event/mba-n-o-w/2028-12-21/
LOCATION:Third Door\, 131 Church Street\, Marietta\, GA\, 30060\, United States
CATEGORIES:Marietta Business Association
END:VEVENT
BEGIN:VEVENT
DTSTART;TZID=America/New_York:20281225T113000
DTEND;TZID=America/New_York:20281225T130000
DTSTAMP:20260425T173542
CREATED:20240806T191105Z
LAST-MODIFIED:20240807T203043Z
UID:10001622-1861356600-1861362000@theccbb.com
SUMMARY:MBA: Business Development Luncheon
DESCRIPTION:Join us to hear from community\, state\, and nationally recognized government and business leaders as they share current and relevant information for doing business in Georgia. \n**Please note: If you choose not to register in advance\, you will pay an additional $5 at the door. \nFor ticket costs and to become a member\, please visit: mariettabusiness.org
URL:https://theccbb.com/event/mba-business-development-luncheon/2028-12-25/
LOCATION:The Foxglove\, 54 Atlanta St SE Suite B\, Marietta\, GA\, 30060\, United States
CATEGORIES:Marietta Business Association
END:VEVENT
BEGIN:VEVENT
DTSTART;TZID=America/New_York:20281228T150000
DTEND;TZID=America/New_York:20281228T163000
DTSTAMP:20260425T173542
CREATED:20240806T191527Z
LAST-MODIFIED:20240806T191527Z
UID:10001358-1861628400-1861633800@theccbb.com
SUMMARY:MBA: N.O.W.
DESCRIPTION:Join us every Thursday at this “Invite only” FREE\, OPEN SEAT networking event. Our purpose is to support one another by learning about each other’s businesses which result in referrals \nWhat to bring:\n*Business cards\n*Your best 45-60 seconds about yourself\n*Notepad \nThe Format:\n***PLEASE DO NOT ARRIVE BEFORE 2:45***\n3-3:30 open networking\n3:30-4:30 45-60 second presentations\, Q&A\, and announcements on upcoming MBA events \nFor ticket costs and to become a member\, please visit: mariettabusiness.org
URL:https://theccbb.com/event/mba-n-o-w/2028-12-28/
LOCATION:Third Door\, 131 Church Street\, Marietta\, GA\, 30060\, United States
CATEGORIES:Marietta Business Association
END:VEVENT
BEGIN:VEVENT
DTSTART;TZID=America/New_York:20290104T150000
DTEND;TZID=America/New_York:20290104T163000
DTSTAMP:20260425T173542
CREATED:20240806T191527Z
LAST-MODIFIED:20240806T191527Z
UID:10001359-1862233200-1862238600@theccbb.com
SUMMARY:MBA: N.O.W.
DESCRIPTION:Join us every Thursday at this “Invite only” FREE\, OPEN SEAT networking event. Our purpose is to support one another by learning about each other’s businesses which result in referrals \nWhat to bring:\n*Business cards\n*Your best 45-60 seconds about yourself\n*Notepad \nThe Format:\n***PLEASE DO NOT ARRIVE BEFORE 2:45***\n3-3:30 open networking\n3:30-4:30 45-60 second presentations\, Q&A\, and announcements on upcoming MBA events \nFor ticket costs and to become a member\, please visit: mariettabusiness.org
URL:https://theccbb.com/event/mba-n-o-w/2029-01-04/
LOCATION:Third Door\, 131 Church Street\, Marietta\, GA\, 30060\, United States
CATEGORIES:Marietta Business Association
END:VEVENT
BEGIN:VEVENT
DTSTART;TZID=America/New_York:20290111T150000
DTEND;TZID=America/New_York:20290111T163000
DTSTAMP:20260425T173542
CREATED:20240806T191527Z
LAST-MODIFIED:20240806T191527Z
UID:10001360-1862838000-1862843400@theccbb.com
SUMMARY:MBA: N.O.W.
DESCRIPTION:Join us every Thursday at this “Invite only” FREE\, OPEN SEAT networking event. Our purpose is to support one another by learning about each other’s businesses which result in referrals \nWhat to bring:\n*Business cards\n*Your best 45-60 seconds about yourself\n*Notepad \nThe Format:\n***PLEASE DO NOT ARRIVE BEFORE 2:45***\n3-3:30 open networking\n3:30-4:30 45-60 second presentations\, Q&A\, and announcements on upcoming MBA events \nFor ticket costs and to become a member\, please visit: mariettabusiness.org
URL:https://theccbb.com/event/mba-n-o-w/2029-01-11/
LOCATION:Third Door\, 131 Church Street\, Marietta\, GA\, 30060\, United States
CATEGORIES:Marietta Business Association
END:VEVENT
BEGIN:VEVENT
DTSTART;TZID=America/New_York:20290118T150000
DTEND;TZID=America/New_York:20290118T163000
DTSTAMP:20260425T173542
CREATED:20240806T191527Z
LAST-MODIFIED:20240806T191527Z
UID:10001361-1863442800-1863448200@theccbb.com
SUMMARY:MBA: N.O.W.
DESCRIPTION:Join us every Thursday at this “Invite only” FREE\, OPEN SEAT networking event. Our purpose is to support one another by learning about each other’s businesses which result in referrals \nWhat to bring:\n*Business cards\n*Your best 45-60 seconds about yourself\n*Notepad \nThe Format:\n***PLEASE DO NOT ARRIVE BEFORE 2:45***\n3-3:30 open networking\n3:30-4:30 45-60 second presentations\, Q&A\, and announcements on upcoming MBA events \nFor ticket costs and to become a member\, please visit: mariettabusiness.org
URL:https://theccbb.com/event/mba-n-o-w/2029-01-18/
LOCATION:Third Door\, 131 Church Street\, Marietta\, GA\, 30060\, United States
CATEGORIES:Marietta Business Association
END:VEVENT
BEGIN:VEVENT
DTSTART;TZID=America/New_York:20290122T113000
DTEND;TZID=America/New_York:20290122T130000
DTSTAMP:20260425T173542
CREATED:20240806T191105Z
LAST-MODIFIED:20240807T203043Z
UID:10001623-1863775800-1863781200@theccbb.com
SUMMARY:MBA: Business Development Luncheon
DESCRIPTION:Join us to hear from community\, state\, and nationally recognized government and business leaders as they share current and relevant information for doing business in Georgia. \n**Please note: If you choose not to register in advance\, you will pay an additional $5 at the door. \nFor ticket costs and to become a member\, please visit: mariettabusiness.org
URL:https://theccbb.com/event/mba-business-development-luncheon/2029-01-22/
LOCATION:The Foxglove\, 54 Atlanta St SE Suite B\, Marietta\, GA\, 30060\, United States
CATEGORIES:Marietta Business Association
END:VEVENT
BEGIN:VEVENT
DTSTART;TZID=America/New_York:20290125T150000
DTEND;TZID=America/New_York:20290125T163000
DTSTAMP:20260425T173542
CREATED:20240806T191527Z
LAST-MODIFIED:20240806T191527Z
UID:10001362-1864047600-1864053000@theccbb.com
SUMMARY:MBA: N.O.W.
DESCRIPTION:Join us every Thursday at this “Invite only” FREE\, OPEN SEAT networking event. Our purpose is to support one another by learning about each other’s businesses which result in referrals \nWhat to bring:\n*Business cards\n*Your best 45-60 seconds about yourself\n*Notepad \nThe Format:\n***PLEASE DO NOT ARRIVE BEFORE 2:45***\n3-3:30 open networking\n3:30-4:30 45-60 second presentations\, Q&A\, and announcements on upcoming MBA events \nFor ticket costs and to become a member\, please visit: mariettabusiness.org
URL:https://theccbb.com/event/mba-n-o-w/2029-01-25/
LOCATION:Third Door\, 131 Church Street\, Marietta\, GA\, 30060\, United States
CATEGORIES:Marietta Business Association
END:VEVENT
BEGIN:VEVENT
DTSTART;TZID=America/New_York:20290201T150000
DTEND;TZID=America/New_York:20290201T163000
DTSTAMP:20260425T173542
CREATED:20240806T191527Z
LAST-MODIFIED:20240806T191527Z
UID:10001363-1864652400-1864657800@theccbb.com
SUMMARY:MBA: N.O.W.
DESCRIPTION:Join us every Thursday at this “Invite only” FREE\, OPEN SEAT networking event. Our purpose is to support one another by learning about each other’s businesses which result in referrals \nWhat to bring:\n*Business cards\n*Your best 45-60 seconds about yourself\n*Notepad \nThe Format:\n***PLEASE DO NOT ARRIVE BEFORE 2:45***\n3-3:30 open networking\n3:30-4:30 45-60 second presentations\, Q&A\, and announcements on upcoming MBA events \nFor ticket costs and to become a member\, please visit: mariettabusiness.org
URL:https://theccbb.com/event/mba-n-o-w/2029-02-01/
LOCATION:Third Door\, 131 Church Street\, Marietta\, GA\, 30060\, United States
CATEGORIES:Marietta Business Association
END:VEVENT
BEGIN:VEVENT
DTSTART;TZID=America/New_York:20290208T150000
DTEND;TZID=America/New_York:20290208T163000
DTSTAMP:20260425T173542
CREATED:20240806T191527Z
LAST-MODIFIED:20240806T191527Z
UID:10001364-1865257200-1865262600@theccbb.com
SUMMARY:MBA: N.O.W.
DESCRIPTION:Join us every Thursday at this “Invite only” FREE\, OPEN SEAT networking event. Our purpose is to support one another by learning about each other’s businesses which result in referrals \nWhat to bring:\n*Business cards\n*Your best 45-60 seconds about yourself\n*Notepad \nThe Format:\n***PLEASE DO NOT ARRIVE BEFORE 2:45***\n3-3:30 open networking\n3:30-4:30 45-60 second presentations\, Q&A\, and announcements on upcoming MBA events \nFor ticket costs and to become a member\, please visit: mariettabusiness.org
URL:https://theccbb.com/event/mba-n-o-w/2029-02-08/
LOCATION:Third Door\, 131 Church Street\, Marietta\, GA\, 30060\, United States
CATEGORIES:Marietta Business Association
END:VEVENT
BEGIN:VEVENT
DTSTART;TZID=America/New_York:20290215T150000
DTEND;TZID=America/New_York:20290215T163000
DTSTAMP:20260425T173542
CREATED:20240806T191527Z
LAST-MODIFIED:20240806T191527Z
UID:10001365-1865862000-1865867400@theccbb.com
SUMMARY:MBA: N.O.W.
DESCRIPTION:Join us every Thursday at this “Invite only” FREE\, OPEN SEAT networking event. Our purpose is to support one another by learning about each other’s businesses which result in referrals \nWhat to bring:\n*Business cards\n*Your best 45-60 seconds about yourself\n*Notepad \nThe Format:\n***PLEASE DO NOT ARRIVE BEFORE 2:45***\n3-3:30 open networking\n3:30-4:30 45-60 second presentations\, Q&A\, and announcements on upcoming MBA events \nFor ticket costs and to become a member\, please visit: mariettabusiness.org
URL:https://theccbb.com/event/mba-n-o-w/2029-02-15/
LOCATION:Third Door\, 131 Church Street\, Marietta\, GA\, 30060\, United States
CATEGORIES:Marietta Business Association
END:VEVENT
BEGIN:VEVENT
DTSTART;TZID=America/New_York:20290222T150000
DTEND;TZID=America/New_York:20290222T163000
DTSTAMP:20260425T173542
CREATED:20240806T191527Z
LAST-MODIFIED:20240806T191527Z
UID:10001366-1866466800-1866472200@theccbb.com
SUMMARY:MBA: N.O.W.
DESCRIPTION:Join us every Thursday at this “Invite only” FREE\, OPEN SEAT networking event. Our purpose is to support one another by learning about each other’s businesses which result in referrals \nWhat to bring:\n*Business cards\n*Your best 45-60 seconds about yourself\n*Notepad \nThe Format:\n***PLEASE DO NOT ARRIVE BEFORE 2:45***\n3-3:30 open networking\n3:30-4:30 45-60 second presentations\, Q&A\, and announcements on upcoming MBA events \nFor ticket costs and to become a member\, please visit: mariettabusiness.org
URL:https://theccbb.com/event/mba-n-o-w/2029-02-22/
LOCATION:Third Door\, 131 Church Street\, Marietta\, GA\, 30060\, United States
CATEGORIES:Marietta Business Association
END:VEVENT
BEGIN:VEVENT
DTSTART;TZID=America/New_York:20290226T113000
DTEND;TZID=America/New_York:20290226T130000
DTSTAMP:20260425T173542
CREATED:20240806T191105Z
LAST-MODIFIED:20240807T203043Z
UID:10001624-1866799800-1866805200@theccbb.com
SUMMARY:MBA: Business Development Luncheon
DESCRIPTION:Join us to hear from community\, state\, and nationally recognized government and business leaders as they share current and relevant information for doing business in Georgia. \n**Please note: If you choose not to register in advance\, you will pay an additional $5 at the door. \nFor ticket costs and to become a member\, please visit: mariettabusiness.org
URL:https://theccbb.com/event/mba-business-development-luncheon/2029-02-26/
LOCATION:The Foxglove\, 54 Atlanta St SE Suite B\, Marietta\, GA\, 30060\, United States
CATEGORIES:Marietta Business Association
END:VEVENT
BEGIN:VEVENT
DTSTART;TZID=America/New_York:20290301T150000
DTEND;TZID=America/New_York:20290301T163000
DTSTAMP:20260425T173542
CREATED:20240806T191527Z
LAST-MODIFIED:20240806T191527Z
UID:10001367-1867071600-1867077000@theccbb.com
SUMMARY:MBA: N.O.W.
DESCRIPTION:Join us every Thursday at this “Invite only” FREE\, OPEN SEAT networking event. Our purpose is to support one another by learning about each other’s businesses which result in referrals \nWhat to bring:\n*Business cards\n*Your best 45-60 seconds about yourself\n*Notepad \nThe Format:\n***PLEASE DO NOT ARRIVE BEFORE 2:45***\n3-3:30 open networking\n3:30-4:30 45-60 second presentations\, Q&A\, and announcements on upcoming MBA events \nFor ticket costs and to become a member\, please visit: mariettabusiness.org
URL:https://theccbb.com/event/mba-n-o-w/2029-03-01/
LOCATION:Third Door\, 131 Church Street\, Marietta\, GA\, 30060\, United States
CATEGORIES:Marietta Business Association
END:VEVENT
BEGIN:VEVENT
DTSTART;TZID=America/New_York:20290308T150000
DTEND;TZID=America/New_York:20290308T163000
DTSTAMP:20260425T173542
CREATED:20240806T191527Z
LAST-MODIFIED:20240806T191527Z
UID:10001368-1867676400-1867681800@theccbb.com
SUMMARY:MBA: N.O.W.
DESCRIPTION:Join us every Thursday at this “Invite only” FREE\, OPEN SEAT networking event. Our purpose is to support one another by learning about each other’s businesses which result in referrals \nWhat to bring:\n*Business cards\n*Your best 45-60 seconds about yourself\n*Notepad \nThe Format:\n***PLEASE DO NOT ARRIVE BEFORE 2:45***\n3-3:30 open networking\n3:30-4:30 45-60 second presentations\, Q&A\, and announcements on upcoming MBA events \nFor ticket costs and to become a member\, please visit: mariettabusiness.org
URL:https://theccbb.com/event/mba-n-o-w/2029-03-08/
LOCATION:Third Door\, 131 Church Street\, Marietta\, GA\, 30060\, United States
CATEGORIES:Marietta Business Association
END:VEVENT
BEGIN:VEVENT
DTSTART;TZID=America/New_York:20290315T150000
DTEND;TZID=America/New_York:20290315T163000
DTSTAMP:20260425T173542
CREATED:20240806T191527Z
LAST-MODIFIED:20240806T191527Z
UID:10001369-1868281200-1868286600@theccbb.com
SUMMARY:MBA: N.O.W.
DESCRIPTION:Join us every Thursday at this “Invite only” FREE\, OPEN SEAT networking event. Our purpose is to support one another by learning about each other’s businesses which result in referrals \nWhat to bring:\n*Business cards\n*Your best 45-60 seconds about yourself\n*Notepad \nThe Format:\n***PLEASE DO NOT ARRIVE BEFORE 2:45***\n3-3:30 open networking\n3:30-4:30 45-60 second presentations\, Q&A\, and announcements on upcoming MBA events \nFor ticket costs and to become a member\, please visit: mariettabusiness.org
URL:https://theccbb.com/event/mba-n-o-w/2029-03-15/
LOCATION:Third Door\, 131 Church Street\, Marietta\, GA\, 30060\, United States
CATEGORIES:Marietta Business Association
END:VEVENT
BEGIN:VEVENT
DTSTART;TZID=America/New_York:20290322T150000
DTEND;TZID=America/New_York:20290322T163000
DTSTAMP:20260425T173542
CREATED:20240806T191527Z
LAST-MODIFIED:20240806T191527Z
UID:10001370-1868886000-1868891400@theccbb.com
SUMMARY:MBA: N.O.W.
DESCRIPTION:Join us every Thursday at this “Invite only” FREE\, OPEN SEAT networking event. Our purpose is to support one another by learning about each other’s businesses which result in referrals \nWhat to bring:\n*Business cards\n*Your best 45-60 seconds about yourself\n*Notepad \nThe Format:\n***PLEASE DO NOT ARRIVE BEFORE 2:45***\n3-3:30 open networking\n3:30-4:30 45-60 second presentations\, Q&A\, and announcements on upcoming MBA events \nFor ticket costs and to become a member\, please visit: mariettabusiness.org
URL:https://theccbb.com/event/mba-n-o-w/2029-03-22/
LOCATION:Third Door\, 131 Church Street\, Marietta\, GA\, 30060\, United States
CATEGORIES:Marietta Business Association
END:VEVENT
BEGIN:VEVENT
DTSTART;TZID=America/New_York:20290326T113000
DTEND;TZID=America/New_York:20290326T130000
DTSTAMP:20260425T173542
CREATED:20240806T191105Z
LAST-MODIFIED:20240807T203043Z
UID:10001625-1869219000-1869224400@theccbb.com
SUMMARY:MBA: Business Development Luncheon
DESCRIPTION:Join us to hear from community\, state\, and nationally recognized government and business leaders as they share current and relevant information for doing business in Georgia. \n**Please note: If you choose not to register in advance\, you will pay an additional $5 at the door. \nFor ticket costs and to become a member\, please visit: mariettabusiness.org
URL:https://theccbb.com/event/mba-business-development-luncheon/2029-03-26/
LOCATION:The Foxglove\, 54 Atlanta St SE Suite B\, Marietta\, GA\, 30060\, United States
CATEGORIES:Marietta Business Association
END:VEVENT
BEGIN:VEVENT
DTSTART;TZID=America/New_York:20290329T150000
DTEND;TZID=America/New_York:20290329T163000
DTSTAMP:20260425T173542
CREATED:20240806T191527Z
LAST-MODIFIED:20240806T191527Z
UID:10001371-1869490800-1869496200@theccbb.com
SUMMARY:MBA: N.O.W.
DESCRIPTION:Join us every Thursday at this “Invite only” FREE\, OPEN SEAT networking event. Our purpose is to support one another by learning about each other’s businesses which result in referrals \nWhat to bring:\n*Business cards\n*Your best 45-60 seconds about yourself\n*Notepad \nThe Format:\n***PLEASE DO NOT ARRIVE BEFORE 2:45***\n3-3:30 open networking\n3:30-4:30 45-60 second presentations\, Q&A\, and announcements on upcoming MBA events \nFor ticket costs and to become a member\, please visit: mariettabusiness.org
URL:https://theccbb.com/event/mba-n-o-w/2029-03-29/
LOCATION:Third Door\, 131 Church Street\, Marietta\, GA\, 30060\, United States
CATEGORIES:Marietta Business Association
END:VEVENT
BEGIN:VEVENT
DTSTART;TZID=America/New_York:20290405T150000
DTEND;TZID=America/New_York:20290405T163000
DTSTAMP:20260425T173542
CREATED:20240806T191527Z
LAST-MODIFIED:20240806T191527Z
UID:10001372-1870095600-1870101000@theccbb.com
SUMMARY:MBA: N.O.W.
DESCRIPTION:Join us every Thursday at this “Invite only” FREE\, OPEN SEAT networking event. Our purpose is to support one another by learning about each other’s businesses which result in referrals \nWhat to bring:\n*Business cards\n*Your best 45-60 seconds about yourself\n*Notepad \nThe Format:\n***PLEASE DO NOT ARRIVE BEFORE 2:45***\n3-3:30 open networking\n3:30-4:30 45-60 second presentations\, Q&A\, and announcements on upcoming MBA events \nFor ticket costs and to become a member\, please visit: mariettabusiness.org
URL:https://theccbb.com/event/mba-n-o-w/2029-04-05/
LOCATION:Third Door\, 131 Church Street\, Marietta\, GA\, 30060\, United States
CATEGORIES:Marietta Business Association
END:VEVENT
BEGIN:VEVENT
DTSTART;TZID=America/New_York:20290412T150000
DTEND;TZID=America/New_York:20290412T163000
DTSTAMP:20260425T173542
CREATED:20240806T191527Z
LAST-MODIFIED:20240806T191527Z
UID:10001373-1870700400-1870705800@theccbb.com
SUMMARY:MBA: N.O.W.
DESCRIPTION:Join us every Thursday at this “Invite only” FREE\, OPEN SEAT networking event. Our purpose is to support one another by learning about each other’s businesses which result in referrals \nWhat to bring:\n*Business cards\n*Your best 45-60 seconds about yourself\n*Notepad \nThe Format:\n***PLEASE DO NOT ARRIVE BEFORE 2:45***\n3-3:30 open networking\n3:30-4:30 45-60 second presentations\, Q&A\, and announcements on upcoming MBA events \nFor ticket costs and to become a member\, please visit: mariettabusiness.org
URL:https://theccbb.com/event/mba-n-o-w/2029-04-12/
LOCATION:Third Door\, 131 Church Street\, Marietta\, GA\, 30060\, United States
CATEGORIES:Marietta Business Association
END:VEVENT
BEGIN:VEVENT
DTSTART;TZID=America/New_York:20290419T150000
DTEND;TZID=America/New_York:20290419T163000
DTSTAMP:20260425T173542
CREATED:20240806T191527Z
LAST-MODIFIED:20240806T191527Z
UID:10001374-1871305200-1871310600@theccbb.com
SUMMARY:MBA: N.O.W.
DESCRIPTION:Join us every Thursday at this “Invite only” FREE\, OPEN SEAT networking event. Our purpose is to support one another by learning about each other’s businesses which result in referrals \nWhat to bring:\n*Business cards\n*Your best 45-60 seconds about yourself\n*Notepad \nThe Format:\n***PLEASE DO NOT ARRIVE BEFORE 2:45***\n3-3:30 open networking\n3:30-4:30 45-60 second presentations\, Q&A\, and announcements on upcoming MBA events \nFor ticket costs and to become a member\, please visit: mariettabusiness.org
URL:https://theccbb.com/event/mba-n-o-w/2029-04-19/
LOCATION:Third Door\, 131 Church Street\, Marietta\, GA\, 30060\, United States
CATEGORIES:Marietta Business Association
END:VEVENT
BEGIN:VEVENT
DTSTART;TZID=America/New_York:20290423T113000
DTEND;TZID=America/New_York:20290423T130000
DTSTAMP:20260425T173542
CREATED:20240806T191105Z
LAST-MODIFIED:20240807T203043Z
UID:10001626-1871638200-1871643600@theccbb.com
SUMMARY:MBA: Business Development Luncheon
DESCRIPTION:Join us to hear from community\, state\, and nationally recognized government and business leaders as they share current and relevant information for doing business in Georgia. \n**Please note: If you choose not to register in advance\, you will pay an additional $5 at the door. \nFor ticket costs and to become a member\, please visit: mariettabusiness.org
URL:https://theccbb.com/event/mba-business-development-luncheon/2029-04-23/
LOCATION:The Foxglove\, 54 Atlanta St SE Suite B\, Marietta\, GA\, 30060\, United States
CATEGORIES:Marietta Business Association
END:VEVENT
BEGIN:VEVENT
DTSTART;TZID=America/New_York:20290426T150000
DTEND;TZID=America/New_York:20290426T163000
DTSTAMP:20260425T173542
CREATED:20240806T191527Z
LAST-MODIFIED:20240806T191527Z
UID:10001375-1871910000-1871915400@theccbb.com
SUMMARY:MBA: N.O.W.
DESCRIPTION:Join us every Thursday at this “Invite only” FREE\, OPEN SEAT networking event. Our purpose is to support one another by learning about each other’s businesses which result in referrals \nWhat to bring:\n*Business cards\n*Your best 45-60 seconds about yourself\n*Notepad \nThe Format:\n***PLEASE DO NOT ARRIVE BEFORE 2:45***\n3-3:30 open networking\n3:30-4:30 45-60 second presentations\, Q&A\, and announcements on upcoming MBA events \nFor ticket costs and to become a member\, please visit: mariettabusiness.org
URL:https://theccbb.com/event/mba-n-o-w/2029-04-26/
LOCATION:Third Door\, 131 Church Street\, Marietta\, GA\, 30060\, United States
CATEGORIES:Marietta Business Association
END:VEVENT
BEGIN:VEVENT
DTSTART;TZID=America/New_York:20290503T150000
DTEND;TZID=America/New_York:20290503T163000
DTSTAMP:20260425T173542
CREATED:20240806T191527Z
LAST-MODIFIED:20240806T191527Z
UID:10001376-1872514800-1872520200@theccbb.com
SUMMARY:MBA: N.O.W.
DESCRIPTION:Join us every Thursday at this “Invite only” FREE\, OPEN SEAT networking event. Our purpose is to support one another by learning about each other’s businesses which result in referrals \nWhat to bring:\n*Business cards\n*Your best 45-60 seconds about yourself\n*Notepad \nThe Format:\n***PLEASE DO NOT ARRIVE BEFORE 2:45***\n3-3:30 open networking\n3:30-4:30 45-60 second presentations\, Q&A\, and announcements on upcoming MBA events \nFor ticket costs and to become a member\, please visit: mariettabusiness.org
URL:https://theccbb.com/event/mba-n-o-w/2029-05-03/
LOCATION:Third Door\, 131 Church Street\, Marietta\, GA\, 30060\, United States
CATEGORIES:Marietta Business Association
END:VEVENT
END:VCALENDAR