BEGIN:VCALENDAR
VERSION:2.0
PRODID:-//Cobb County Business Bootcamp - ECPv6.15.18//NONSGML v1.0//EN
CALSCALE:GREGORIAN
METHOD:PUBLISH
X-WR-CALNAME:Cobb County Business Bootcamp
X-ORIGINAL-URL:https://theccbb.com
X-WR-CALDESC:Events for Cobb County Business Bootcamp
REFRESH-INTERVAL;VALUE=DURATION:PT1H
X-Robots-Tag:noindex
X-PUBLISHED-TTL:PT1H
BEGIN:VTIMEZONE
TZID:America/New_York
BEGIN:DAYLIGHT
TZOFFSETFROM:-0500
TZOFFSETTO:-0400
TZNAME:EDT
DTSTART:20260308T070000
END:DAYLIGHT
BEGIN:STANDARD
TZOFFSETFROM:-0400
TZOFFSETTO:-0500
TZNAME:EST
DTSTART:20261101T060000
END:STANDARD
BEGIN:DAYLIGHT
TZOFFSETFROM:-0500
TZOFFSETTO:-0400
TZNAME:EDT
DTSTART:20270314T070000
END:DAYLIGHT
BEGIN:STANDARD
TZOFFSETFROM:-0400
TZOFFSETTO:-0500
TZNAME:EST
DTSTART:20271107T060000
END:STANDARD
BEGIN:DAYLIGHT
TZOFFSETFROM:-0500
TZOFFSETTO:-0400
TZNAME:EDT
DTSTART:20280312T070000
END:DAYLIGHT
BEGIN:STANDARD
TZOFFSETFROM:-0400
TZOFFSETTO:-0500
TZNAME:EST
DTSTART:20281105T060000
END:STANDARD
BEGIN:DAYLIGHT
TZOFFSETFROM:-0500
TZOFFSETTO:-0400
TZNAME:EDT
DTSTART:20290311T070000
END:DAYLIGHT
BEGIN:STANDARD
TZOFFSETFROM:-0400
TZOFFSETTO:-0500
TZNAME:EST
DTSTART:20291104T060000
END:STANDARD
END:VTIMEZONE
BEGIN:VEVENT
DTSTART;TZID=America/New_York:20270923T150000
DTEND;TZID=America/New_York:20270923T163000
DTSTAMP:20260425T083000
CREATED:20240806T191527Z
LAST-MODIFIED:20240806T191527Z
UID:10001292-1821711600-1821717000@theccbb.com
SUMMARY:MBA: N.O.W.
DESCRIPTION:Join us every Thursday at this “Invite only” FREE\, OPEN SEAT networking event. Our purpose is to support one another by learning about each other’s businesses which result in referrals \nWhat to bring:\n*Business cards\n*Your best 45-60 seconds about yourself\n*Notepad \nThe Format:\n***PLEASE DO NOT ARRIVE BEFORE 2:45***\n3-3:30 open networking\n3:30-4:30 45-60 second presentations\, Q&A\, and announcements on upcoming MBA events \nFor ticket costs and to become a member\, please visit: mariettabusiness.org
URL:https://theccbb.com/event/mba-n-o-w/2027-09-23/
LOCATION:Third Door\, 131 Church Street\, Marietta\, GA\, 30060\, United States
CATEGORIES:Marietta Business Association
END:VEVENT
BEGIN:VEVENT
DTSTART;TZID=America/New_York:20270927T113000
DTEND;TZID=America/New_York:20270927T130000
DTSTAMP:20260425T083000
CREATED:20240806T191105Z
LAST-MODIFIED:20240807T203043Z
UID:10001607-1822044600-1822050000@theccbb.com
SUMMARY:MBA: Business Development Luncheon
DESCRIPTION:Join us to hear from community\, state\, and nationally recognized government and business leaders as they share current and relevant information for doing business in Georgia. \n**Please note: If you choose not to register in advance\, you will pay an additional $5 at the door. \nFor ticket costs and to become a member\, please visit: mariettabusiness.org
URL:https://theccbb.com/event/mba-business-development-luncheon/2027-09-27/
LOCATION:The Foxglove\, 54 Atlanta St SE Suite B\, Marietta\, GA\, 30060\, United States
CATEGORIES:Marietta Business Association
END:VEVENT
BEGIN:VEVENT
DTSTART;TZID=America/New_York:20270930T150000
DTEND;TZID=America/New_York:20270930T163000
DTSTAMP:20260425T083000
CREATED:20240806T191527Z
LAST-MODIFIED:20240806T191527Z
UID:10001293-1822316400-1822321800@theccbb.com
SUMMARY:MBA: N.O.W.
DESCRIPTION:Join us every Thursday at this “Invite only” FREE\, OPEN SEAT networking event. Our purpose is to support one another by learning about each other’s businesses which result in referrals \nWhat to bring:\n*Business cards\n*Your best 45-60 seconds about yourself\n*Notepad \nThe Format:\n***PLEASE DO NOT ARRIVE BEFORE 2:45***\n3-3:30 open networking\n3:30-4:30 45-60 second presentations\, Q&A\, and announcements on upcoming MBA events \nFor ticket costs and to become a member\, please visit: mariettabusiness.org
URL:https://theccbb.com/event/mba-n-o-w/2027-09-30/
LOCATION:Third Door\, 131 Church Street\, Marietta\, GA\, 30060\, United States
CATEGORIES:Marietta Business Association
END:VEVENT
BEGIN:VEVENT
DTSTART;TZID=America/New_York:20271007T150000
DTEND;TZID=America/New_York:20271007T163000
DTSTAMP:20260425T083000
CREATED:20240806T191527Z
LAST-MODIFIED:20240806T191527Z
UID:10001294-1822921200-1822926600@theccbb.com
SUMMARY:MBA: N.O.W.
DESCRIPTION:Join us every Thursday at this “Invite only” FREE\, OPEN SEAT networking event. Our purpose is to support one another by learning about each other’s businesses which result in referrals \nWhat to bring:\n*Business cards\n*Your best 45-60 seconds about yourself\n*Notepad \nThe Format:\n***PLEASE DO NOT ARRIVE BEFORE 2:45***\n3-3:30 open networking\n3:30-4:30 45-60 second presentations\, Q&A\, and announcements on upcoming MBA events \nFor ticket costs and to become a member\, please visit: mariettabusiness.org
URL:https://theccbb.com/event/mba-n-o-w/2027-10-07/
LOCATION:Third Door\, 131 Church Street\, Marietta\, GA\, 30060\, United States
CATEGORIES:Marietta Business Association
END:VEVENT
BEGIN:VEVENT
DTSTART;TZID=America/New_York:20271014T150000
DTEND;TZID=America/New_York:20271014T163000
DTSTAMP:20260425T083000
CREATED:20240806T191527Z
LAST-MODIFIED:20240806T191527Z
UID:10001295-1823526000-1823531400@theccbb.com
SUMMARY:MBA: N.O.W.
DESCRIPTION:Join us every Thursday at this “Invite only” FREE\, OPEN SEAT networking event. Our purpose is to support one another by learning about each other’s businesses which result in referrals \nWhat to bring:\n*Business cards\n*Your best 45-60 seconds about yourself\n*Notepad \nThe Format:\n***PLEASE DO NOT ARRIVE BEFORE 2:45***\n3-3:30 open networking\n3:30-4:30 45-60 second presentations\, Q&A\, and announcements on upcoming MBA events \nFor ticket costs and to become a member\, please visit: mariettabusiness.org
URL:https://theccbb.com/event/mba-n-o-w/2027-10-14/
LOCATION:Third Door\, 131 Church Street\, Marietta\, GA\, 30060\, United States
CATEGORIES:Marietta Business Association
END:VEVENT
BEGIN:VEVENT
DTSTART;TZID=America/New_York:20271021T150000
DTEND;TZID=America/New_York:20271021T163000
DTSTAMP:20260425T083000
CREATED:20240806T191527Z
LAST-MODIFIED:20240806T191527Z
UID:10001296-1824130800-1824136200@theccbb.com
SUMMARY:MBA: N.O.W.
DESCRIPTION:Join us every Thursday at this “Invite only” FREE\, OPEN SEAT networking event. Our purpose is to support one another by learning about each other’s businesses which result in referrals \nWhat to bring:\n*Business cards\n*Your best 45-60 seconds about yourself\n*Notepad \nThe Format:\n***PLEASE DO NOT ARRIVE BEFORE 2:45***\n3-3:30 open networking\n3:30-4:30 45-60 second presentations\, Q&A\, and announcements on upcoming MBA events \nFor ticket costs and to become a member\, please visit: mariettabusiness.org
URL:https://theccbb.com/event/mba-n-o-w/2027-10-21/
LOCATION:Third Door\, 131 Church Street\, Marietta\, GA\, 30060\, United States
CATEGORIES:Marietta Business Association
END:VEVENT
BEGIN:VEVENT
DTSTART;TZID=America/New_York:20271025T113000
DTEND;TZID=America/New_York:20271025T130000
DTSTAMP:20260425T083000
CREATED:20240806T191105Z
LAST-MODIFIED:20240807T203043Z
UID:10001608-1824463800-1824469200@theccbb.com
SUMMARY:MBA: Business Development Luncheon
DESCRIPTION:Join us to hear from community\, state\, and nationally recognized government and business leaders as they share current and relevant information for doing business in Georgia. \n**Please note: If you choose not to register in advance\, you will pay an additional $5 at the door. \nFor ticket costs and to become a member\, please visit: mariettabusiness.org
URL:https://theccbb.com/event/mba-business-development-luncheon/2027-10-25/
LOCATION:The Foxglove\, 54 Atlanta St SE Suite B\, Marietta\, GA\, 30060\, United States
CATEGORIES:Marietta Business Association
END:VEVENT
BEGIN:VEVENT
DTSTART;TZID=America/New_York:20271028T150000
DTEND;TZID=America/New_York:20271028T163000
DTSTAMP:20260425T083000
CREATED:20240806T191527Z
LAST-MODIFIED:20240806T191527Z
UID:10001297-1824735600-1824741000@theccbb.com
SUMMARY:MBA: N.O.W.
DESCRIPTION:Join us every Thursday at this “Invite only” FREE\, OPEN SEAT networking event. Our purpose is to support one another by learning about each other’s businesses which result in referrals \nWhat to bring:\n*Business cards\n*Your best 45-60 seconds about yourself\n*Notepad \nThe Format:\n***PLEASE DO NOT ARRIVE BEFORE 2:45***\n3-3:30 open networking\n3:30-4:30 45-60 second presentations\, Q&A\, and announcements on upcoming MBA events \nFor ticket costs and to become a member\, please visit: mariettabusiness.org
URL:https://theccbb.com/event/mba-n-o-w/2027-10-28/
LOCATION:Third Door\, 131 Church Street\, Marietta\, GA\, 30060\, United States
CATEGORIES:Marietta Business Association
END:VEVENT
BEGIN:VEVENT
DTSTART;TZID=America/New_York:20271104T150000
DTEND;TZID=America/New_York:20271104T163000
DTSTAMP:20260425T083000
CREATED:20240806T191527Z
LAST-MODIFIED:20240806T191527Z
UID:10001298-1825340400-1825345800@theccbb.com
SUMMARY:MBA: N.O.W.
DESCRIPTION:Join us every Thursday at this “Invite only” FREE\, OPEN SEAT networking event. Our purpose is to support one another by learning about each other’s businesses which result in referrals \nWhat to bring:\n*Business cards\n*Your best 45-60 seconds about yourself\n*Notepad \nThe Format:\n***PLEASE DO NOT ARRIVE BEFORE 2:45***\n3-3:30 open networking\n3:30-4:30 45-60 second presentations\, Q&A\, and announcements on upcoming MBA events \nFor ticket costs and to become a member\, please visit: mariettabusiness.org
URL:https://theccbb.com/event/mba-n-o-w/2027-11-04/
LOCATION:Third Door\, 131 Church Street\, Marietta\, GA\, 30060\, United States
CATEGORIES:Marietta Business Association
END:VEVENT
BEGIN:VEVENT
DTSTART;TZID=America/New_York:20271111T150000
DTEND;TZID=America/New_York:20271111T163000
DTSTAMP:20260425T083000
CREATED:20240806T191527Z
LAST-MODIFIED:20240806T191527Z
UID:10001299-1825945200-1825950600@theccbb.com
SUMMARY:MBA: N.O.W.
DESCRIPTION:Join us every Thursday at this “Invite only” FREE\, OPEN SEAT networking event. Our purpose is to support one another by learning about each other’s businesses which result in referrals \nWhat to bring:\n*Business cards\n*Your best 45-60 seconds about yourself\n*Notepad \nThe Format:\n***PLEASE DO NOT ARRIVE BEFORE 2:45***\n3-3:30 open networking\n3:30-4:30 45-60 second presentations\, Q&A\, and announcements on upcoming MBA events \nFor ticket costs and to become a member\, please visit: mariettabusiness.org
URL:https://theccbb.com/event/mba-n-o-w/2027-11-11/
LOCATION:Third Door\, 131 Church Street\, Marietta\, GA\, 30060\, United States
CATEGORIES:Marietta Business Association
END:VEVENT
BEGIN:VEVENT
DTSTART;TZID=America/New_York:20271118T150000
DTEND;TZID=America/New_York:20271118T163000
DTSTAMP:20260425T083000
CREATED:20240806T191527Z
LAST-MODIFIED:20240806T191527Z
UID:10001300-1826550000-1826555400@theccbb.com
SUMMARY:MBA: N.O.W.
DESCRIPTION:Join us every Thursday at this “Invite only” FREE\, OPEN SEAT networking event. Our purpose is to support one another by learning about each other’s businesses which result in referrals \nWhat to bring:\n*Business cards\n*Your best 45-60 seconds about yourself\n*Notepad \nThe Format:\n***PLEASE DO NOT ARRIVE BEFORE 2:45***\n3-3:30 open networking\n3:30-4:30 45-60 second presentations\, Q&A\, and announcements on upcoming MBA events \nFor ticket costs and to become a member\, please visit: mariettabusiness.org
URL:https://theccbb.com/event/mba-n-o-w/2027-11-18/
LOCATION:Third Door\, 131 Church Street\, Marietta\, GA\, 30060\, United States
CATEGORIES:Marietta Business Association
END:VEVENT
BEGIN:VEVENT
DTSTART;TZID=America/New_York:20271122T113000
DTEND;TZID=America/New_York:20271122T130000
DTSTAMP:20260425T083000
CREATED:20240806T191105Z
LAST-MODIFIED:20240807T203043Z
UID:10001609-1826883000-1826888400@theccbb.com
SUMMARY:MBA: Business Development Luncheon
DESCRIPTION:Join us to hear from community\, state\, and nationally recognized government and business leaders as they share current and relevant information for doing business in Georgia. \n**Please note: If you choose not to register in advance\, you will pay an additional $5 at the door. \nFor ticket costs and to become a member\, please visit: mariettabusiness.org
URL:https://theccbb.com/event/mba-business-development-luncheon/2027-11-22/
LOCATION:The Foxglove\, 54 Atlanta St SE Suite B\, Marietta\, GA\, 30060\, United States
CATEGORIES:Marietta Business Association
END:VEVENT
BEGIN:VEVENT
DTSTART;TZID=America/New_York:20271125T150000
DTEND;TZID=America/New_York:20271125T163000
DTSTAMP:20260425T083000
CREATED:20240806T191527Z
LAST-MODIFIED:20240806T191527Z
UID:10001301-1827154800-1827160200@theccbb.com
SUMMARY:MBA: N.O.W.
DESCRIPTION:Join us every Thursday at this “Invite only” FREE\, OPEN SEAT networking event. Our purpose is to support one another by learning about each other’s businesses which result in referrals \nWhat to bring:\n*Business cards\n*Your best 45-60 seconds about yourself\n*Notepad \nThe Format:\n***PLEASE DO NOT ARRIVE BEFORE 2:45***\n3-3:30 open networking\n3:30-4:30 45-60 second presentations\, Q&A\, and announcements on upcoming MBA events \nFor ticket costs and to become a member\, please visit: mariettabusiness.org
URL:https://theccbb.com/event/mba-n-o-w/2027-11-25/
LOCATION:Third Door\, 131 Church Street\, Marietta\, GA\, 30060\, United States
CATEGORIES:Marietta Business Association
END:VEVENT
BEGIN:VEVENT
DTSTART;TZID=America/New_York:20271202T150000
DTEND;TZID=America/New_York:20271202T163000
DTSTAMP:20260425T083000
CREATED:20240806T191527Z
LAST-MODIFIED:20240806T191527Z
UID:10001302-1827759600-1827765000@theccbb.com
SUMMARY:MBA: N.O.W.
DESCRIPTION:Join us every Thursday at this “Invite only” FREE\, OPEN SEAT networking event. Our purpose is to support one another by learning about each other’s businesses which result in referrals \nWhat to bring:\n*Business cards\n*Your best 45-60 seconds about yourself\n*Notepad \nThe Format:\n***PLEASE DO NOT ARRIVE BEFORE 2:45***\n3-3:30 open networking\n3:30-4:30 45-60 second presentations\, Q&A\, and announcements on upcoming MBA events \nFor ticket costs and to become a member\, please visit: mariettabusiness.org
URL:https://theccbb.com/event/mba-n-o-w/2027-12-02/
LOCATION:Third Door\, 131 Church Street\, Marietta\, GA\, 30060\, United States
CATEGORIES:Marietta Business Association
END:VEVENT
BEGIN:VEVENT
DTSTART;TZID=America/New_York:20271209T150000
DTEND;TZID=America/New_York:20271209T163000
DTSTAMP:20260425T083000
CREATED:20240806T191527Z
LAST-MODIFIED:20240806T191527Z
UID:10001303-1828364400-1828369800@theccbb.com
SUMMARY:MBA: N.O.W.
DESCRIPTION:Join us every Thursday at this “Invite only” FREE\, OPEN SEAT networking event. Our purpose is to support one another by learning about each other’s businesses which result in referrals \nWhat to bring:\n*Business cards\n*Your best 45-60 seconds about yourself\n*Notepad \nThe Format:\n***PLEASE DO NOT ARRIVE BEFORE 2:45***\n3-3:30 open networking\n3:30-4:30 45-60 second presentations\, Q&A\, and announcements on upcoming MBA events \nFor ticket costs and to become a member\, please visit: mariettabusiness.org
URL:https://theccbb.com/event/mba-n-o-w/2027-12-09/
LOCATION:Third Door\, 131 Church Street\, Marietta\, GA\, 30060\, United States
CATEGORIES:Marietta Business Association
END:VEVENT
BEGIN:VEVENT
DTSTART;TZID=America/New_York:20271216T150000
DTEND;TZID=America/New_York:20271216T163000
DTSTAMP:20260425T083000
CREATED:20240806T191527Z
LAST-MODIFIED:20240806T191527Z
UID:10001304-1828969200-1828974600@theccbb.com
SUMMARY:MBA: N.O.W.
DESCRIPTION:Join us every Thursday at this “Invite only” FREE\, OPEN SEAT networking event. Our purpose is to support one another by learning about each other’s businesses which result in referrals \nWhat to bring:\n*Business cards\n*Your best 45-60 seconds about yourself\n*Notepad \nThe Format:\n***PLEASE DO NOT ARRIVE BEFORE 2:45***\n3-3:30 open networking\n3:30-4:30 45-60 second presentations\, Q&A\, and announcements on upcoming MBA events \nFor ticket costs and to become a member\, please visit: mariettabusiness.org
URL:https://theccbb.com/event/mba-n-o-w/2027-12-16/
LOCATION:Third Door\, 131 Church Street\, Marietta\, GA\, 30060\, United States
CATEGORIES:Marietta Business Association
END:VEVENT
BEGIN:VEVENT
DTSTART;TZID=America/New_York:20271223T150000
DTEND;TZID=America/New_York:20271223T163000
DTSTAMP:20260425T083000
CREATED:20240806T191527Z
LAST-MODIFIED:20240806T191527Z
UID:10001305-1829574000-1829579400@theccbb.com
SUMMARY:MBA: N.O.W.
DESCRIPTION:Join us every Thursday at this “Invite only” FREE\, OPEN SEAT networking event. Our purpose is to support one another by learning about each other’s businesses which result in referrals \nWhat to bring:\n*Business cards\n*Your best 45-60 seconds about yourself\n*Notepad \nThe Format:\n***PLEASE DO NOT ARRIVE BEFORE 2:45***\n3-3:30 open networking\n3:30-4:30 45-60 second presentations\, Q&A\, and announcements on upcoming MBA events \nFor ticket costs and to become a member\, please visit: mariettabusiness.org
URL:https://theccbb.com/event/mba-n-o-w/2027-12-23/
LOCATION:Third Door\, 131 Church Street\, Marietta\, GA\, 30060\, United States
CATEGORIES:Marietta Business Association
END:VEVENT
BEGIN:VEVENT
DTSTART;TZID=America/New_York:20271227T113000
DTEND;TZID=America/New_York:20271227T130000
DTSTAMP:20260425T083000
CREATED:20240806T191105Z
LAST-MODIFIED:20240807T203043Z
UID:10001610-1829907000-1829912400@theccbb.com
SUMMARY:MBA: Business Development Luncheon
DESCRIPTION:Join us to hear from community\, state\, and nationally recognized government and business leaders as they share current and relevant information for doing business in Georgia. \n**Please note: If you choose not to register in advance\, you will pay an additional $5 at the door. \nFor ticket costs and to become a member\, please visit: mariettabusiness.org
URL:https://theccbb.com/event/mba-business-development-luncheon/2027-12-27/
LOCATION:The Foxglove\, 54 Atlanta St SE Suite B\, Marietta\, GA\, 30060\, United States
CATEGORIES:Marietta Business Association
END:VEVENT
BEGIN:VEVENT
DTSTART;TZID=America/New_York:20271230T150000
DTEND;TZID=America/New_York:20271230T163000
DTSTAMP:20260425T083000
CREATED:20240806T191527Z
LAST-MODIFIED:20240806T191527Z
UID:10001306-1830178800-1830184200@theccbb.com
SUMMARY:MBA: N.O.W.
DESCRIPTION:Join us every Thursday at this “Invite only” FREE\, OPEN SEAT networking event. Our purpose is to support one another by learning about each other’s businesses which result in referrals \nWhat to bring:\n*Business cards\n*Your best 45-60 seconds about yourself\n*Notepad \nThe Format:\n***PLEASE DO NOT ARRIVE BEFORE 2:45***\n3-3:30 open networking\n3:30-4:30 45-60 second presentations\, Q&A\, and announcements on upcoming MBA events \nFor ticket costs and to become a member\, please visit: mariettabusiness.org
URL:https://theccbb.com/event/mba-n-o-w/2027-12-30/
LOCATION:Third Door\, 131 Church Street\, Marietta\, GA\, 30060\, United States
CATEGORIES:Marietta Business Association
END:VEVENT
BEGIN:VEVENT
DTSTART;TZID=America/New_York:20280106T150000
DTEND;TZID=America/New_York:20280106T163000
DTSTAMP:20260425T083000
CREATED:20240806T191527Z
LAST-MODIFIED:20240806T191527Z
UID:10001307-1830783600-1830789000@theccbb.com
SUMMARY:MBA: N.O.W.
DESCRIPTION:Join us every Thursday at this “Invite only” FREE\, OPEN SEAT networking event. Our purpose is to support one another by learning about each other’s businesses which result in referrals \nWhat to bring:\n*Business cards\n*Your best 45-60 seconds about yourself\n*Notepad \nThe Format:\n***PLEASE DO NOT ARRIVE BEFORE 2:45***\n3-3:30 open networking\n3:30-4:30 45-60 second presentations\, Q&A\, and announcements on upcoming MBA events \nFor ticket costs and to become a member\, please visit: mariettabusiness.org
URL:https://theccbb.com/event/mba-n-o-w/2028-01-06/
LOCATION:Third Door\, 131 Church Street\, Marietta\, GA\, 30060\, United States
CATEGORIES:Marietta Business Association
END:VEVENT
BEGIN:VEVENT
DTSTART;TZID=America/New_York:20280113T150000
DTEND;TZID=America/New_York:20280113T163000
DTSTAMP:20260425T083000
CREATED:20240806T191527Z
LAST-MODIFIED:20240806T191527Z
UID:10001308-1831388400-1831393800@theccbb.com
SUMMARY:MBA: N.O.W.
DESCRIPTION:Join us every Thursday at this “Invite only” FREE\, OPEN SEAT networking event. Our purpose is to support one another by learning about each other’s businesses which result in referrals \nWhat to bring:\n*Business cards\n*Your best 45-60 seconds about yourself\n*Notepad \nThe Format:\n***PLEASE DO NOT ARRIVE BEFORE 2:45***\n3-3:30 open networking\n3:30-4:30 45-60 second presentations\, Q&A\, and announcements on upcoming MBA events \nFor ticket costs and to become a member\, please visit: mariettabusiness.org
URL:https://theccbb.com/event/mba-n-o-w/2028-01-13/
LOCATION:Third Door\, 131 Church Street\, Marietta\, GA\, 30060\, United States
CATEGORIES:Marietta Business Association
END:VEVENT
BEGIN:VEVENT
DTSTART;TZID=America/New_York:20280120T150000
DTEND;TZID=America/New_York:20280120T163000
DTSTAMP:20260425T083000
CREATED:20240806T191527Z
LAST-MODIFIED:20240806T191527Z
UID:10001309-1831993200-1831998600@theccbb.com
SUMMARY:MBA: N.O.W.
DESCRIPTION:Join us every Thursday at this “Invite only” FREE\, OPEN SEAT networking event. Our purpose is to support one another by learning about each other’s businesses which result in referrals \nWhat to bring:\n*Business cards\n*Your best 45-60 seconds about yourself\n*Notepad \nThe Format:\n***PLEASE DO NOT ARRIVE BEFORE 2:45***\n3-3:30 open networking\n3:30-4:30 45-60 second presentations\, Q&A\, and announcements on upcoming MBA events \nFor ticket costs and to become a member\, please visit: mariettabusiness.org
URL:https://theccbb.com/event/mba-n-o-w/2028-01-20/
LOCATION:Third Door\, 131 Church Street\, Marietta\, GA\, 30060\, United States
CATEGORIES:Marietta Business Association
END:VEVENT
BEGIN:VEVENT
DTSTART;TZID=America/New_York:20280124T113000
DTEND;TZID=America/New_York:20280124T130000
DTSTAMP:20260425T083000
CREATED:20240806T191105Z
LAST-MODIFIED:20240807T203043Z
UID:10001611-1832326200-1832331600@theccbb.com
SUMMARY:MBA: Business Development Luncheon
DESCRIPTION:Join us to hear from community\, state\, and nationally recognized government and business leaders as they share current and relevant information for doing business in Georgia. \n**Please note: If you choose not to register in advance\, you will pay an additional $5 at the door. \nFor ticket costs and to become a member\, please visit: mariettabusiness.org
URL:https://theccbb.com/event/mba-business-development-luncheon/2028-01-24/
LOCATION:The Foxglove\, 54 Atlanta St SE Suite B\, Marietta\, GA\, 30060\, United States
CATEGORIES:Marietta Business Association
END:VEVENT
BEGIN:VEVENT
DTSTART;TZID=America/New_York:20280127T150000
DTEND;TZID=America/New_York:20280127T163000
DTSTAMP:20260425T083000
CREATED:20240806T191527Z
LAST-MODIFIED:20240806T191527Z
UID:10001310-1832598000-1832603400@theccbb.com
SUMMARY:MBA: N.O.W.
DESCRIPTION:Join us every Thursday at this “Invite only” FREE\, OPEN SEAT networking event. Our purpose is to support one another by learning about each other’s businesses which result in referrals \nWhat to bring:\n*Business cards\n*Your best 45-60 seconds about yourself\n*Notepad \nThe Format:\n***PLEASE DO NOT ARRIVE BEFORE 2:45***\n3-3:30 open networking\n3:30-4:30 45-60 second presentations\, Q&A\, and announcements on upcoming MBA events \nFor ticket costs and to become a member\, please visit: mariettabusiness.org
URL:https://theccbb.com/event/mba-n-o-w/2028-01-27/
LOCATION:Third Door\, 131 Church Street\, Marietta\, GA\, 30060\, United States
CATEGORIES:Marietta Business Association
END:VEVENT
BEGIN:VEVENT
DTSTART;TZID=America/New_York:20280203T150000
DTEND;TZID=America/New_York:20280203T163000
DTSTAMP:20260425T083000
CREATED:20240806T191527Z
LAST-MODIFIED:20240806T191527Z
UID:10001311-1833202800-1833208200@theccbb.com
SUMMARY:MBA: N.O.W.
DESCRIPTION:Join us every Thursday at this “Invite only” FREE\, OPEN SEAT networking event. Our purpose is to support one another by learning about each other’s businesses which result in referrals \nWhat to bring:\n*Business cards\n*Your best 45-60 seconds about yourself\n*Notepad \nThe Format:\n***PLEASE DO NOT ARRIVE BEFORE 2:45***\n3-3:30 open networking\n3:30-4:30 45-60 second presentations\, Q&A\, and announcements on upcoming MBA events \nFor ticket costs and to become a member\, please visit: mariettabusiness.org
URL:https://theccbb.com/event/mba-n-o-w/2028-02-03/
LOCATION:Third Door\, 131 Church Street\, Marietta\, GA\, 30060\, United States
CATEGORIES:Marietta Business Association
END:VEVENT
BEGIN:VEVENT
DTSTART;TZID=America/New_York:20280210T150000
DTEND;TZID=America/New_York:20280210T163000
DTSTAMP:20260425T083000
CREATED:20240806T191527Z
LAST-MODIFIED:20240806T191527Z
UID:10001312-1833807600-1833813000@theccbb.com
SUMMARY:MBA: N.O.W.
DESCRIPTION:Join us every Thursday at this “Invite only” FREE\, OPEN SEAT networking event. Our purpose is to support one another by learning about each other’s businesses which result in referrals \nWhat to bring:\n*Business cards\n*Your best 45-60 seconds about yourself\n*Notepad \nThe Format:\n***PLEASE DO NOT ARRIVE BEFORE 2:45***\n3-3:30 open networking\n3:30-4:30 45-60 second presentations\, Q&A\, and announcements on upcoming MBA events \nFor ticket costs and to become a member\, please visit: mariettabusiness.org
URL:https://theccbb.com/event/mba-n-o-w/2028-02-10/
LOCATION:Third Door\, 131 Church Street\, Marietta\, GA\, 30060\, United States
CATEGORIES:Marietta Business Association
END:VEVENT
BEGIN:VEVENT
DTSTART;TZID=America/New_York:20280217T150000
DTEND;TZID=America/New_York:20280217T163000
DTSTAMP:20260425T083000
CREATED:20240806T191527Z
LAST-MODIFIED:20240806T191527Z
UID:10001313-1834412400-1834417800@theccbb.com
SUMMARY:MBA: N.O.W.
DESCRIPTION:Join us every Thursday at this “Invite only” FREE\, OPEN SEAT networking event. Our purpose is to support one another by learning about each other’s businesses which result in referrals \nWhat to bring:\n*Business cards\n*Your best 45-60 seconds about yourself\n*Notepad \nThe Format:\n***PLEASE DO NOT ARRIVE BEFORE 2:45***\n3-3:30 open networking\n3:30-4:30 45-60 second presentations\, Q&A\, and announcements on upcoming MBA events \nFor ticket costs and to become a member\, please visit: mariettabusiness.org
URL:https://theccbb.com/event/mba-n-o-w/2028-02-17/
LOCATION:Third Door\, 131 Church Street\, Marietta\, GA\, 30060\, United States
CATEGORIES:Marietta Business Association
END:VEVENT
BEGIN:VEVENT
DTSTART;TZID=America/New_York:20280224T150000
DTEND;TZID=America/New_York:20280224T163000
DTSTAMP:20260425T083000
CREATED:20240806T191527Z
LAST-MODIFIED:20240806T191527Z
UID:10001314-1835017200-1835022600@theccbb.com
SUMMARY:MBA: N.O.W.
DESCRIPTION:Join us every Thursday at this “Invite only” FREE\, OPEN SEAT networking event. Our purpose is to support one another by learning about each other’s businesses which result in referrals \nWhat to bring:\n*Business cards\n*Your best 45-60 seconds about yourself\n*Notepad \nThe Format:\n***PLEASE DO NOT ARRIVE BEFORE 2:45***\n3-3:30 open networking\n3:30-4:30 45-60 second presentations\, Q&A\, and announcements on upcoming MBA events \nFor ticket costs and to become a member\, please visit: mariettabusiness.org
URL:https://theccbb.com/event/mba-n-o-w/2028-02-24/
LOCATION:Third Door\, 131 Church Street\, Marietta\, GA\, 30060\, United States
CATEGORIES:Marietta Business Association
END:VEVENT
BEGIN:VEVENT
DTSTART;TZID=America/New_York:20280228T113000
DTEND;TZID=America/New_York:20280228T130000
DTSTAMP:20260425T083000
CREATED:20240806T191105Z
LAST-MODIFIED:20240807T203043Z
UID:10001612-1835350200-1835355600@theccbb.com
SUMMARY:MBA: Business Development Luncheon
DESCRIPTION:Join us to hear from community\, state\, and nationally recognized government and business leaders as they share current and relevant information for doing business in Georgia. \n**Please note: If you choose not to register in advance\, you will pay an additional $5 at the door. \nFor ticket costs and to become a member\, please visit: mariettabusiness.org
URL:https://theccbb.com/event/mba-business-development-luncheon/2028-02-28/
LOCATION:The Foxglove\, 54 Atlanta St SE Suite B\, Marietta\, GA\, 30060\, United States
CATEGORIES:Marietta Business Association
END:VEVENT
BEGIN:VEVENT
DTSTART;TZID=America/New_York:20280302T150000
DTEND;TZID=America/New_York:20280302T163000
DTSTAMP:20260425T083000
CREATED:20240806T191527Z
LAST-MODIFIED:20240806T191527Z
UID:10001315-1835622000-1835627400@theccbb.com
SUMMARY:MBA: N.O.W.
DESCRIPTION:Join us every Thursday at this “Invite only” FREE\, OPEN SEAT networking event. Our purpose is to support one another by learning about each other’s businesses which result in referrals \nWhat to bring:\n*Business cards\n*Your best 45-60 seconds about yourself\n*Notepad \nThe Format:\n***PLEASE DO NOT ARRIVE BEFORE 2:45***\n3-3:30 open networking\n3:30-4:30 45-60 second presentations\, Q&A\, and announcements on upcoming MBA events \nFor ticket costs and to become a member\, please visit: mariettabusiness.org
URL:https://theccbb.com/event/mba-n-o-w/2028-03-02/
LOCATION:Third Door\, 131 Church Street\, Marietta\, GA\, 30060\, United States
CATEGORIES:Marietta Business Association
END:VEVENT
END:VCALENDAR