BEGIN:VCALENDAR
VERSION:2.0
PRODID:-//Cobb County Business Bootcamp - ECPv6.15.18//NONSGML v1.0//EN
CALSCALE:GREGORIAN
METHOD:PUBLISH
X-ORIGINAL-URL:https://theccbb.com
X-WR-CALDESC:Events for Cobb County Business Bootcamp
REFRESH-INTERVAL;VALUE=DURATION:PT1H
X-Robots-Tag:noindex
X-PUBLISHED-TTL:PT1H
BEGIN:VTIMEZONE
TZID:America/New_York
BEGIN:DAYLIGHT
TZOFFSETFROM:-0500
TZOFFSETTO:-0400
TZNAME:EDT
DTSTART:20250309T070000
END:DAYLIGHT
BEGIN:STANDARD
TZOFFSETFROM:-0400
TZOFFSETTO:-0500
TZNAME:EST
DTSTART:20251102T060000
END:STANDARD
BEGIN:DAYLIGHT
TZOFFSETFROM:-0500
TZOFFSETTO:-0400
TZNAME:EDT
DTSTART:20260308T070000
END:DAYLIGHT
BEGIN:STANDARD
TZOFFSETFROM:-0400
TZOFFSETTO:-0500
TZNAME:EST
DTSTART:20261101T060000
END:STANDARD
BEGIN:DAYLIGHT
TZOFFSETFROM:-0500
TZOFFSETTO:-0400
TZNAME:EDT
DTSTART:20270314T070000
END:DAYLIGHT
BEGIN:STANDARD
TZOFFSETFROM:-0400
TZOFFSETTO:-0500
TZNAME:EST
DTSTART:20271107T060000
END:STANDARD
END:VTIMEZONE
BEGIN:VEVENT
DTSTART;TZID=America/New_York:20260304T070000
DTEND;TZID=America/New_York:20260304T080000
DTSTAMP:20260425T113653
CREATED:20241129T114849Z
LAST-MODIFIED:20241129T114849Z
UID:10003246-1772607600-1772611200@theccbb.com
SUMMARY:East Cobb-Marietta\, Georgia (Rotary Club)
DESCRIPTION:Phone: +1 7702358000\nWebsite: https://www.eastcobbrotary.com \nWHERE (In-Person): 4001 Clubland Dr. Marietta\, 30068-4014\, Georgia \n 
URL:https://theccbb.com/event/east-cobb-marietta-georgia-rotary-club/2026-03-04/
LOCATION:Rotary Club (East Cobb-Marietta)\, 4001 Clubland Dr.\, Marietta\, Georgia\, 30068
CATEGORIES:Rotary Club
END:VEVENT
BEGIN:VEVENT
DTSTART;TZID=America/New_York:20260304T120000
DTEND;TZID=America/New_York:20260304T133000
DTSTAMP:20260425T113653
CREATED:20241127T110157Z
LAST-MODIFIED:20241127T114052Z
UID:10001943-1772625600-1772631000@theccbb.com
SUMMARY:Marietta\, Georgia (Rotary Club)
DESCRIPTION:WHERE: 500 Powder Springs St. Marietta\, 30064-3523\, United States\, Georgia \n 
URL:https://theccbb.com/event/hilton-atlanta-marietta-conf-ctr-resort/2026-03-04/
LOCATION:Rotary Club of Marietta\, 500 Powder Springs St\, Marietta\, Georgia\, 30064
CATEGORIES:Rotary Club
ORGANIZER;CN="Rotary Club (Marietta)":MAILTO:rotaryclubofmarietta@gmail.com
END:VEVENT
BEGIN:VEVENT
DTSTART;TZID=America/New_York:20260304T190000
DTEND;TZID=America/New_York:20260304T203000
DTSTAMP:20260425T113653
CREATED:20241104T034002Z
LAST-MODIFIED:20241104T034154Z
UID:10001831-1772650800-1772656200@theccbb.com
SUMMARY:Atlanta Brasil Rotary Club Monthly Zoom Meeting
DESCRIPTION:In-person meetings first Wednesday of each month at 7:00 PM. Meetings are in Portuguese\, but all of our members also speak English! You’re welcome to visit! Just let us know! \nFor more information on membership or the event and to get the zoom link\, please visit: https://www.atlantabrasilrotary.club or email atlantabrasilrotaryclub@gmail.com
URL:https://theccbb.com/event/atlanta-brasil-rotary-club-monthly-zoom-meeting/2026-03-04/
LOCATION:Zoei Group\, 1165 Northchase Pkwy SE STE 125\, Marietta\, 30067\, United States
CATEGORIES:Rotary Club
ORGANIZER;CN="Rotary Club (Atlanta Brasil)":MAILTO:atlantabrasilrotaryclub@gmail.com
END:VEVENT
END:VCALENDAR