BEGIN:VCALENDAR
VERSION:2.0
PRODID:-//Cobb County Business Bootcamp - ECPv6.15.18//NONSGML v1.0//EN
CALSCALE:GREGORIAN
METHOD:PUBLISH
X-WR-CALNAME:Cobb County Business Bootcamp
X-ORIGINAL-URL:https://theccbb.com
X-WR-CALDESC:Events for Cobb County Business Bootcamp
REFRESH-INTERVAL;VALUE=DURATION:PT1H
X-Robots-Tag:noindex
X-PUBLISHED-TTL:PT1H
BEGIN:VTIMEZONE
TZID:America/New_York
BEGIN:DAYLIGHT
TZOFFSETFROM:-0500
TZOFFSETTO:-0400
TZNAME:EDT
DTSTART:20250309T070000
END:DAYLIGHT
BEGIN:STANDARD
TZOFFSETFROM:-0400
TZOFFSETTO:-0500
TZNAME:EST
DTSTART:20251102T060000
END:STANDARD
BEGIN:DAYLIGHT
TZOFFSETFROM:-0500
TZOFFSETTO:-0400
TZNAME:EDT
DTSTART:20260308T070000
END:DAYLIGHT
BEGIN:STANDARD
TZOFFSETFROM:-0400
TZOFFSETTO:-0500
TZNAME:EST
DTSTART:20261101T060000
END:STANDARD
BEGIN:DAYLIGHT
TZOFFSETFROM:-0500
TZOFFSETTO:-0400
TZNAME:EDT
DTSTART:20270314T070000
END:DAYLIGHT
BEGIN:STANDARD
TZOFFSETFROM:-0400
TZOFFSETTO:-0500
TZNAME:EST
DTSTART:20271107T060000
END:STANDARD
END:VTIMEZONE
BEGIN:VEVENT
DTSTART;TZID=America/New_York:20260427T120000
DTEND;TZID=America/New_York:20260427T133000
DTSTAMP:20260425T080912
CREATED:20241127T110905Z
LAST-MODIFIED:20241127T113636Z
UID:10002211-1777291200-1777296600@theccbb.com
SUMMARY:Marietta-Metro\, Georgia (Rotary Club)
DESCRIPTION:Pre-luncheon fellowship period begins @ 11:50 AM. \nWhere (In-Person): 500 Powder Springs St. Marietta\, 30060\, United States\, Georgia \nWebsite: https://mariettametrorotary.org
URL:https://theccbb.com/event/marietta-metro-georgia-united-states-rotary-club/2026-04-27/
LOCATION:Rotary Club (Marietta-Metro)\, 500 Powder Springs St.\, Marietta\, Georgia\, 30060
CATEGORIES:Rotary Club
END:VEVENT
BEGIN:VEVENT
DTSTART;TZID=America/New_York:20260428T073000
DTEND;TZID=America/New_York:20260428T083000
DTSTAMP:20260425T080912
CREATED:20241129T130726Z
LAST-MODIFIED:20241129T224241Z
UID:10003776-1777361400-1777365000@theccbb.com
SUMMARY:Woodstock\, Georgia (Rotary Club)
DESCRIPTION:IHOP Restaurant in Woodstock \nFrom Atl. I75N to I575N Exit 7\, left on HWY 92\,1/4 mile\nto right into IHOP parking lot. We meet in the back room \nPhone: 404-506-6878 \nWHERE (In-Person): 8979 Hwy. 92 Woodstock\, 30189\, Georgia
URL:https://theccbb.com/event/110345/2026-04-28/
LOCATION:Rotary Club (Woodstock)\, 8979 Hwy. 92\, Woodstock\, Georgia\, 30189
CATEGORIES:Rotary Club
END:VEVENT
BEGIN:VEVENT
DTSTART;TZID=America/New_York:20260428T121500
DTEND;TZID=America/New_York:20260428T133000
DTSTAMP:20260425T080912
CREATED:20241127T115848Z
LAST-MODIFIED:20241127T115848Z
UID:10002732-1777378500-1777383000@theccbb.com
SUMMARY:Smyrna\, Georgia (Rotary Club)
DESCRIPTION:Email: smyrnarotaryga@gmail.com\nWebsite: https://smyrnarotary.org/ \nSmyrna Rotary Club\nWHERE (In-Person): 3180 Atlanta Rd SE\, Smyrna\, 30080-8256\, United States\, Georgia
URL:https://theccbb.com/event/smyrna-georgia-rotary-club/2026-04-28/
LOCATION:Rotary Club (Smyrna)\, 3180 Atlanta Rd SE\, Smyrna\, Georgia\, 30080
CATEGORIES:Rotary Club
END:VEVENT
BEGIN:VEVENT
DTSTART;TZID=America/New_York:20260429T070000
DTEND;TZID=America/New_York:20260429T080000
DTSTAMP:20260425T080912
CREATED:20241129T114849Z
LAST-MODIFIED:20241129T114849Z
UID:10003254-1777446000-1777449600@theccbb.com
SUMMARY:East Cobb-Marietta\, Georgia (Rotary Club)
DESCRIPTION:Phone: +1 7702358000\nWebsite: https://www.eastcobbrotary.com \nWHERE (In-Person): 4001 Clubland Dr. Marietta\, 30068-4014\, Georgia \n 
URL:https://theccbb.com/event/east-cobb-marietta-georgia-rotary-club/2026-04-29/
LOCATION:Rotary Club (East Cobb-Marietta)\, 4001 Clubland Dr.\, Marietta\, Georgia\, 30068
CATEGORIES:Rotary Club
END:VEVENT
BEGIN:VEVENT
DTSTART;TZID=America/New_York:20260429T120000
DTEND;TZID=America/New_York:20260429T133000
DTSTAMP:20260425T080912
CREATED:20241127T110157Z
LAST-MODIFIED:20241127T114052Z
UID:10001951-1777464000-1777469400@theccbb.com
SUMMARY:Marietta\, Georgia (Rotary Club)
DESCRIPTION:WHERE: 500 Powder Springs St. Marietta\, 30064-3523\, United States\, Georgia \n 
URL:https://theccbb.com/event/hilton-atlanta-marietta-conf-ctr-resort/2026-04-29/
LOCATION:Rotary Club of Marietta\, 500 Powder Springs St\, Marietta\, Georgia\, 30064
CATEGORIES:Rotary Club
ORGANIZER;CN="Rotary Club (Marietta)":MAILTO:rotaryclubofmarietta@gmail.com
END:VEVENT
BEGIN:VEVENT
DTSTART;TZID=America/New_York:20260430T071500
DTEND;TZID=America/New_York:20260430T080000
DTSTAMP:20260425T080912
CREATED:20241127T112839Z
LAST-MODIFIED:20241127T115032Z
UID:10002473-1777533300-1777536000@theccbb.com
SUMMARY:North Cobb County\, Georgia (Rotary Club)
DESCRIPTION:Email: northcobb@rotary6900.org\nPhone: +1 678-800-2176\nWebsite: https://www.northcobbrotary.org/ \nCopeland’s Restaurant\nWHERE (In-Person): 1142 Ernest W Barrett Pkwy NW\, Kennesaw\, 30144-4541\, United States\, Georgia
URL:https://theccbb.com/event/north-cobb-county-georgia-united-states-rotary-club/2026-04-30/
LOCATION:North Cobb County – (Rotary Club)\, 1142 Ernest W Barrett Pkwy NW\, Kennesaw\, Georgia\, 30144
CATEGORIES:Rotary Club
END:VEVENT
BEGIN:VEVENT
DTSTART;TZID=America/New_York:20260430T180000
DTEND;TZID=America/New_York:20260430T190000
DTSTAMP:20260425T080912
CREATED:20241127T121743Z
LAST-MODIFIED:20241127T121743Z
UID:10002994-1777572000-1777575600@theccbb.com
SUMMARY:Kennesaw State University\, Georgia (Rotaract Club)
DESCRIPTION:Email: KSUROTARACT@LIST.KENNESAW.EDU\nPhone: 470-578-6965\nWebsite: https://www.kennesaw.edu/ \nWHERE (In-Person): 3333 Busbee Dr NW\, Kennesaw\, GA 30144
URL:https://theccbb.com/event/kennesaw-state-university-georgia-rotaract-club/2026-04-30/
LOCATION:Rotaract Club (Kennesaw State University)\, 3333 Busbee Dr NW\, Kennesaw\, Georgia\, 30144
CATEGORIES:Rotary Club
END:VEVENT
BEGIN:VEVENT
DTSTART;TZID=America/New_York:20260430T183000
DTEND;TZID=America/New_York:20260430T200000
DTSTAMP:20260425T080912
CREATED:20241104T033559Z
LAST-MODIFIED:20241104T033559Z
UID:10001652-1777573800-1777579200@theccbb.com
SUMMARY:Atlanta Brasil Rotary Club Monthly In-Person Meeting
DESCRIPTION:In-person meetings last Thursday of each month at 6:30 PM. Meetings are in Portuguese\, but all of our members also speak English! You’re welcome to visit! Just let us know! \nFor more information on membership or the event\, please visit: https://www.atlantabrasilrotary.club
URL:https://theccbb.com/event/atlanta-brasil-rotary-club-monthly-in-person-meeting/2026-04-30/
LOCATION:Zoei Group\, 1165 Northchase Pkwy SE STE 125\, Marietta\, 30067\, United States
CATEGORIES:Rotary Club
ORGANIZER;CN="Rotary Club (Atlanta Brasil)":MAILTO:atlantabrasilrotaryclub@gmail.com
END:VEVENT
END:VCALENDAR