BEGIN:VCALENDAR
VERSION:2.0
PRODID:-//Cobb County Business Bootcamp - ECPv6.15.18//NONSGML v1.0//EN
CALSCALE:GREGORIAN
METHOD:PUBLISH
X-WR-CALNAME:Cobb County Business Bootcamp
X-ORIGINAL-URL:https://theccbb.com
X-WR-CALDESC:Events for Cobb County Business Bootcamp
REFRESH-INTERVAL;VALUE=DURATION:PT1H
X-Robots-Tag:noindex
X-PUBLISHED-TTL:PT1H
BEGIN:VTIMEZONE
TZID:America/New_York
BEGIN:DAYLIGHT
TZOFFSETFROM:-0500
TZOFFSETTO:-0400
TZNAME:EDT
DTSTART:20250309T070000
END:DAYLIGHT
BEGIN:STANDARD
TZOFFSETFROM:-0400
TZOFFSETTO:-0500
TZNAME:EST
DTSTART:20251102T060000
END:STANDARD
BEGIN:DAYLIGHT
TZOFFSETFROM:-0500
TZOFFSETTO:-0400
TZNAME:EDT
DTSTART:20260308T070000
END:DAYLIGHT
BEGIN:STANDARD
TZOFFSETFROM:-0400
TZOFFSETTO:-0500
TZNAME:EST
DTSTART:20261101T060000
END:STANDARD
BEGIN:DAYLIGHT
TZOFFSETFROM:-0500
TZOFFSETTO:-0400
TZNAME:EDT
DTSTART:20270314T070000
END:DAYLIGHT
BEGIN:STANDARD
TZOFFSETFROM:-0400
TZOFFSETTO:-0500
TZNAME:EST
DTSTART:20271107T060000
END:STANDARD
END:VTIMEZONE
BEGIN:VEVENT
DTSTART;TZID=America/New_York:20260604T113000
DTEND;TZID=America/New_York:20260604T130000
DTSTAMP:20260423T081244
CREATED:20260122T062544Z
LAST-MODIFIED:20260122T062544Z
UID:10005872-1780572600-1780578000@theccbb.com
SUMMARY:SBA: Monthly Luncheon
DESCRIPTION:June Networking Luncheon\n\nSpeaker:\n\nTBA\n\n\n Join us for lunch at the Smyrna Community Center\nEarly Member Tickets – $20\nEarly Non-Member Tickets – $25\n(Early registration closes at NOON on the Tuesday before the luncheon.)\nSignature Table Reservation. Purchase 6 tickets and be seated at a reserved table! Must be purchased before the early registration deadline. $120\n\nLate Member Tickets – $25\nLate Non-Member Tickets – $30\n  \nScroll down for In-Person Registration*\n*If you are a current member or sponsor\, please log in to your account to view/select member or sponsor tickets \nFor ticket costs and to become a member\, please visit: https://smyrnabusiness.org
URL:https://theccbb.com/event/sba-monthly-luncheon-6/
LOCATION:200 Village Green Cir SE\, 200 Village Green Cir SE\, Smyrna\, GA\, 30080\, United States
CATEGORIES:Smyrna Business Association
END:VEVENT
BEGIN:VEVENT
DTSTART;TZID=America/New_York:20260610T080000
DTEND;TZID=America/New_York:20260610T090000
DTSTAMP:20260423T081244
CREATED:20240806T170818Z
LAST-MODIFIED:20240806T171414Z
UID:10000049-1781078400-1781082000@theccbb.com
SUMMARY:SBA: Coffee & Connections
DESCRIPTION:Join SBA members and guests for this FREE in-person networking event.  Each attendee will have an opportunity to give a 60 second speech about their business and what an ideal referral would be! \nSign up for a free ticket below to receive email reminders and updates. Pre-registration not required.
URL:https://theccbb.com/event/sba-coffee-connections/2026-06-10/
LOCATION:Smyrna First United Methodist Church\, 1315 Concord Rd. SE\, Smyrna\, GA\, 30080\, United States
CATEGORIES:Smyrna Business Association
END:VEVENT
BEGIN:VEVENT
DTSTART;TZID=America/New_York:20260611T113000
DTEND;TZID=America/New_York:20260611T130000
DTSTAMP:20260423T081244
CREATED:20240806T172559Z
LAST-MODIFIED:20240806T175957Z
UID:10000155-1781177400-1781182800@theccbb.com
SUMMARY:SBA: Monthly Luncheon
DESCRIPTION:For ticket costs and to become a member\, please visit: https://smyrnabusiness.org
URL:https://theccbb.com/event/sba-monthly-luncheon/2026-06-11/
LOCATION:200 Village Green Cir SE\, 200 Village Green Cir SE\, Smyrna\, GA\, 30080\, United States
CATEGORIES:Smyrna Business Association
END:VEVENT
BEGIN:VEVENT
DTSTART;TZID=America/New_York:20260624T080000
DTEND;TZID=America/New_York:20260624T090000
DTSTAMP:20260423T081244
CREATED:20240806T170818Z
LAST-MODIFIED:20240806T171414Z
UID:10000050-1782288000-1782291600@theccbb.com
SUMMARY:SBA: Coffee & Connections
DESCRIPTION:Join SBA members and guests for this FREE in-person networking event.  Each attendee will have an opportunity to give a 60 second speech about their business and what an ideal referral would be! \nSign up for a free ticket below to receive email reminders and updates. Pre-registration not required.
URL:https://theccbb.com/event/sba-coffee-connections/2026-06-24/
LOCATION:Smyrna First United Methodist Church\, 1315 Concord Rd. SE\, Smyrna\, GA\, 30080\, United States
CATEGORIES:Smyrna Business Association
END:VEVENT
END:VCALENDAR