BEGIN:VCALENDAR
VERSION:2.0
PRODID:-//Cobb County Business Bootcamp - ECPv6.15.18//NONSGML v1.0//EN
CALSCALE:GREGORIAN
METHOD:PUBLISH
X-WR-CALNAME:Cobb County Business Bootcamp
X-ORIGINAL-URL:https://theccbb.com
X-WR-CALDESC:Events for Cobb County Business Bootcamp
REFRESH-INTERVAL;VALUE=DURATION:PT1H
X-Robots-Tag:noindex
X-PUBLISHED-TTL:PT1H
BEGIN:VTIMEZONE
TZID:America/New_York
BEGIN:DAYLIGHT
TZOFFSETFROM:-0500
TZOFFSETTO:-0400
TZNAME:EDT
DTSTART:20250309T070000
END:DAYLIGHT
BEGIN:STANDARD
TZOFFSETFROM:-0400
TZOFFSETTO:-0500
TZNAME:EST
DTSTART:20251102T060000
END:STANDARD
BEGIN:DAYLIGHT
TZOFFSETFROM:-0500
TZOFFSETTO:-0400
TZNAME:EDT
DTSTART:20260308T070000
END:DAYLIGHT
BEGIN:STANDARD
TZOFFSETFROM:-0400
TZOFFSETTO:-0500
TZNAME:EST
DTSTART:20261101T060000
END:STANDARD
BEGIN:DAYLIGHT
TZOFFSETFROM:-0500
TZOFFSETTO:-0400
TZNAME:EDT
DTSTART:20270314T070000
END:DAYLIGHT
BEGIN:STANDARD
TZOFFSETFROM:-0400
TZOFFSETTO:-0500
TZNAME:EST
DTSTART:20271107T060000
END:STANDARD
BEGIN:DAYLIGHT
TZOFFSETFROM:-0500
TZOFFSETTO:-0400
TZNAME:EDT
DTSTART:20280312T070000
END:DAYLIGHT
BEGIN:STANDARD
TZOFFSETFROM:-0400
TZOFFSETTO:-0500
TZNAME:EST
DTSTART:20281105T060000
END:STANDARD
END:VTIMEZONE
BEGIN:VEVENT
DTSTART;TZID=America/New_York:20261125T080000
DTEND;TZID=America/New_York:20261125T090000
DTSTAMP:20260419T213527
CREATED:20240806T170818Z
LAST-MODIFIED:20240806T171414Z
UID:10000061-1795593600-1795597200@theccbb.com
SUMMARY:SBA: Coffee & Connections
DESCRIPTION:Join SBA members and guests for this FREE in-person networking event.  Each attendee will have an opportunity to give a 60 second speech about their business and what an ideal referral would be! \nSign up for a free ticket below to receive email reminders and updates. Pre-registration not required.
URL:https://theccbb.com/event/sba-coffee-connections/2026-11-25/
LOCATION:Smyrna First United Methodist Church\, 1315 Concord Rd. SE\, Smyrna\, GA\, 30080\, United States
CATEGORIES:Smyrna Business Association
END:VEVENT
BEGIN:VEVENT
DTSTART;TZID=America/New_York:20261209T080000
DTEND;TZID=America/New_York:20261209T090000
DTSTAMP:20260419T213527
CREATED:20240806T170818Z
LAST-MODIFIED:20240806T171414Z
UID:10000062-1796803200-1796806800@theccbb.com
SUMMARY:SBA: Coffee & Connections
DESCRIPTION:Join SBA members and guests for this FREE in-person networking event.  Each attendee will have an opportunity to give a 60 second speech about their business and what an ideal referral would be! \nSign up for a free ticket below to receive email reminders and updates. Pre-registration not required.
URL:https://theccbb.com/event/sba-coffee-connections/2026-12-09/
LOCATION:Smyrna First United Methodist Church\, 1315 Concord Rd. SE\, Smyrna\, GA\, 30080\, United States
CATEGORIES:Smyrna Business Association
END:VEVENT
BEGIN:VEVENT
DTSTART;TZID=America/New_York:20261210T113000
DTEND;TZID=America/New_York:20261210T130000
DTSTAMP:20260419T213527
CREATED:20240806T172559Z
LAST-MODIFIED:20240806T175957Z
UID:10000161-1796902200-1796907600@theccbb.com
SUMMARY:SBA: Monthly Luncheon
DESCRIPTION:For ticket costs and to become a member\, please visit: https://smyrnabusiness.org
URL:https://theccbb.com/event/sba-monthly-luncheon/2026-12-10/
LOCATION:200 Village Green Cir SE\, 200 Village Green Cir SE\, Smyrna\, GA\, 30080\, United States
CATEGORIES:Smyrna Business Association
END:VEVENT
BEGIN:VEVENT
DTSTART;TZID=America/New_York:20261223T080000
DTEND;TZID=America/New_York:20261223T090000
DTSTAMP:20260419T213527
CREATED:20240806T170818Z
LAST-MODIFIED:20240806T171414Z
UID:10000063-1798012800-1798016400@theccbb.com
SUMMARY:SBA: Coffee & Connections
DESCRIPTION:Join SBA members and guests for this FREE in-person networking event.  Each attendee will have an opportunity to give a 60 second speech about their business and what an ideal referral would be! \nSign up for a free ticket below to receive email reminders and updates. Pre-registration not required.
URL:https://theccbb.com/event/sba-coffee-connections/2026-12-23/
LOCATION:Smyrna First United Methodist Church\, 1315 Concord Rd. SE\, Smyrna\, GA\, 30080\, United States
CATEGORIES:Smyrna Business Association
END:VEVENT
BEGIN:VEVENT
DTSTART;TZID=America/New_York:20270106T080000
DTEND;TZID=America/New_York:20270106T090000
DTSTAMP:20260419T213527
CREATED:20240806T170818Z
LAST-MODIFIED:20240806T171414Z
UID:10000064-1799222400-1799226000@theccbb.com
SUMMARY:SBA: Coffee & Connections
DESCRIPTION:Join SBA members and guests for this FREE in-person networking event.  Each attendee will have an opportunity to give a 60 second speech about their business and what an ideal referral would be! \nSign up for a free ticket below to receive email reminders and updates. Pre-registration not required.
URL:https://theccbb.com/event/sba-coffee-connections/2027-01-06/
LOCATION:Smyrna First United Methodist Church\, 1315 Concord Rd. SE\, Smyrna\, GA\, 30080\, United States
CATEGORIES:Smyrna Business Association
END:VEVENT
BEGIN:VEVENT
DTSTART;TZID=America/New_York:20270114T113000
DTEND;TZID=America/New_York:20270114T130000
DTSTAMP:20260419T213527
CREATED:20240806T172559Z
LAST-MODIFIED:20240806T175957Z
UID:10000162-1799926200-1799931600@theccbb.com
SUMMARY:SBA: Monthly Luncheon
DESCRIPTION:For ticket costs and to become a member\, please visit: https://smyrnabusiness.org
URL:https://theccbb.com/event/sba-monthly-luncheon/2027-01-14/
LOCATION:200 Village Green Cir SE\, 200 Village Green Cir SE\, Smyrna\, GA\, 30080\, United States
CATEGORIES:Smyrna Business Association
END:VEVENT
BEGIN:VEVENT
DTSTART;TZID=America/New_York:20270120T080000
DTEND;TZID=America/New_York:20270120T090000
DTSTAMP:20260419T213527
CREATED:20240806T170818Z
LAST-MODIFIED:20240806T171414Z
UID:10000065-1800432000-1800435600@theccbb.com
SUMMARY:SBA: Coffee & Connections
DESCRIPTION:Join SBA members and guests for this FREE in-person networking event.  Each attendee will have an opportunity to give a 60 second speech about their business and what an ideal referral would be! \nSign up for a free ticket below to receive email reminders and updates. Pre-registration not required.
URL:https://theccbb.com/event/sba-coffee-connections/2027-01-20/
LOCATION:Smyrna First United Methodist Church\, 1315 Concord Rd. SE\, Smyrna\, GA\, 30080\, United States
CATEGORIES:Smyrna Business Association
END:VEVENT
BEGIN:VEVENT
DTSTART;TZID=America/New_York:20270203T080000
DTEND;TZID=America/New_York:20270203T090000
DTSTAMP:20260419T213527
CREATED:20240806T170818Z
LAST-MODIFIED:20240806T171414Z
UID:10000066-1801641600-1801645200@theccbb.com
SUMMARY:SBA: Coffee & Connections
DESCRIPTION:Join SBA members and guests for this FREE in-person networking event.  Each attendee will have an opportunity to give a 60 second speech about their business and what an ideal referral would be! \nSign up for a free ticket below to receive email reminders and updates. Pre-registration not required.
URL:https://theccbb.com/event/sba-coffee-connections/2027-02-03/
LOCATION:Smyrna First United Methodist Church\, 1315 Concord Rd. SE\, Smyrna\, GA\, 30080\, United States
CATEGORIES:Smyrna Business Association
END:VEVENT
BEGIN:VEVENT
DTSTART;TZID=America/New_York:20270211T113000
DTEND;TZID=America/New_York:20270211T130000
DTSTAMP:20260419T213527
CREATED:20240806T172559Z
LAST-MODIFIED:20240806T175957Z
UID:10000163-1802345400-1802350800@theccbb.com
SUMMARY:SBA: Monthly Luncheon
DESCRIPTION:For ticket costs and to become a member\, please visit: https://smyrnabusiness.org
URL:https://theccbb.com/event/sba-monthly-luncheon/2027-02-11/
LOCATION:200 Village Green Cir SE\, 200 Village Green Cir SE\, Smyrna\, GA\, 30080\, United States
CATEGORIES:Smyrna Business Association
END:VEVENT
BEGIN:VEVENT
DTSTART;TZID=America/New_York:20270217T080000
DTEND;TZID=America/New_York:20270217T090000
DTSTAMP:20260419T213527
CREATED:20240806T170818Z
LAST-MODIFIED:20240806T171414Z
UID:10000067-1802851200-1802854800@theccbb.com
SUMMARY:SBA: Coffee & Connections
DESCRIPTION:Join SBA members and guests for this FREE in-person networking event.  Each attendee will have an opportunity to give a 60 second speech about their business and what an ideal referral would be! \nSign up for a free ticket below to receive email reminders and updates. Pre-registration not required.
URL:https://theccbb.com/event/sba-coffee-connections/2027-02-17/
LOCATION:Smyrna First United Methodist Church\, 1315 Concord Rd. SE\, Smyrna\, GA\, 30080\, United States
CATEGORIES:Smyrna Business Association
END:VEVENT
BEGIN:VEVENT
DTSTART;TZID=America/New_York:20270303T080000
DTEND;TZID=America/New_York:20270303T090000
DTSTAMP:20260419T213527
CREATED:20240806T170818Z
LAST-MODIFIED:20240806T171414Z
UID:10000068-1804060800-1804064400@theccbb.com
SUMMARY:SBA: Coffee & Connections
DESCRIPTION:Join SBA members and guests for this FREE in-person networking event.  Each attendee will have an opportunity to give a 60 second speech about their business and what an ideal referral would be! \nSign up for a free ticket below to receive email reminders and updates. Pre-registration not required.
URL:https://theccbb.com/event/sba-coffee-connections/2027-03-03/
LOCATION:Smyrna First United Methodist Church\, 1315 Concord Rd. SE\, Smyrna\, GA\, 30080\, United States
CATEGORIES:Smyrna Business Association
END:VEVENT
BEGIN:VEVENT
DTSTART;TZID=America/New_York:20270311T113000
DTEND;TZID=America/New_York:20270311T130000
DTSTAMP:20260419T213527
CREATED:20240806T172559Z
LAST-MODIFIED:20240806T175957Z
UID:10000164-1804764600-1804770000@theccbb.com
SUMMARY:SBA: Monthly Luncheon
DESCRIPTION:For ticket costs and to become a member\, please visit: https://smyrnabusiness.org
URL:https://theccbb.com/event/sba-monthly-luncheon/2027-03-11/
LOCATION:200 Village Green Cir SE\, 200 Village Green Cir SE\, Smyrna\, GA\, 30080\, United States
CATEGORIES:Smyrna Business Association
END:VEVENT
BEGIN:VEVENT
DTSTART;TZID=America/New_York:20270317T080000
DTEND;TZID=America/New_York:20270317T090000
DTSTAMP:20260419T213527
CREATED:20240806T170818Z
LAST-MODIFIED:20240806T171414Z
UID:10000069-1805270400-1805274000@theccbb.com
SUMMARY:SBA: Coffee & Connections
DESCRIPTION:Join SBA members and guests for this FREE in-person networking event.  Each attendee will have an opportunity to give a 60 second speech about their business and what an ideal referral would be! \nSign up for a free ticket below to receive email reminders and updates. Pre-registration not required.
URL:https://theccbb.com/event/sba-coffee-connections/2027-03-17/
LOCATION:Smyrna First United Methodist Church\, 1315 Concord Rd. SE\, Smyrna\, GA\, 30080\, United States
CATEGORIES:Smyrna Business Association
END:VEVENT
BEGIN:VEVENT
DTSTART;TZID=America/New_York:20270331T080000
DTEND;TZID=America/New_York:20270331T090000
DTSTAMP:20260419T213527
CREATED:20240806T170818Z
LAST-MODIFIED:20240806T171414Z
UID:10000070-1806480000-1806483600@theccbb.com
SUMMARY:SBA: Coffee & Connections
DESCRIPTION:Join SBA members and guests for this FREE in-person networking event.  Each attendee will have an opportunity to give a 60 second speech about their business and what an ideal referral would be! \nSign up for a free ticket below to receive email reminders and updates. Pre-registration not required.
URL:https://theccbb.com/event/sba-coffee-connections/2027-03-31/
LOCATION:Smyrna First United Methodist Church\, 1315 Concord Rd. SE\, Smyrna\, GA\, 30080\, United States
CATEGORIES:Smyrna Business Association
END:VEVENT
BEGIN:VEVENT
DTSTART;TZID=America/New_York:20270408T113000
DTEND;TZID=America/New_York:20270408T130000
DTSTAMP:20260419T213527
CREATED:20240806T172559Z
LAST-MODIFIED:20240806T175957Z
UID:10000165-1807183800-1807189200@theccbb.com
SUMMARY:SBA: Monthly Luncheon
DESCRIPTION:For ticket costs and to become a member\, please visit: https://smyrnabusiness.org
URL:https://theccbb.com/event/sba-monthly-luncheon/2027-04-08/
LOCATION:200 Village Green Cir SE\, 200 Village Green Cir SE\, Smyrna\, GA\, 30080\, United States
CATEGORIES:Smyrna Business Association
END:VEVENT
BEGIN:VEVENT
DTSTART;TZID=America/New_York:20270414T080000
DTEND;TZID=America/New_York:20270414T090000
DTSTAMP:20260419T213527
CREATED:20240806T170818Z
LAST-MODIFIED:20240806T171414Z
UID:10000071-1807689600-1807693200@theccbb.com
SUMMARY:SBA: Coffee & Connections
DESCRIPTION:Join SBA members and guests for this FREE in-person networking event.  Each attendee will have an opportunity to give a 60 second speech about their business and what an ideal referral would be! \nSign up for a free ticket below to receive email reminders and updates. Pre-registration not required.
URL:https://theccbb.com/event/sba-coffee-connections/2027-04-14/
LOCATION:Smyrna First United Methodist Church\, 1315 Concord Rd. SE\, Smyrna\, GA\, 30080\, United States
CATEGORIES:Smyrna Business Association
END:VEVENT
BEGIN:VEVENT
DTSTART;TZID=America/New_York:20270428T080000
DTEND;TZID=America/New_York:20270428T090000
DTSTAMP:20260419T213527
CREATED:20240806T170818Z
LAST-MODIFIED:20240806T171414Z
UID:10000072-1808899200-1808902800@theccbb.com
SUMMARY:SBA: Coffee & Connections
DESCRIPTION:Join SBA members and guests for this FREE in-person networking event.  Each attendee will have an opportunity to give a 60 second speech about their business and what an ideal referral would be! \nSign up for a free ticket below to receive email reminders and updates. Pre-registration not required.
URL:https://theccbb.com/event/sba-coffee-connections/2027-04-28/
LOCATION:Smyrna First United Methodist Church\, 1315 Concord Rd. SE\, Smyrna\, GA\, 30080\, United States
CATEGORIES:Smyrna Business Association
END:VEVENT
BEGIN:VEVENT
DTSTART;TZID=America/New_York:20270512T080000
DTEND;TZID=America/New_York:20270512T090000
DTSTAMP:20260419T213527
CREATED:20240806T170818Z
LAST-MODIFIED:20240806T171414Z
UID:10000073-1810108800-1810112400@theccbb.com
SUMMARY:SBA: Coffee & Connections
DESCRIPTION:Join SBA members and guests for this FREE in-person networking event.  Each attendee will have an opportunity to give a 60 second speech about their business and what an ideal referral would be! \nSign up for a free ticket below to receive email reminders and updates. Pre-registration not required.
URL:https://theccbb.com/event/sba-coffee-connections/2027-05-12/
LOCATION:Smyrna First United Methodist Church\, 1315 Concord Rd. SE\, Smyrna\, GA\, 30080\, United States
CATEGORIES:Smyrna Business Association
END:VEVENT
BEGIN:VEVENT
DTSTART;TZID=America/New_York:20270513T113000
DTEND;TZID=America/New_York:20270513T130000
DTSTAMP:20260419T213527
CREATED:20240806T172559Z
LAST-MODIFIED:20240806T175957Z
UID:10000166-1810207800-1810213200@theccbb.com
SUMMARY:SBA: Monthly Luncheon
DESCRIPTION:For ticket costs and to become a member\, please visit: https://smyrnabusiness.org
URL:https://theccbb.com/event/sba-monthly-luncheon/2027-05-13/
LOCATION:200 Village Green Cir SE\, 200 Village Green Cir SE\, Smyrna\, GA\, 30080\, United States
CATEGORIES:Smyrna Business Association
END:VEVENT
BEGIN:VEVENT
DTSTART;TZID=America/New_York:20270526T080000
DTEND;TZID=America/New_York:20270526T090000
DTSTAMP:20260419T213527
CREATED:20240806T170818Z
LAST-MODIFIED:20240806T171414Z
UID:10000074-1811318400-1811322000@theccbb.com
SUMMARY:SBA: Coffee & Connections
DESCRIPTION:Join SBA members and guests for this FREE in-person networking event.  Each attendee will have an opportunity to give a 60 second speech about their business and what an ideal referral would be! \nSign up for a free ticket below to receive email reminders and updates. Pre-registration not required.
URL:https://theccbb.com/event/sba-coffee-connections/2027-05-26/
LOCATION:Smyrna First United Methodist Church\, 1315 Concord Rd. SE\, Smyrna\, GA\, 30080\, United States
CATEGORIES:Smyrna Business Association
END:VEVENT
BEGIN:VEVENT
DTSTART;TZID=America/New_York:20270609T080000
DTEND;TZID=America/New_York:20270609T090000
DTSTAMP:20260419T213527
CREATED:20240806T170818Z
LAST-MODIFIED:20240806T171414Z
UID:10000075-1812528000-1812531600@theccbb.com
SUMMARY:SBA: Coffee & Connections
DESCRIPTION:Join SBA members and guests for this FREE in-person networking event.  Each attendee will have an opportunity to give a 60 second speech about their business and what an ideal referral would be! \nSign up for a free ticket below to receive email reminders and updates. Pre-registration not required.
URL:https://theccbb.com/event/sba-coffee-connections/2027-06-09/
LOCATION:Smyrna First United Methodist Church\, 1315 Concord Rd. SE\, Smyrna\, GA\, 30080\, United States
CATEGORIES:Smyrna Business Association
END:VEVENT
BEGIN:VEVENT
DTSTART;TZID=America/New_York:20270610T113000
DTEND;TZID=America/New_York:20270610T130000
DTSTAMP:20260419T213527
CREATED:20240806T172559Z
LAST-MODIFIED:20240806T175957Z
UID:10000167-1812627000-1812632400@theccbb.com
SUMMARY:SBA: Monthly Luncheon
DESCRIPTION:For ticket costs and to become a member\, please visit: https://smyrnabusiness.org
URL:https://theccbb.com/event/sba-monthly-luncheon/2027-06-10/
LOCATION:200 Village Green Cir SE\, 200 Village Green Cir SE\, Smyrna\, GA\, 30080\, United States
CATEGORIES:Smyrna Business Association
END:VEVENT
BEGIN:VEVENT
DTSTART;TZID=America/New_York:20270623T080000
DTEND;TZID=America/New_York:20270623T090000
DTSTAMP:20260419T213527
CREATED:20240806T170818Z
LAST-MODIFIED:20240806T171414Z
UID:10000076-1813737600-1813741200@theccbb.com
SUMMARY:SBA: Coffee & Connections
DESCRIPTION:Join SBA members and guests for this FREE in-person networking event.  Each attendee will have an opportunity to give a 60 second speech about their business and what an ideal referral would be! \nSign up for a free ticket below to receive email reminders and updates. Pre-registration not required.
URL:https://theccbb.com/event/sba-coffee-connections/2027-06-23/
LOCATION:Smyrna First United Methodist Church\, 1315 Concord Rd. SE\, Smyrna\, GA\, 30080\, United States
CATEGORIES:Smyrna Business Association
END:VEVENT
BEGIN:VEVENT
DTSTART;TZID=America/New_York:20270707T080000
DTEND;TZID=America/New_York:20270707T090000
DTSTAMP:20260419T213527
CREATED:20240806T170818Z
LAST-MODIFIED:20240806T171414Z
UID:10000077-1814947200-1814950800@theccbb.com
SUMMARY:SBA: Coffee & Connections
DESCRIPTION:Join SBA members and guests for this FREE in-person networking event.  Each attendee will have an opportunity to give a 60 second speech about their business and what an ideal referral would be! \nSign up for a free ticket below to receive email reminders and updates. Pre-registration not required.
URL:https://theccbb.com/event/sba-coffee-connections/2027-07-07/
LOCATION:Smyrna First United Methodist Church\, 1315 Concord Rd. SE\, Smyrna\, GA\, 30080\, United States
CATEGORIES:Smyrna Business Association
END:VEVENT
BEGIN:VEVENT
DTSTART;TZID=America/New_York:20270708T113000
DTEND;TZID=America/New_York:20270708T130000
DTSTAMP:20260419T213527
CREATED:20240806T172559Z
LAST-MODIFIED:20240806T175957Z
UID:10000168-1815046200-1815051600@theccbb.com
SUMMARY:SBA: Monthly Luncheon
DESCRIPTION:For ticket costs and to become a member\, please visit: https://smyrnabusiness.org
URL:https://theccbb.com/event/sba-monthly-luncheon/2027-07-08/
LOCATION:200 Village Green Cir SE\, 200 Village Green Cir SE\, Smyrna\, GA\, 30080\, United States
CATEGORIES:Smyrna Business Association
END:VEVENT
BEGIN:VEVENT
DTSTART;TZID=America/New_York:20270721T080000
DTEND;TZID=America/New_York:20270721T090000
DTSTAMP:20260419T213528
CREATED:20240806T170818Z
LAST-MODIFIED:20240806T171414Z
UID:10000078-1816156800-1816160400@theccbb.com
SUMMARY:SBA: Coffee & Connections
DESCRIPTION:Join SBA members and guests for this FREE in-person networking event.  Each attendee will have an opportunity to give a 60 second speech about their business and what an ideal referral would be! \nSign up for a free ticket below to receive email reminders and updates. Pre-registration not required.
URL:https://theccbb.com/event/sba-coffee-connections/2027-07-21/
LOCATION:Smyrna First United Methodist Church\, 1315 Concord Rd. SE\, Smyrna\, GA\, 30080\, United States
CATEGORIES:Smyrna Business Association
END:VEVENT
BEGIN:VEVENT
DTSTART;TZID=America/New_York:20270804T080000
DTEND;TZID=America/New_York:20270804T090000
DTSTAMP:20260419T213528
CREATED:20240806T170818Z
LAST-MODIFIED:20240806T171414Z
UID:10000079-1817366400-1817370000@theccbb.com
SUMMARY:SBA: Coffee & Connections
DESCRIPTION:Join SBA members and guests for this FREE in-person networking event.  Each attendee will have an opportunity to give a 60 second speech about their business and what an ideal referral would be! \nSign up for a free ticket below to receive email reminders and updates. Pre-registration not required.
URL:https://theccbb.com/event/sba-coffee-connections/2027-08-04/
LOCATION:Smyrna First United Methodist Church\, 1315 Concord Rd. SE\, Smyrna\, GA\, 30080\, United States
CATEGORIES:Smyrna Business Association
END:VEVENT
BEGIN:VEVENT
DTSTART;TZID=America/New_York:20270812T113000
DTEND;TZID=America/New_York:20270812T130000
DTSTAMP:20260419T213528
CREATED:20240806T172559Z
LAST-MODIFIED:20240806T175957Z
UID:10000169-1818070200-1818075600@theccbb.com
SUMMARY:SBA: Monthly Luncheon
DESCRIPTION:For ticket costs and to become a member\, please visit: https://smyrnabusiness.org
URL:https://theccbb.com/event/sba-monthly-luncheon/2027-08-12/
LOCATION:200 Village Green Cir SE\, 200 Village Green Cir SE\, Smyrna\, GA\, 30080\, United States
CATEGORIES:Smyrna Business Association
END:VEVENT
BEGIN:VEVENT
DTSTART;TZID=America/New_York:20270818T080000
DTEND;TZID=America/New_York:20270818T090000
DTSTAMP:20260419T213528
CREATED:20240806T170818Z
LAST-MODIFIED:20240806T171414Z
UID:10000080-1818576000-1818579600@theccbb.com
SUMMARY:SBA: Coffee & Connections
DESCRIPTION:Join SBA members and guests for this FREE in-person networking event.  Each attendee will have an opportunity to give a 60 second speech about their business and what an ideal referral would be! \nSign up for a free ticket below to receive email reminders and updates. Pre-registration not required.
URL:https://theccbb.com/event/sba-coffee-connections/2027-08-18/
LOCATION:Smyrna First United Methodist Church\, 1315 Concord Rd. SE\, Smyrna\, GA\, 30080\, United States
CATEGORIES:Smyrna Business Association
END:VEVENT
BEGIN:VEVENT
DTSTART;TZID=America/New_York:20270901T080000
DTEND;TZID=America/New_York:20270901T090000
DTSTAMP:20260419T213528
CREATED:20240806T170818Z
LAST-MODIFIED:20240806T171414Z
UID:10000081-1819785600-1819789200@theccbb.com
SUMMARY:SBA: Coffee & Connections
DESCRIPTION:Join SBA members and guests for this FREE in-person networking event.  Each attendee will have an opportunity to give a 60 second speech about their business and what an ideal referral would be! \nSign up for a free ticket below to receive email reminders and updates. Pre-registration not required.
URL:https://theccbb.com/event/sba-coffee-connections/2027-09-01/
LOCATION:Smyrna First United Methodist Church\, 1315 Concord Rd. SE\, Smyrna\, GA\, 30080\, United States
CATEGORIES:Smyrna Business Association
END:VEVENT
END:VCALENDAR