BEGIN:VCALENDAR
VERSION:2.0
PRODID:-//Cobb County Business Bootcamp - ECPv6.15.18//NONSGML v1.0//EN
CALSCALE:GREGORIAN
METHOD:PUBLISH
X-ORIGINAL-URL:https://theccbb.com
X-WR-CALDESC:Events for Cobb County Business Bootcamp
REFRESH-INTERVAL;VALUE=DURATION:PT1H
X-Robots-Tag:noindex
X-PUBLISHED-TTL:PT1H
BEGIN:VTIMEZONE
TZID:America/New_York
BEGIN:DAYLIGHT
TZOFFSETFROM:-0500
TZOFFSETTO:-0400
TZNAME:EDT
DTSTART:20260308T070000
END:DAYLIGHT
BEGIN:STANDARD
TZOFFSETFROM:-0400
TZOFFSETTO:-0500
TZNAME:EST
DTSTART:20261101T060000
END:STANDARD
BEGIN:DAYLIGHT
TZOFFSETFROM:-0500
TZOFFSETTO:-0400
TZNAME:EDT
DTSTART:20270314T070000
END:DAYLIGHT
BEGIN:STANDARD
TZOFFSETFROM:-0400
TZOFFSETTO:-0500
TZNAME:EST
DTSTART:20271107T060000
END:STANDARD
BEGIN:DAYLIGHT
TZOFFSETFROM:-0500
TZOFFSETTO:-0400
TZNAME:EDT
DTSTART:20280312T070000
END:DAYLIGHT
BEGIN:STANDARD
TZOFFSETFROM:-0400
TZOFFSETTO:-0500
TZNAME:EST
DTSTART:20281105T060000
END:STANDARD
BEGIN:DAYLIGHT
TZOFFSETFROM:-0500
TZOFFSETTO:-0400
TZNAME:EDT
DTSTART:20290311T070000
END:DAYLIGHT
BEGIN:STANDARD
TZOFFSETFROM:-0400
TZOFFSETTO:-0500
TZNAME:EST
DTSTART:20291104T060000
END:STANDARD
END:VTIMEZONE
BEGIN:VEVENT
DTSTART;TZID=America/New_York:20270610T113000
DTEND;TZID=America/New_York:20270610T130000
DTSTAMP:20260419T214414
CREATED:20240806T172559Z
LAST-MODIFIED:20240806T175957Z
UID:10000167-1812627000-1812632400@theccbb.com
SUMMARY:SBA: Monthly Luncheon
DESCRIPTION:For ticket costs and to become a member\, please visit: https://smyrnabusiness.org
URL:https://theccbb.com/event/sba-monthly-luncheon/2027-06-10/
LOCATION:200 Village Green Cir SE\, 200 Village Green Cir SE\, Smyrna\, GA\, 30080\, United States
CATEGORIES:Smyrna Business Association
END:VEVENT
BEGIN:VEVENT
DTSTART;TZID=America/New_York:20270623T080000
DTEND;TZID=America/New_York:20270623T090000
DTSTAMP:20260419T214414
CREATED:20240806T170818Z
LAST-MODIFIED:20240806T171414Z
UID:10000076-1813737600-1813741200@theccbb.com
SUMMARY:SBA: Coffee & Connections
DESCRIPTION:Join SBA members and guests for this FREE in-person networking event.  Each attendee will have an opportunity to give a 60 second speech about their business and what an ideal referral would be! \nSign up for a free ticket below to receive email reminders and updates. Pre-registration not required.
URL:https://theccbb.com/event/sba-coffee-connections/2027-06-23/
LOCATION:Smyrna First United Methodist Church\, 1315 Concord Rd. SE\, Smyrna\, GA\, 30080\, United States
CATEGORIES:Smyrna Business Association
END:VEVENT
BEGIN:VEVENT
DTSTART;TZID=America/New_York:20270707T080000
DTEND;TZID=America/New_York:20270707T090000
DTSTAMP:20260419T214414
CREATED:20240806T170818Z
LAST-MODIFIED:20240806T171414Z
UID:10000077-1814947200-1814950800@theccbb.com
SUMMARY:SBA: Coffee & Connections
DESCRIPTION:Join SBA members and guests for this FREE in-person networking event.  Each attendee will have an opportunity to give a 60 second speech about their business and what an ideal referral would be! \nSign up for a free ticket below to receive email reminders and updates. Pre-registration not required.
URL:https://theccbb.com/event/sba-coffee-connections/2027-07-07/
LOCATION:Smyrna First United Methodist Church\, 1315 Concord Rd. SE\, Smyrna\, GA\, 30080\, United States
CATEGORIES:Smyrna Business Association
END:VEVENT
BEGIN:VEVENT
DTSTART;TZID=America/New_York:20270708T113000
DTEND;TZID=America/New_York:20270708T130000
DTSTAMP:20260419T214414
CREATED:20240806T172559Z
LAST-MODIFIED:20240806T175957Z
UID:10000168-1815046200-1815051600@theccbb.com
SUMMARY:SBA: Monthly Luncheon
DESCRIPTION:For ticket costs and to become a member\, please visit: https://smyrnabusiness.org
URL:https://theccbb.com/event/sba-monthly-luncheon/2027-07-08/
LOCATION:200 Village Green Cir SE\, 200 Village Green Cir SE\, Smyrna\, GA\, 30080\, United States
CATEGORIES:Smyrna Business Association
END:VEVENT
BEGIN:VEVENT
DTSTART;TZID=America/New_York:20270721T080000
DTEND;TZID=America/New_York:20270721T090000
DTSTAMP:20260419T214414
CREATED:20240806T170818Z
LAST-MODIFIED:20240806T171414Z
UID:10000078-1816156800-1816160400@theccbb.com
SUMMARY:SBA: Coffee & Connections
DESCRIPTION:Join SBA members and guests for this FREE in-person networking event.  Each attendee will have an opportunity to give a 60 second speech about their business and what an ideal referral would be! \nSign up for a free ticket below to receive email reminders and updates. Pre-registration not required.
URL:https://theccbb.com/event/sba-coffee-connections/2027-07-21/
LOCATION:Smyrna First United Methodist Church\, 1315 Concord Rd. SE\, Smyrna\, GA\, 30080\, United States
CATEGORIES:Smyrna Business Association
END:VEVENT
BEGIN:VEVENT
DTSTART;TZID=America/New_York:20270804T080000
DTEND;TZID=America/New_York:20270804T090000
DTSTAMP:20260419T214414
CREATED:20240806T170818Z
LAST-MODIFIED:20240806T171414Z
UID:10000079-1817366400-1817370000@theccbb.com
SUMMARY:SBA: Coffee & Connections
DESCRIPTION:Join SBA members and guests for this FREE in-person networking event.  Each attendee will have an opportunity to give a 60 second speech about their business and what an ideal referral would be! \nSign up for a free ticket below to receive email reminders and updates. Pre-registration not required.
URL:https://theccbb.com/event/sba-coffee-connections/2027-08-04/
LOCATION:Smyrna First United Methodist Church\, 1315 Concord Rd. SE\, Smyrna\, GA\, 30080\, United States
CATEGORIES:Smyrna Business Association
END:VEVENT
BEGIN:VEVENT
DTSTART;TZID=America/New_York:20270812T113000
DTEND;TZID=America/New_York:20270812T130000
DTSTAMP:20260419T214414
CREATED:20240806T172559Z
LAST-MODIFIED:20240806T175957Z
UID:10000169-1818070200-1818075600@theccbb.com
SUMMARY:SBA: Monthly Luncheon
DESCRIPTION:For ticket costs and to become a member\, please visit: https://smyrnabusiness.org
URL:https://theccbb.com/event/sba-monthly-luncheon/2027-08-12/
LOCATION:200 Village Green Cir SE\, 200 Village Green Cir SE\, Smyrna\, GA\, 30080\, United States
CATEGORIES:Smyrna Business Association
END:VEVENT
BEGIN:VEVENT
DTSTART;TZID=America/New_York:20270818T080000
DTEND;TZID=America/New_York:20270818T090000
DTSTAMP:20260419T214414
CREATED:20240806T170818Z
LAST-MODIFIED:20240806T171414Z
UID:10000080-1818576000-1818579600@theccbb.com
SUMMARY:SBA: Coffee & Connections
DESCRIPTION:Join SBA members and guests for this FREE in-person networking event.  Each attendee will have an opportunity to give a 60 second speech about their business and what an ideal referral would be! \nSign up for a free ticket below to receive email reminders and updates. Pre-registration not required.
URL:https://theccbb.com/event/sba-coffee-connections/2027-08-18/
LOCATION:Smyrna First United Methodist Church\, 1315 Concord Rd. SE\, Smyrna\, GA\, 30080\, United States
CATEGORIES:Smyrna Business Association
END:VEVENT
BEGIN:VEVENT
DTSTART;TZID=America/New_York:20270901T080000
DTEND;TZID=America/New_York:20270901T090000
DTSTAMP:20260419T214414
CREATED:20240806T170818Z
LAST-MODIFIED:20240806T171414Z
UID:10000081-1819785600-1819789200@theccbb.com
SUMMARY:SBA: Coffee & Connections
DESCRIPTION:Join SBA members and guests for this FREE in-person networking event.  Each attendee will have an opportunity to give a 60 second speech about their business and what an ideal referral would be! \nSign up for a free ticket below to receive email reminders and updates. Pre-registration not required.
URL:https://theccbb.com/event/sba-coffee-connections/2027-09-01/
LOCATION:Smyrna First United Methodist Church\, 1315 Concord Rd. SE\, Smyrna\, GA\, 30080\, United States
CATEGORIES:Smyrna Business Association
END:VEVENT
BEGIN:VEVENT
DTSTART;TZID=America/New_York:20270909T113000
DTEND;TZID=America/New_York:20270909T130000
DTSTAMP:20260419T214414
CREATED:20240806T172559Z
LAST-MODIFIED:20240806T175957Z
UID:10000170-1820489400-1820494800@theccbb.com
SUMMARY:SBA: Monthly Luncheon
DESCRIPTION:For ticket costs and to become a member\, please visit: https://smyrnabusiness.org
URL:https://theccbb.com/event/sba-monthly-luncheon/2027-09-09/
LOCATION:200 Village Green Cir SE\, 200 Village Green Cir SE\, Smyrna\, GA\, 30080\, United States
CATEGORIES:Smyrna Business Association
END:VEVENT
BEGIN:VEVENT
DTSTART;TZID=America/New_York:20270915T080000
DTEND;TZID=America/New_York:20270915T090000
DTSTAMP:20260419T214414
CREATED:20240806T170818Z
LAST-MODIFIED:20240806T171414Z
UID:10000082-1820995200-1820998800@theccbb.com
SUMMARY:SBA: Coffee & Connections
DESCRIPTION:Join SBA members and guests for this FREE in-person networking event.  Each attendee will have an opportunity to give a 60 second speech about their business and what an ideal referral would be! \nSign up for a free ticket below to receive email reminders and updates. Pre-registration not required.
URL:https://theccbb.com/event/sba-coffee-connections/2027-09-15/
LOCATION:Smyrna First United Methodist Church\, 1315 Concord Rd. SE\, Smyrna\, GA\, 30080\, United States
CATEGORIES:Smyrna Business Association
END:VEVENT
BEGIN:VEVENT
DTSTART;TZID=America/New_York:20270929T080000
DTEND;TZID=America/New_York:20270929T090000
DTSTAMP:20260419T214414
CREATED:20240806T170818Z
LAST-MODIFIED:20240806T171414Z
UID:10000083-1822204800-1822208400@theccbb.com
SUMMARY:SBA: Coffee & Connections
DESCRIPTION:Join SBA members and guests for this FREE in-person networking event.  Each attendee will have an opportunity to give a 60 second speech about their business and what an ideal referral would be! \nSign up for a free ticket below to receive email reminders and updates. Pre-registration not required.
URL:https://theccbb.com/event/sba-coffee-connections/2027-09-29/
LOCATION:Smyrna First United Methodist Church\, 1315 Concord Rd. SE\, Smyrna\, GA\, 30080\, United States
CATEGORIES:Smyrna Business Association
END:VEVENT
BEGIN:VEVENT
DTSTART;TZID=America/New_York:20271013T080000
DTEND;TZID=America/New_York:20271013T090000
DTSTAMP:20260419T214414
CREATED:20240806T170818Z
LAST-MODIFIED:20240806T171414Z
UID:10000084-1823414400-1823418000@theccbb.com
SUMMARY:SBA: Coffee & Connections
DESCRIPTION:Join SBA members and guests for this FREE in-person networking event.  Each attendee will have an opportunity to give a 60 second speech about their business and what an ideal referral would be! \nSign up for a free ticket below to receive email reminders and updates. Pre-registration not required.
URL:https://theccbb.com/event/sba-coffee-connections/2027-10-13/
LOCATION:Smyrna First United Methodist Church\, 1315 Concord Rd. SE\, Smyrna\, GA\, 30080\, United States
CATEGORIES:Smyrna Business Association
END:VEVENT
BEGIN:VEVENT
DTSTART;TZID=America/New_York:20271014T113000
DTEND;TZID=America/New_York:20271014T130000
DTSTAMP:20260419T214414
CREATED:20240806T172559Z
LAST-MODIFIED:20240806T175957Z
UID:10000171-1823513400-1823518800@theccbb.com
SUMMARY:SBA: Monthly Luncheon
DESCRIPTION:For ticket costs and to become a member\, please visit: https://smyrnabusiness.org
URL:https://theccbb.com/event/sba-monthly-luncheon/2027-10-14/
LOCATION:200 Village Green Cir SE\, 200 Village Green Cir SE\, Smyrna\, GA\, 30080\, United States
CATEGORIES:Smyrna Business Association
END:VEVENT
BEGIN:VEVENT
DTSTART;TZID=America/New_York:20271027T080000
DTEND;TZID=America/New_York:20271027T090000
DTSTAMP:20260419T214414
CREATED:20240806T170818Z
LAST-MODIFIED:20240806T171414Z
UID:10000085-1824624000-1824627600@theccbb.com
SUMMARY:SBA: Coffee & Connections
DESCRIPTION:Join SBA members and guests for this FREE in-person networking event.  Each attendee will have an opportunity to give a 60 second speech about their business and what an ideal referral would be! \nSign up for a free ticket below to receive email reminders and updates. Pre-registration not required.
URL:https://theccbb.com/event/sba-coffee-connections/2027-10-27/
LOCATION:Smyrna First United Methodist Church\, 1315 Concord Rd. SE\, Smyrna\, GA\, 30080\, United States
CATEGORIES:Smyrna Business Association
END:VEVENT
BEGIN:VEVENT
DTSTART;TZID=America/New_York:20271110T080000
DTEND;TZID=America/New_York:20271110T090000
DTSTAMP:20260419T214414
CREATED:20240806T170818Z
LAST-MODIFIED:20240806T171414Z
UID:10000086-1825833600-1825837200@theccbb.com
SUMMARY:SBA: Coffee & Connections
DESCRIPTION:Join SBA members and guests for this FREE in-person networking event.  Each attendee will have an opportunity to give a 60 second speech about their business and what an ideal referral would be! \nSign up for a free ticket below to receive email reminders and updates. Pre-registration not required.
URL:https://theccbb.com/event/sba-coffee-connections/2027-11-10/
LOCATION:Smyrna First United Methodist Church\, 1315 Concord Rd. SE\, Smyrna\, GA\, 30080\, United States
CATEGORIES:Smyrna Business Association
END:VEVENT
BEGIN:VEVENT
DTSTART;TZID=America/New_York:20271111T113000
DTEND;TZID=America/New_York:20271111T130000
DTSTAMP:20260419T214414
CREATED:20240806T172559Z
LAST-MODIFIED:20240806T175957Z
UID:10000172-1825932600-1825938000@theccbb.com
SUMMARY:SBA: Monthly Luncheon
DESCRIPTION:For ticket costs and to become a member\, please visit: https://smyrnabusiness.org
URL:https://theccbb.com/event/sba-monthly-luncheon/2027-11-11/
LOCATION:200 Village Green Cir SE\, 200 Village Green Cir SE\, Smyrna\, GA\, 30080\, United States
CATEGORIES:Smyrna Business Association
END:VEVENT
BEGIN:VEVENT
DTSTART;TZID=America/New_York:20271124T080000
DTEND;TZID=America/New_York:20271124T090000
DTSTAMP:20260419T214414
CREATED:20240806T170818Z
LAST-MODIFIED:20240806T171414Z
UID:10000087-1827043200-1827046800@theccbb.com
SUMMARY:SBA: Coffee & Connections
DESCRIPTION:Join SBA members and guests for this FREE in-person networking event.  Each attendee will have an opportunity to give a 60 second speech about their business and what an ideal referral would be! \nSign up for a free ticket below to receive email reminders and updates. Pre-registration not required.
URL:https://theccbb.com/event/sba-coffee-connections/2027-11-24/
LOCATION:Smyrna First United Methodist Church\, 1315 Concord Rd. SE\, Smyrna\, GA\, 30080\, United States
CATEGORIES:Smyrna Business Association
END:VEVENT
BEGIN:VEVENT
DTSTART;TZID=America/New_York:20271208T080000
DTEND;TZID=America/New_York:20271208T090000
DTSTAMP:20260419T214414
CREATED:20240806T170818Z
LAST-MODIFIED:20240806T171414Z
UID:10000088-1828252800-1828256400@theccbb.com
SUMMARY:SBA: Coffee & Connections
DESCRIPTION:Join SBA members and guests for this FREE in-person networking event.  Each attendee will have an opportunity to give a 60 second speech about their business and what an ideal referral would be! \nSign up for a free ticket below to receive email reminders and updates. Pre-registration not required.
URL:https://theccbb.com/event/sba-coffee-connections/2027-12-08/
LOCATION:Smyrna First United Methodist Church\, 1315 Concord Rd. SE\, Smyrna\, GA\, 30080\, United States
CATEGORIES:Smyrna Business Association
END:VEVENT
BEGIN:VEVENT
DTSTART;TZID=America/New_York:20271209T113000
DTEND;TZID=America/New_York:20271209T130000
DTSTAMP:20260419T214414
CREATED:20240806T172559Z
LAST-MODIFIED:20240806T175957Z
UID:10000173-1828351800-1828357200@theccbb.com
SUMMARY:SBA: Monthly Luncheon
DESCRIPTION:For ticket costs and to become a member\, please visit: https://smyrnabusiness.org
URL:https://theccbb.com/event/sba-monthly-luncheon/2027-12-09/
LOCATION:200 Village Green Cir SE\, 200 Village Green Cir SE\, Smyrna\, GA\, 30080\, United States
CATEGORIES:Smyrna Business Association
END:VEVENT
BEGIN:VEVENT
DTSTART;TZID=America/New_York:20271222T080000
DTEND;TZID=America/New_York:20271222T090000
DTSTAMP:20260419T214414
CREATED:20240806T170818Z
LAST-MODIFIED:20240806T171414Z
UID:10000089-1829462400-1829466000@theccbb.com
SUMMARY:SBA: Coffee & Connections
DESCRIPTION:Join SBA members and guests for this FREE in-person networking event.  Each attendee will have an opportunity to give a 60 second speech about their business and what an ideal referral would be! \nSign up for a free ticket below to receive email reminders and updates. Pre-registration not required.
URL:https://theccbb.com/event/sba-coffee-connections/2027-12-22/
LOCATION:Smyrna First United Methodist Church\, 1315 Concord Rd. SE\, Smyrna\, GA\, 30080\, United States
CATEGORIES:Smyrna Business Association
END:VEVENT
BEGIN:VEVENT
DTSTART;TZID=America/New_York:20280105T080000
DTEND;TZID=America/New_York:20280105T090000
DTSTAMP:20260419T214414
CREATED:20240806T170818Z
LAST-MODIFIED:20240806T171414Z
UID:10000090-1830672000-1830675600@theccbb.com
SUMMARY:SBA: Coffee & Connections
DESCRIPTION:Join SBA members and guests for this FREE in-person networking event.  Each attendee will have an opportunity to give a 60 second speech about their business and what an ideal referral would be! \nSign up for a free ticket below to receive email reminders and updates. Pre-registration not required.
URL:https://theccbb.com/event/sba-coffee-connections/2028-01-05/
LOCATION:Smyrna First United Methodist Church\, 1315 Concord Rd. SE\, Smyrna\, GA\, 30080\, United States
CATEGORIES:Smyrna Business Association
END:VEVENT
BEGIN:VEVENT
DTSTART;TZID=America/New_York:20280113T113000
DTEND;TZID=America/New_York:20280113T130000
DTSTAMP:20260419T214414
CREATED:20240806T172559Z
LAST-MODIFIED:20240806T175957Z
UID:10000174-1831375800-1831381200@theccbb.com
SUMMARY:SBA: Monthly Luncheon
DESCRIPTION:For ticket costs and to become a member\, please visit: https://smyrnabusiness.org
URL:https://theccbb.com/event/sba-monthly-luncheon/2028-01-13/
LOCATION:200 Village Green Cir SE\, 200 Village Green Cir SE\, Smyrna\, GA\, 30080\, United States
CATEGORIES:Smyrna Business Association
END:VEVENT
BEGIN:VEVENT
DTSTART;TZID=America/New_York:20280119T080000
DTEND;TZID=America/New_York:20280119T090000
DTSTAMP:20260419T214414
CREATED:20240806T170818Z
LAST-MODIFIED:20240806T171414Z
UID:10000091-1831881600-1831885200@theccbb.com
SUMMARY:SBA: Coffee & Connections
DESCRIPTION:Join SBA members and guests for this FREE in-person networking event.  Each attendee will have an opportunity to give a 60 second speech about their business and what an ideal referral would be! \nSign up for a free ticket below to receive email reminders and updates. Pre-registration not required.
URL:https://theccbb.com/event/sba-coffee-connections/2028-01-19/
LOCATION:Smyrna First United Methodist Church\, 1315 Concord Rd. SE\, Smyrna\, GA\, 30080\, United States
CATEGORIES:Smyrna Business Association
END:VEVENT
BEGIN:VEVENT
DTSTART;TZID=America/New_York:20280202T080000
DTEND;TZID=America/New_York:20280202T090000
DTSTAMP:20260419T214414
CREATED:20240806T170818Z
LAST-MODIFIED:20240806T171414Z
UID:10000092-1833091200-1833094800@theccbb.com
SUMMARY:SBA: Coffee & Connections
DESCRIPTION:Join SBA members and guests for this FREE in-person networking event.  Each attendee will have an opportunity to give a 60 second speech about their business and what an ideal referral would be! \nSign up for a free ticket below to receive email reminders and updates. Pre-registration not required.
URL:https://theccbb.com/event/sba-coffee-connections/2028-02-02/
LOCATION:Smyrna First United Methodist Church\, 1315 Concord Rd. SE\, Smyrna\, GA\, 30080\, United States
CATEGORIES:Smyrna Business Association
END:VEVENT
BEGIN:VEVENT
DTSTART;TZID=America/New_York:20280210T113000
DTEND;TZID=America/New_York:20280210T130000
DTSTAMP:20260419T214414
CREATED:20240806T172559Z
LAST-MODIFIED:20240806T175957Z
UID:10000175-1833795000-1833800400@theccbb.com
SUMMARY:SBA: Monthly Luncheon
DESCRIPTION:For ticket costs and to become a member\, please visit: https://smyrnabusiness.org
URL:https://theccbb.com/event/sba-monthly-luncheon/2028-02-10/
LOCATION:200 Village Green Cir SE\, 200 Village Green Cir SE\, Smyrna\, GA\, 30080\, United States
CATEGORIES:Smyrna Business Association
END:VEVENT
BEGIN:VEVENT
DTSTART;TZID=America/New_York:20280216T080000
DTEND;TZID=America/New_York:20280216T090000
DTSTAMP:20260419T214414
CREATED:20240806T170818Z
LAST-MODIFIED:20240806T171414Z
UID:10000093-1834300800-1834304400@theccbb.com
SUMMARY:SBA: Coffee & Connections
DESCRIPTION:Join SBA members and guests for this FREE in-person networking event.  Each attendee will have an opportunity to give a 60 second speech about their business and what an ideal referral would be! \nSign up for a free ticket below to receive email reminders and updates. Pre-registration not required.
URL:https://theccbb.com/event/sba-coffee-connections/2028-02-16/
LOCATION:Smyrna First United Methodist Church\, 1315 Concord Rd. SE\, Smyrna\, GA\, 30080\, United States
CATEGORIES:Smyrna Business Association
END:VEVENT
BEGIN:VEVENT
DTSTART;TZID=America/New_York:20280301T080000
DTEND;TZID=America/New_York:20280301T090000
DTSTAMP:20260419T214414
CREATED:20240806T170818Z
LAST-MODIFIED:20240806T171414Z
UID:10000094-1835510400-1835514000@theccbb.com
SUMMARY:SBA: Coffee & Connections
DESCRIPTION:Join SBA members and guests for this FREE in-person networking event.  Each attendee will have an opportunity to give a 60 second speech about their business and what an ideal referral would be! \nSign up for a free ticket below to receive email reminders and updates. Pre-registration not required.
URL:https://theccbb.com/event/sba-coffee-connections/2028-03-01/
LOCATION:Smyrna First United Methodist Church\, 1315 Concord Rd. SE\, Smyrna\, GA\, 30080\, United States
CATEGORIES:Smyrna Business Association
END:VEVENT
BEGIN:VEVENT
DTSTART;TZID=America/New_York:20280309T113000
DTEND;TZID=America/New_York:20280309T130000
DTSTAMP:20260419T214414
CREATED:20240806T172559Z
LAST-MODIFIED:20240806T175957Z
UID:10000176-1836214200-1836219600@theccbb.com
SUMMARY:SBA: Monthly Luncheon
DESCRIPTION:For ticket costs and to become a member\, please visit: https://smyrnabusiness.org
URL:https://theccbb.com/event/sba-monthly-luncheon/2028-03-09/
LOCATION:200 Village Green Cir SE\, 200 Village Green Cir SE\, Smyrna\, GA\, 30080\, United States
CATEGORIES:Smyrna Business Association
END:VEVENT
BEGIN:VEVENT
DTSTART;TZID=America/New_York:20280315T080000
DTEND;TZID=America/New_York:20280315T090000
DTSTAMP:20260419T214414
CREATED:20240806T170818Z
LAST-MODIFIED:20240806T171414Z
UID:10000095-1836720000-1836723600@theccbb.com
SUMMARY:SBA: Coffee & Connections
DESCRIPTION:Join SBA members and guests for this FREE in-person networking event.  Each attendee will have an opportunity to give a 60 second speech about their business and what an ideal referral would be! \nSign up for a free ticket below to receive email reminders and updates. Pre-registration not required.
URL:https://theccbb.com/event/sba-coffee-connections/2028-03-15/
LOCATION:Smyrna First United Methodist Church\, 1315 Concord Rd. SE\, Smyrna\, GA\, 30080\, United States
CATEGORIES:Smyrna Business Association
END:VEVENT
END:VCALENDAR