BEGIN:VCALENDAR
VERSION:2.0
PRODID:-//Cobb County Business Bootcamp - ECPv6.15.18//NONSGML v1.0//EN
CALSCALE:GREGORIAN
METHOD:PUBLISH
X-WR-CALNAME:Cobb County Business Bootcamp
X-ORIGINAL-URL:https://theccbb.com
X-WR-CALDESC:Events for Cobb County Business Bootcamp
REFRESH-INTERVAL;VALUE=DURATION:PT1H
X-Robots-Tag:noindex
X-PUBLISHED-TTL:PT1H
BEGIN:VTIMEZONE
TZID:America/New_York
BEGIN:DAYLIGHT
TZOFFSETFROM:-0500
TZOFFSETTO:-0400
TZNAME:EDT
DTSTART:20270314T070000
END:DAYLIGHT
BEGIN:STANDARD
TZOFFSETFROM:-0400
TZOFFSETTO:-0500
TZNAME:EST
DTSTART:20271107T060000
END:STANDARD
BEGIN:DAYLIGHT
TZOFFSETFROM:-0500
TZOFFSETTO:-0400
TZNAME:EDT
DTSTART:20280312T070000
END:DAYLIGHT
BEGIN:STANDARD
TZOFFSETFROM:-0400
TZOFFSETTO:-0500
TZNAME:EST
DTSTART:20281105T060000
END:STANDARD
BEGIN:DAYLIGHT
TZOFFSETFROM:-0500
TZOFFSETTO:-0400
TZNAME:EDT
DTSTART:20290311T070000
END:DAYLIGHT
BEGIN:STANDARD
TZOFFSETFROM:-0400
TZOFFSETTO:-0500
TZNAME:EST
DTSTART:20291104T060000
END:STANDARD
END:VTIMEZONE
BEGIN:VEVENT
DTSTART;TZID=America/New_York:20280224T180000
DTEND;TZID=America/New_York:20280224T200000
DTSTAMP:20260419T093224
CREATED:20250602T081120Z
LAST-MODIFIED:20250602T081120Z
UID:10004537-1835028000-1835035200@theccbb.com
SUMMARY:ATL Airport Chamber - Landing at Six: Networking Series
DESCRIPTION:🚨 TAAC is on fire this week with opportunities you do not want to miss! 🚨 \n👉 Limited Membership Offer: The first 100 people can join the ATL Airport Chamber at our Main Cabin Membership level for only $100 for the year (a $500 value!). Sign up today before July when exclusive members-only content goes behind the curtain. \n👉 Here is how to claim your discounted membership: \nVisit: TAAC Membership Levels https://lnkd.in/ekh68hXN \nSelect Main Cabin Membership Level \nEnter your company and contact details \nSelect Main Cabin Membership Level again \nScroll down\, select New Member Limited Time Discount\, and complete your payment \n  \nContact natasha@airportchamber.com if you need assistance! \nLanding at Six Networking Series https://lnkd.in/e2ejR5EJ \nEvery Thursday at 6 PM at Kimpton Overland Hotel\, Atlanta. No registration fee. Great food\, drinks\, and professional connections. \n  \n💼 Want to sponsor or speak at an upcoming TAAC event? \nEmail: natasha@airportchamber.com \nTAAC: Where business takes off! ✈️
URL:https://theccbb.com/event/atl-airport-chamber-landing-at-six-networking-series/2028-02-24/
LOCATION:Kimpton Overland Hotel\, Two Porsche Drive\, Atlanta\, 30354\, United States
CATEGORIES:ATL Airport Chamber
END:VEVENT
BEGIN:VEVENT
DTSTART;TZID=America/New_York:20280224T183000
DTEND;TZID=America/New_York:20280224T200000
DTSTAMP:20260419T093224
CREATED:20241104T033559Z
LAST-MODIFIED:20241104T033559Z
UID:10001674-1835029800-1835035200@theccbb.com
SUMMARY:Atlanta Brasil Rotary Club Monthly In-Person Meeting
DESCRIPTION:In-person meetings last Thursday of each month at 6:30 PM. Meetings are in Portuguese\, but all of our members also speak English! You’re welcome to visit! Just let us know! \nFor more information on membership or the event\, please visit: https://www.atlantabrasilrotary.club
URL:https://theccbb.com/event/atlanta-brasil-rotary-club-monthly-in-person-meeting/2028-02-24/
LOCATION:Zoei Group\, 1165 Northchase Pkwy SE STE 125\, Marietta\, 30067\, United States
CATEGORIES:Rotary Club
ORGANIZER;CN="Rotary Club (Atlanta Brasil)":MAILTO:atlantabrasilrotaryclub@gmail.com
END:VEVENT
BEGIN:VEVENT
DTSTART;TZID=America/New_York:20280225T073000
DTEND;TZID=America/New_York:20280225T083000
DTSTAMP:20260419T093224
CREATED:20240806T175616Z
LAST-MODIFIED:20250519T210149Z
UID:10004278-1835076600-1835080200@theccbb.com
SUMMARY:ECBA: ECON Open Networking
DESCRIPTION:
URL:https://theccbb.com/event/ecba-econ-open-networking/2028-02-25/
LOCATION:IHOP\, 3130 Johnson Ferry Rd.\, Marietta\, GA\, 30062\, United States
CATEGORIES:East Cobb Business Association
END:VEVENT
BEGIN:VEVENT
DTSTART;TZID=America/New_York:20280228T113000
DTEND;TZID=America/New_York:20280228T130000
DTSTAMP:20260419T093224
CREATED:20240806T191105Z
LAST-MODIFIED:20240807T203043Z
UID:10001612-1835350200-1835355600@theccbb.com
SUMMARY:MBA: Business Development Luncheon
DESCRIPTION:Join us to hear from community\, state\, and nationally recognized government and business leaders as they share current and relevant information for doing business in Georgia. \n**Please note: If you choose not to register in advance\, you will pay an additional $5 at the door. \nFor ticket costs and to become a member\, please visit: mariettabusiness.org
URL:https://theccbb.com/event/mba-business-development-luncheon/2028-02-28/
LOCATION:The Foxglove\, 54 Atlanta St SE Suite B\, Marietta\, GA\, 30060\, United States
CATEGORIES:Marietta Business Association
END:VEVENT
BEGIN:VEVENT
DTSTART;TZID=America/New_York:20280228T113000
DTEND;TZID=America/New_York:20280228T130000
DTSTAMP:20260419T093224
CREATED:20250321T180219Z
LAST-MODIFIED:20250505T204918Z
UID:10004062-1835350200-1835355600@theccbb.com
SUMMARY:Mix & Mingle - CCBB's Business Open Networking Group
DESCRIPTION:The Cobb County Business Bootcamp invites all entrepreneurs to join Mix & Mingle\, the hottest new networking group in Marietta! \nWhether you’re an established small business owner looking to grow your business or a new entrepreneur with a dream to build your business up\, this event was created for you. Join other Cobb County entrepreneurs in this interactive group where you’ll get an opportunity to share more about your business and discuss partnerships and growth strategies. \nThis group is open to anyone\, including CCBB members and non-members\, with no registration required. \nOur group runs on a modified version of the open networking format\, so please be ready to share more about your business goals and ideal clients\, while also presenting your 60-second elevator pitch and bring plenty of business cards to pass around! \nWhere:\nMarietta Melt Yard\n800 Whitlock Ave. NW\, Marietta\, GA 30064
URL:https://theccbb.com/event/mix-mingle-ccbbs-business-open-networking-group/2028-02-28/
LOCATION:Marietta Melt Yard\, 800 Whitlock Avenue Northwest\, Marietta\, 30064\, United States
CATEGORIES:Cobb County Business Bootcamp
ATTACH;FMTTYPE=image/avif:https://theccbb.com/wp-content/uploads/2025/03/https___cdn.evbuc_.com_images_979370313_2218890130083_1_original.avif
END:VEVENT
BEGIN:VEVENT
DTSTART;TZID=America/New_York:20280228T120000
DTEND;TZID=America/New_York:20280228T133000
DTSTAMP:20260419T093224
CREATED:20241127T110905Z
LAST-MODIFIED:20241127T113636Z
UID:10002307-1835352000-1835357400@theccbb.com
SUMMARY:Marietta-Metro\, Georgia (Rotary Club)
DESCRIPTION:Pre-luncheon fellowship period begins @ 11:50 AM. \nWhere (In-Person): 500 Powder Springs St. Marietta\, 30060\, United States\, Georgia \nWebsite: https://mariettametrorotary.org
URL:https://theccbb.com/event/marietta-metro-georgia-united-states-rotary-club/2028-02-28/
LOCATION:Rotary Club (Marietta-Metro)\, 500 Powder Springs St.\, Marietta\, Georgia\, 30060
CATEGORIES:Rotary Club
END:VEVENT
BEGIN:VEVENT
DTSTART;TZID=America/New_York:20280229T073000
DTEND;TZID=America/New_York:20280229T083000
DTSTAMP:20260419T093224
CREATED:20241129T130726Z
LAST-MODIFIED:20241129T224241Z
UID:10003872-1835422200-1835425800@theccbb.com
SUMMARY:Woodstock\, Georgia (Rotary Club)
DESCRIPTION:IHOP Restaurant in Woodstock \nFrom Atl. I75N to I575N Exit 7\, left on HWY 92\,1/4 mile\nto right into IHOP parking lot. We meet in the back room \nPhone: 404-506-6878 \nWHERE (In-Person): 8979 Hwy. 92 Woodstock\, 30189\, Georgia
URL:https://theccbb.com/event/110345/2028-02-29/
LOCATION:Rotary Club (Woodstock)\, 8979 Hwy. 92\, Woodstock\, Georgia\, 30189
CATEGORIES:Rotary Club
END:VEVENT
BEGIN:VEVENT
DTSTART;TZID=America/New_York:20280229T080000
DTEND;TZID=America/New_York:20280229T090000
DTSTAMP:20260419T093224
CREATED:20240806T181316Z
LAST-MODIFIED:20240807T202722Z
UID:10000726-1835424000-1835427600@theccbb.com
SUMMARY:ABA: Morning Jolt
DESCRIPTION:Join the ABA for early morning networking and coffee. \nFor ticket costs and to become a member\, please visit: https://acworthbusiness.org
URL:https://theccbb.com/event/aba-morning-jolt/2028-02-29/
LOCATION:The Cowan\, 4271 Southside Drive\, Acworth\, GA\, 30101\, United States
CATEGORIES:Acworth Business Association
END:VEVENT
BEGIN:VEVENT
DTSTART;TZID=America/New_York:20280229T121500
DTEND;TZID=America/New_York:20280229T133000
DTSTAMP:20260419T093224
CREATED:20241127T115848Z
LAST-MODIFIED:20241127T115848Z
UID:10002828-1835439300-1835443800@theccbb.com
SUMMARY:Smyrna\, Georgia (Rotary Club)
DESCRIPTION:Email: smyrnarotaryga@gmail.com\nWebsite: https://smyrnarotary.org/ \nSmyrna Rotary Club\nWHERE (In-Person): 3180 Atlanta Rd SE\, Smyrna\, 30080-8256\, United States\, Georgia
URL:https://theccbb.com/event/smyrna-georgia-rotary-club/2028-02-29/
LOCATION:Rotary Club (Smyrna)\, 3180 Atlanta Rd SE\, Smyrna\, Georgia\, 30080
CATEGORIES:Rotary Club
END:VEVENT
BEGIN:VEVENT
DTSTART;TZID=America/New_York:20280301T070000
DTEND;TZID=America/New_York:20280301T080000
DTSTAMP:20260419T093224
CREATED:20241129T114849Z
LAST-MODIFIED:20241129T114849Z
UID:10003350-1835506800-1835510400@theccbb.com
SUMMARY:East Cobb-Marietta\, Georgia (Rotary Club)
DESCRIPTION:Phone: +1 7702358000\nWebsite: https://www.eastcobbrotary.com \nWHERE (In-Person): 4001 Clubland Dr. Marietta\, 30068-4014\, Georgia \n 
URL:https://theccbb.com/event/east-cobb-marietta-georgia-rotary-club/2028-03-01/
LOCATION:Rotary Club (East Cobb-Marietta)\, 4001 Clubland Dr.\, Marietta\, Georgia\, 30068
CATEGORIES:Rotary Club
END:VEVENT
BEGIN:VEVENT
DTSTART;TZID=America/New_York:20280301T080000
DTEND;TZID=America/New_York:20280301T090000
DTSTAMP:20260419T093224
CREATED:20240806T170818Z
LAST-MODIFIED:20240806T171414Z
UID:10000094-1835510400-1835514000@theccbb.com
SUMMARY:SBA: Coffee & Connections
DESCRIPTION:Join SBA members and guests for this FREE in-person networking event.  Each attendee will have an opportunity to give a 60 second speech about their business and what an ideal referral would be! \nSign up for a free ticket below to receive email reminders and updates. Pre-registration not required.
URL:https://theccbb.com/event/sba-coffee-connections/2028-03-01/
LOCATION:Smyrna First United Methodist Church\, 1315 Concord Rd. SE\, Smyrna\, GA\, 30080\, United States
CATEGORIES:Smyrna Business Association
END:VEVENT
BEGIN:VEVENT
DTSTART;TZID=America/New_York:20280301T110000
DTEND;TZID=America/New_York:20280301T130000
DTSTAMP:20260419T093224
CREATED:20240806T190639Z
LAST-MODIFIED:20240806T190639Z
UID:10001054-1835521200-1835528400@theccbb.com
SUMMARY:SCBA: Monthly Luncheon
DESCRIPTION:Monthly luncheon and networking opportunity. \nFor ticket costs and to become a member\, please visit: southcobbba.org
URL:https://theccbb.com/event/scba-monthly-luncheon/2028-03-01/
LOCATION:Faith Christian Center\, 3831 Tramore Pointe Pkwy SE\, Austell\, GA\, 30106\, United States
CATEGORIES:South Cobb Business Association
END:VEVENT
BEGIN:VEVENT
DTSTART;TZID=America/New_York:20280301T110000
DTEND;TZID=America/New_York:20280301T130000
DTSTAMP:20260419T093224
CREATED:20260122T052837Z
LAST-MODIFIED:20260122T052837Z
UID:10005763-1835521200-1835528400@theccbb.com
SUMMARY:SCBA: Monthly Luncheon
DESCRIPTION:Monthly luncheon and networking opportunity. \n \n  \nFor ticket costs and to become a member\, please visit: southcobbba.org
URL:https://theccbb.com/event/scba-monthly-luncheon-2/2028-03-01/
LOCATION:Faith Christian Center\, 3831 Tramore Pointe Pkwy SE\, Austell\, GA\, 30106\, United States
CATEGORIES:South Cobb Business Association
END:VEVENT
BEGIN:VEVENT
DTSTART;TZID=America/New_York:20280301T120000
DTEND;TZID=America/New_York:20280301T133000
DTSTAMP:20260419T093224
CREATED:20241127T110157Z
LAST-MODIFIED:20241127T114052Z
UID:10002047-1835524800-1835530200@theccbb.com
SUMMARY:Marietta\, Georgia (Rotary Club)
DESCRIPTION:WHERE: 500 Powder Springs St. Marietta\, 30064-3523\, United States\, Georgia \n 
URL:https://theccbb.com/event/hilton-atlanta-marietta-conf-ctr-resort/2028-03-01/
LOCATION:Rotary Club of Marietta\, 500 Powder Springs St\, Marietta\, Georgia\, 30064
CATEGORIES:Rotary Club
ORGANIZER;CN="Rotary Club (Marietta)":MAILTO:rotaryclubofmarietta@gmail.com
END:VEVENT
BEGIN:VEVENT
DTSTART;TZID=America/New_York:20280301T120000
DTEND;TZID=America/New_York:20280301T133000
DTSTAMP:20260419T093224
CREATED:20241129T124454Z
LAST-MODIFIED:20241129T124454Z
UID:10003611-1835524800-1835530200@theccbb.com
SUMMARY:Vinings Cumberland\, Georgia (Rotary Club)
DESCRIPTION:Copeland’s of New Orleans\, Cumberland\nWebsite: https://www.viningsrotary.org \nWHERE (In-Person): 3101 Cobb Parkway\, Suite 220\, Mardi Gras Room\, Atlanta\, 30339\, Georgia
URL:https://theccbb.com/event/vinings-cumberland-georgia-rotary-club/2028-03-01/
LOCATION:Rotary Club (Vinings Cumberland)\, 3101 Cobb Parkway\, Suite 220\, Mardi Gras Room\, Atlanta\, Georgia\, 30339
END:VEVENT
BEGIN:VEVENT
DTSTART;TZID=America/New_York:20280301T190000
DTEND;TZID=America/New_York:20280301T200000
DTSTAMP:20260419T093224
CREATED:20241129T231546Z
LAST-MODIFIED:20241129T231546Z
UID:10004005-1835550000-1835553600@theccbb.com
SUMMARY:Atlanta\, Georgia (Rotaract Club)
DESCRIPTION:Email: president@atlantarotaract.org\nPhone: 678-371-7492\nWebsite: https://www.atlantarotaract.org \nWHERE (In-Person): 3330 Cumberland Blvd\, Atlanta\, 30339\, Georgia\nWhen: Wednesday at 19:00 First Wednesday of the month. \nWhere (Online):\nhttps://atlantarotaract.com/\nZoom link will be provided in event description \nWe meet First Wednesdays of the month. Plus additional meetings and social and service activities. Join our Slack Channel:\nhttps://join.slack.com/t/rotaractclubofatlanta/shared_invite/zt-2qqix0emq-nOugy4puQl9Nhv61BVDx_Q \n 
URL:https://theccbb.com/event/atlanta-georgia-rotaract-club/2028-03-01/
LOCATION:Rotaract Club (Atlanta)\, 3330 Cumberland Blvd\, Atlanta\, Georgia\, 30339
END:VEVENT
BEGIN:VEVENT
DTSTART;TZID=America/New_York:20280301T190000
DTEND;TZID=America/New_York:20280301T203000
DTSTAMP:20260419T093224
CREATED:20241104T034002Z
LAST-MODIFIED:20241104T034154Z
UID:10001855-1835550000-1835555400@theccbb.com
SUMMARY:Atlanta Brasil Rotary Club Monthly Zoom Meeting
DESCRIPTION:In-person meetings first Wednesday of each month at 7:00 PM. Meetings are in Portuguese\, but all of our members also speak English! You’re welcome to visit! Just let us know! \nFor more information on membership or the event and to get the zoom link\, please visit: https://www.atlantabrasilrotary.club or email atlantabrasilrotaryclub@gmail.com
URL:https://theccbb.com/event/atlanta-brasil-rotary-club-monthly-zoom-meeting/2028-03-01/
LOCATION:Zoei Group\, 1165 Northchase Pkwy SE STE 125\, Marietta\, 30067\, United States
CATEGORIES:Rotary Club
ORGANIZER;CN="Rotary Club (Atlanta Brasil)":MAILTO:atlantabrasilrotaryclub@gmail.com
END:VEVENT
BEGIN:VEVENT
DTSTART;TZID=America/New_York:20280302T071500
DTEND;TZID=America/New_York:20280302T080000
DTSTAMP:20260419T093224
CREATED:20241127T112839Z
LAST-MODIFIED:20241127T115032Z
UID:10002569-1835594100-1835596800@theccbb.com
SUMMARY:North Cobb County\, Georgia (Rotary Club)
DESCRIPTION:Email: northcobb@rotary6900.org\nPhone: +1 678-800-2176\nWebsite: https://www.northcobbrotary.org/ \nCopeland’s Restaurant\nWHERE (In-Person): 1142 Ernest W Barrett Pkwy NW\, Kennesaw\, 30144-4541\, United States\, Georgia
URL:https://theccbb.com/event/north-cobb-county-georgia-united-states-rotary-club/2028-03-02/
LOCATION:North Cobb County – (Rotary Club)\, 1142 Ernest W Barrett Pkwy NW\, Kennesaw\, Georgia\, 30144
CATEGORIES:Rotary Club
END:VEVENT
BEGIN:VEVENT
DTSTART;TZID=America/New_York:20280302T113000
DTEND;TZID=America/New_York:20280302T130000
DTSTAMP:20260419T093224
CREATED:20240806T180420Z
LAST-MODIFIED:20240806T180444Z
UID:10000615-1835609400-1835614800@theccbb.com
SUMMARY:ABA: Monthly Luncheon
DESCRIPTION:The ABA monthly luncheons include a dynamic format with updates on the community\, how ABA is impacting members & schools\, and engaging guest speakers. \n***PLEASE NOTE: REGISTRATION CLOSES AT 3PM THE DAY BEFORE.  IF YOU CHOOSE NOT TO REGISTER ONLINE IN ADVANCE\, YOU WILL PAY AN ADDITIONAL $5 AT THE DOOR*** \nFor ticket costs and to become a member\, please visit: https://acworthbusiness.org
URL:https://theccbb.com/event/aba-monthly-luncheon/2028-03-02/
LOCATION:Acworth Community Center\, 4361 Cherokee Street\, Acworth\, GA\, 30101\, United States
CATEGORIES:Acworth Business Association
END:VEVENT
BEGIN:VEVENT
DTSTART;TZID=America/New_York:20280302T150000
DTEND;TZID=America/New_York:20280302T163000
DTSTAMP:20260419T093224
CREATED:20240806T191527Z
LAST-MODIFIED:20240806T191527Z
UID:10001315-1835622000-1835627400@theccbb.com
SUMMARY:MBA: N.O.W.
DESCRIPTION:Join us every Thursday at this “Invite only” FREE\, OPEN SEAT networking event. Our purpose is to support one another by learning about each other’s businesses which result in referrals \nWhat to bring:\n*Business cards\n*Your best 45-60 seconds about yourself\n*Notepad \nThe Format:\n***PLEASE DO NOT ARRIVE BEFORE 2:45***\n3-3:30 open networking\n3:30-4:30 45-60 second presentations\, Q&A\, and announcements on upcoming MBA events \nFor ticket costs and to become a member\, please visit: mariettabusiness.org
URL:https://theccbb.com/event/mba-n-o-w/2028-03-02/
LOCATION:Third Door\, 131 Church Street\, Marietta\, GA\, 30060\, United States
CATEGORIES:Marietta Business Association
END:VEVENT
BEGIN:VEVENT
DTSTART;TZID=America/New_York:20280302T180000
DTEND;TZID=America/New_York:20280302T190000
DTSTAMP:20260419T093224
CREATED:20241127T121743Z
LAST-MODIFIED:20241127T121743Z
UID:10003090-1835632800-1835636400@theccbb.com
SUMMARY:Kennesaw State University\, Georgia (Rotaract Club)
DESCRIPTION:Email: KSUROTARACT@LIST.KENNESAW.EDU\nPhone: 470-578-6965\nWebsite: https://www.kennesaw.edu/ \nWHERE (In-Person): 3333 Busbee Dr NW\, Kennesaw\, GA 30144
URL:https://theccbb.com/event/kennesaw-state-university-georgia-rotaract-club/2028-03-02/
LOCATION:Rotaract Club (Kennesaw State University)\, 3333 Busbee Dr NW\, Kennesaw\, Georgia\, 30144
CATEGORIES:Rotary Club
END:VEVENT
BEGIN:VEVENT
DTSTART;TZID=America/New_York:20280302T180000
DTEND;TZID=America/New_York:20280302T200000
DTSTAMP:20260419T093224
CREATED:20250602T081120Z
LAST-MODIFIED:20250602T081120Z
UID:10004538-1835632800-1835640000@theccbb.com
SUMMARY:ATL Airport Chamber - Landing at Six: Networking Series
DESCRIPTION:🚨 TAAC is on fire this week with opportunities you do not want to miss! 🚨 \n👉 Limited Membership Offer: The first 100 people can join the ATL Airport Chamber at our Main Cabin Membership level for only $100 for the year (a $500 value!). Sign up today before July when exclusive members-only content goes behind the curtain. \n👉 Here is how to claim your discounted membership: \nVisit: TAAC Membership Levels https://lnkd.in/ekh68hXN \nSelect Main Cabin Membership Level \nEnter your company and contact details \nSelect Main Cabin Membership Level again \nScroll down\, select New Member Limited Time Discount\, and complete your payment \n  \nContact natasha@airportchamber.com if you need assistance! \nLanding at Six Networking Series https://lnkd.in/e2ejR5EJ \nEvery Thursday at 6 PM at Kimpton Overland Hotel\, Atlanta. No registration fee. Great food\, drinks\, and professional connections. \n  \n💼 Want to sponsor or speak at an upcoming TAAC event? \nEmail: natasha@airportchamber.com \nTAAC: Where business takes off! ✈️
URL:https://theccbb.com/event/atl-airport-chamber-landing-at-six-networking-series/2028-03-02/
LOCATION:Kimpton Overland Hotel\, Two Porsche Drive\, Atlanta\, 30354\, United States
CATEGORIES:ATL Airport Chamber
END:VEVENT
BEGIN:VEVENT
DTSTART;TZID=America/New_York:20280303T073000
DTEND;TZID=America/New_York:20280303T083000
DTSTAMP:20260419T093224
CREATED:20240806T175616Z
LAST-MODIFIED:20250519T210149Z
UID:10004279-1835681400-1835685000@theccbb.com
SUMMARY:ECBA: ECON Open Networking
DESCRIPTION:
URL:https://theccbb.com/event/ecba-econ-open-networking/2028-03-03/
LOCATION:IHOP\, 3130 Johnson Ferry Rd.\, Marietta\, GA\, 30062\, United States
CATEGORIES:East Cobb Business Association
END:VEVENT
BEGIN:VEVENT
DTSTART;TZID=America/New_York:20280306T120000
DTEND;TZID=America/New_York:20280306T133000
DTSTAMP:20260419T093224
CREATED:20241127T110905Z
LAST-MODIFIED:20241127T113636Z
UID:10002308-1835956800-1835962200@theccbb.com
SUMMARY:Marietta-Metro\, Georgia (Rotary Club)
DESCRIPTION:Pre-luncheon fellowship period begins @ 11:50 AM. \nWhere (In-Person): 500 Powder Springs St. Marietta\, 30060\, United States\, Georgia \nWebsite: https://mariettametrorotary.org
URL:https://theccbb.com/event/marietta-metro-georgia-united-states-rotary-club/2028-03-06/
LOCATION:Rotary Club (Marietta-Metro)\, 500 Powder Springs St.\, Marietta\, Georgia\, 30060
CATEGORIES:Rotary Club
END:VEVENT
BEGIN:VEVENT
DTSTART;TZID=America/New_York:20280307T073000
DTEND;TZID=America/New_York:20280307T083000
DTSTAMP:20260419T093224
CREATED:20241129T130726Z
LAST-MODIFIED:20241129T224241Z
UID:10003873-1836027000-1836030600@theccbb.com
SUMMARY:Woodstock\, Georgia (Rotary Club)
DESCRIPTION:IHOP Restaurant in Woodstock \nFrom Atl. I75N to I575N Exit 7\, left on HWY 92\,1/4 mile\nto right into IHOP parking lot. We meet in the back room \nPhone: 404-506-6878 \nWHERE (In-Person): 8979 Hwy. 92 Woodstock\, 30189\, Georgia
URL:https://theccbb.com/event/110345/2028-03-07/
LOCATION:Rotary Club (Woodstock)\, 8979 Hwy. 92\, Woodstock\, Georgia\, 30189
CATEGORIES:Rotary Club
END:VEVENT
BEGIN:VEVENT
DTSTART;TZID=America/New_York:20280307T121500
DTEND;TZID=America/New_York:20280307T133000
DTSTAMP:20260419T093224
CREATED:20241127T115848Z
LAST-MODIFIED:20241127T115848Z
UID:10002829-1836044100-1836048600@theccbb.com
SUMMARY:Smyrna\, Georgia (Rotary Club)
DESCRIPTION:Email: smyrnarotaryga@gmail.com\nWebsite: https://smyrnarotary.org/ \nSmyrna Rotary Club\nWHERE (In-Person): 3180 Atlanta Rd SE\, Smyrna\, 30080-8256\, United States\, Georgia
URL:https://theccbb.com/event/smyrna-georgia-rotary-club/2028-03-07/
LOCATION:Rotary Club (Smyrna)\, 3180 Atlanta Rd SE\, Smyrna\, Georgia\, 30080
CATEGORIES:Rotary Club
END:VEVENT
BEGIN:VEVENT
DTSTART;TZID=America/New_York:20280308T070000
DTEND;TZID=America/New_York:20280308T080000
DTSTAMP:20260419T093224
CREATED:20241129T114849Z
LAST-MODIFIED:20241129T114849Z
UID:10003351-1836111600-1836115200@theccbb.com
SUMMARY:East Cobb-Marietta\, Georgia (Rotary Club)
DESCRIPTION:Phone: +1 7702358000\nWebsite: https://www.eastcobbrotary.com \nWHERE (In-Person): 4001 Clubland Dr. Marietta\, 30068-4014\, Georgia \n 
URL:https://theccbb.com/event/east-cobb-marietta-georgia-rotary-club/2028-03-08/
LOCATION:Rotary Club (East Cobb-Marietta)\, 4001 Clubland Dr.\, Marietta\, Georgia\, 30068
CATEGORIES:Rotary Club
END:VEVENT
BEGIN:VEVENT
DTSTART;TZID=America/New_York:20280308T120000
DTEND;TZID=America/New_York:20280308T133000
DTSTAMP:20260419T093224
CREATED:20241127T110157Z
LAST-MODIFIED:20241127T114052Z
UID:10002048-1836129600-1836135000@theccbb.com
SUMMARY:Marietta\, Georgia (Rotary Club)
DESCRIPTION:WHERE: 500 Powder Springs St. Marietta\, 30064-3523\, United States\, Georgia \n 
URL:https://theccbb.com/event/hilton-atlanta-marietta-conf-ctr-resort/2028-03-08/
LOCATION:Rotary Club of Marietta\, 500 Powder Springs St\, Marietta\, Georgia\, 30064
CATEGORIES:Rotary Club
ORGANIZER;CN="Rotary Club (Marietta)":MAILTO:rotaryclubofmarietta@gmail.com
END:VEVENT
BEGIN:VEVENT
DTSTART;TZID=America/New_York:20280308T120000
DTEND;TZID=America/New_York:20280308T133000
DTSTAMP:20260419T093224
CREATED:20241129T124454Z
LAST-MODIFIED:20241129T124454Z
UID:10003612-1836129600-1836135000@theccbb.com
SUMMARY:Vinings Cumberland\, Georgia (Rotary Club)
DESCRIPTION:Copeland’s of New Orleans\, Cumberland\nWebsite: https://www.viningsrotary.org \nWHERE (In-Person): 3101 Cobb Parkway\, Suite 220\, Mardi Gras Room\, Atlanta\, 30339\, Georgia
URL:https://theccbb.com/event/vinings-cumberland-georgia-rotary-club/2028-03-08/
LOCATION:Rotary Club (Vinings Cumberland)\, 3101 Cobb Parkway\, Suite 220\, Mardi Gras Room\, Atlanta\, Georgia\, 30339
END:VEVENT
BEGIN:VEVENT
DTSTART;TZID=America/New_York:20280309T071500
DTEND;TZID=America/New_York:20280309T080000
DTSTAMP:20260419T093224
CREATED:20241127T112839Z
LAST-MODIFIED:20241127T115032Z
UID:10002570-1836198900-1836201600@theccbb.com
SUMMARY:North Cobb County\, Georgia (Rotary Club)
DESCRIPTION:Email: northcobb@rotary6900.org\nPhone: +1 678-800-2176\nWebsite: https://www.northcobbrotary.org/ \nCopeland’s Restaurant\nWHERE (In-Person): 1142 Ernest W Barrett Pkwy NW\, Kennesaw\, 30144-4541\, United States\, Georgia
URL:https://theccbb.com/event/north-cobb-county-georgia-united-states-rotary-club/2028-03-09/
LOCATION:North Cobb County – (Rotary Club)\, 1142 Ernest W Barrett Pkwy NW\, Kennesaw\, Georgia\, 30144
CATEGORIES:Rotary Club
END:VEVENT
END:VCALENDAR