BEGIN:VCALENDAR
VERSION:2.0
PRODID:-//Cobb County Business Bootcamp - ECPv6.15.18//NONSGML v1.0//EN
CALSCALE:GREGORIAN
METHOD:PUBLISH
X-ORIGINAL-URL:https://theccbb.com
X-WR-CALDESC:Events for Cobb County Business Bootcamp
REFRESH-INTERVAL;VALUE=DURATION:PT1H
X-Robots-Tag:noindex
X-PUBLISHED-TTL:PT1H
BEGIN:VTIMEZONE
TZID:America/New_York
BEGIN:DAYLIGHT
TZOFFSETFROM:-0500
TZOFFSETTO:-0400
TZNAME:EDT
DTSTART:20260308T070000
END:DAYLIGHT
BEGIN:STANDARD
TZOFFSETFROM:-0400
TZOFFSETTO:-0500
TZNAME:EST
DTSTART:20261101T060000
END:STANDARD
BEGIN:DAYLIGHT
TZOFFSETFROM:-0500
TZOFFSETTO:-0400
TZNAME:EDT
DTSTART:20270314T070000
END:DAYLIGHT
BEGIN:STANDARD
TZOFFSETFROM:-0400
TZOFFSETTO:-0500
TZNAME:EST
DTSTART:20271107T060000
END:STANDARD
BEGIN:DAYLIGHT
TZOFFSETFROM:-0500
TZOFFSETTO:-0400
TZNAME:EDT
DTSTART:20280312T070000
END:DAYLIGHT
BEGIN:STANDARD
TZOFFSETFROM:-0400
TZOFFSETTO:-0500
TZNAME:EST
DTSTART:20281105T060000
END:STANDARD
END:VTIMEZONE
BEGIN:VEVENT
DTSTART;TZID=America/New_York:20271104T071500
DTEND;TZID=America/New_York:20271104T080000
DTSTAMP:20260423T093845
CREATED:20241127T112839Z
LAST-MODIFIED:20241127T115032Z
UID:10002552-1825312500-1825315200@theccbb.com
SUMMARY:North Cobb County\, Georgia (Rotary Club)
DESCRIPTION:Email: northcobb@rotary6900.org\nPhone: +1 678-800-2176\nWebsite: https://www.northcobbrotary.org/ \nCopeland’s Restaurant\nWHERE (In-Person): 1142 Ernest W Barrett Pkwy NW\, Kennesaw\, 30144-4541\, United States\, Georgia
URL:https://theccbb.com/event/north-cobb-county-georgia-united-states-rotary-club/2027-11-04/
LOCATION:North Cobb County – (Rotary Club)\, 1142 Ernest W Barrett Pkwy NW\, Kennesaw\, Georgia\, 30144
CATEGORIES:Rotary Club
END:VEVENT
BEGIN:VEVENT
DTSTART;TZID=America/New_York:20271104T113000
DTEND;TZID=America/New_York:20271104T130000
DTSTAMP:20260423T093845
CREATED:20240806T180420Z
LAST-MODIFIED:20240806T180444Z
UID:10000611-1825327800-1825333200@theccbb.com
SUMMARY:ABA: Monthly Luncheon
DESCRIPTION:The ABA monthly luncheons include a dynamic format with updates on the community\, how ABA is impacting members & schools\, and engaging guest speakers. \n***PLEASE NOTE: REGISTRATION CLOSES AT 3PM THE DAY BEFORE.  IF YOU CHOOSE NOT TO REGISTER ONLINE IN ADVANCE\, YOU WILL PAY AN ADDITIONAL $5 AT THE DOOR*** \nFor ticket costs and to become a member\, please visit: https://acworthbusiness.org
URL:https://theccbb.com/event/aba-monthly-luncheon/2027-11-04/
LOCATION:Acworth Community Center\, 4361 Cherokee Street\, Acworth\, GA\, 30101\, United States
CATEGORIES:Acworth Business Association
END:VEVENT
BEGIN:VEVENT
DTSTART;TZID=America/New_York:20271104T150000
DTEND;TZID=America/New_York:20271104T163000
DTSTAMP:20260423T093845
CREATED:20240806T191527Z
LAST-MODIFIED:20240806T191527Z
UID:10001298-1825340400-1825345800@theccbb.com
SUMMARY:MBA: N.O.W.
DESCRIPTION:Join us every Thursday at this “Invite only” FREE\, OPEN SEAT networking event. Our purpose is to support one another by learning about each other’s businesses which result in referrals \nWhat to bring:\n*Business cards\n*Your best 45-60 seconds about yourself\n*Notepad \nThe Format:\n***PLEASE DO NOT ARRIVE BEFORE 2:45***\n3-3:30 open networking\n3:30-4:30 45-60 second presentations\, Q&A\, and announcements on upcoming MBA events \nFor ticket costs and to become a member\, please visit: mariettabusiness.org
URL:https://theccbb.com/event/mba-n-o-w/2027-11-04/
LOCATION:Third Door\, 131 Church Street\, Marietta\, GA\, 30060\, United States
CATEGORIES:Marietta Business Association
END:VEVENT
BEGIN:VEVENT
DTSTART;TZID=America/New_York:20271104T180000
DTEND;TZID=America/New_York:20271104T190000
DTSTAMP:20260423T093845
CREATED:20241127T121743Z
LAST-MODIFIED:20241127T121743Z
UID:10003073-1825351200-1825354800@theccbb.com
SUMMARY:Kennesaw State University\, Georgia (Rotaract Club)
DESCRIPTION:Email: KSUROTARACT@LIST.KENNESAW.EDU\nPhone: 470-578-6965\nWebsite: https://www.kennesaw.edu/ \nWHERE (In-Person): 3333 Busbee Dr NW\, Kennesaw\, GA 30144
URL:https://theccbb.com/event/kennesaw-state-university-georgia-rotaract-club/2027-11-04/
LOCATION:Rotaract Club (Kennesaw State University)\, 3333 Busbee Dr NW\, Kennesaw\, Georgia\, 30144
CATEGORIES:Rotary Club
END:VEVENT
BEGIN:VEVENT
DTSTART;TZID=America/New_York:20271104T180000
DTEND;TZID=America/New_York:20271104T200000
DTSTAMP:20260423T093845
CREATED:20250602T081120Z
LAST-MODIFIED:20250602T081120Z
UID:10004521-1825351200-1825358400@theccbb.com
SUMMARY:ATL Airport Chamber - Landing at Six: Networking Series
DESCRIPTION:🚨 TAAC is on fire this week with opportunities you do not want to miss! 🚨 \n👉 Limited Membership Offer: The first 100 people can join the ATL Airport Chamber at our Main Cabin Membership level for only $100 for the year (a $500 value!). Sign up today before July when exclusive members-only content goes behind the curtain. \n👉 Here is how to claim your discounted membership: \nVisit: TAAC Membership Levels https://lnkd.in/ekh68hXN \nSelect Main Cabin Membership Level \nEnter your company and contact details \nSelect Main Cabin Membership Level again \nScroll down\, select New Member Limited Time Discount\, and complete your payment \n  \nContact natasha@airportchamber.com if you need assistance! \nLanding at Six Networking Series https://lnkd.in/e2ejR5EJ \nEvery Thursday at 6 PM at Kimpton Overland Hotel\, Atlanta. No registration fee. Great food\, drinks\, and professional connections. \n  \n💼 Want to sponsor or speak at an upcoming TAAC event? \nEmail: natasha@airportchamber.com \nTAAC: Where business takes off! ✈️
URL:https://theccbb.com/event/atl-airport-chamber-landing-at-six-networking-series/2027-11-04/
LOCATION:Kimpton Overland Hotel\, Two Porsche Drive\, Atlanta\, 30354\, United States
CATEGORIES:ATL Airport Chamber
END:VEVENT
BEGIN:VEVENT
DTSTART;TZID=America/New_York:20271105T073000
DTEND;TZID=America/New_York:20271105T083000
DTSTAMP:20260423T093845
CREATED:20240806T175616Z
LAST-MODIFIED:20250519T210149Z
UID:10004262-1825399800-1825403400@theccbb.com
SUMMARY:ECBA: ECON Open Networking
DESCRIPTION:
URL:https://theccbb.com/event/ecba-econ-open-networking/2027-11-05/
LOCATION:IHOP\, 3130 Johnson Ferry Rd.\, Marietta\, GA\, 30062\, United States
CATEGORIES:East Cobb Business Association
END:VEVENT
BEGIN:VEVENT
DTSTART;TZID=America/New_York:20271108T110000
DTEND;TZID=America/New_York:20271108T130000
DTSTAMP:20260423T093845
CREATED:20240806T182358Z
LAST-MODIFIED:20241104T031824Z
UID:10000804-1825671600-1825678800@theccbb.com
SUMMARY:CC: Marquee Monday
DESCRIPTION:Enjoy lunch with more than 300 of Cobb’s business elite at Marquee Monday. \nFor the featured speaker\, ticket costs and to become a member\, please visit: https://cobbchamber.org
URL:https://theccbb.com/event/cc-marquee-monday/2027-11-08/
LOCATION:Coca-Cola Roxy\, 800 Battery Ave SE #500\, Atlanta\, GA\, 30339\, United States
CATEGORIES:Cobb Chamber
END:VEVENT
BEGIN:VEVENT
DTSTART;TZID=America/New_York:20271108T120000
DTEND;TZID=America/New_York:20271108T133000
DTSTAMP:20260423T093845
CREATED:20241127T110905Z
LAST-MODIFIED:20241127T113636Z
UID:10002291-1825675200-1825680600@theccbb.com
SUMMARY:Marietta-Metro\, Georgia (Rotary Club)
DESCRIPTION:Pre-luncheon fellowship period begins @ 11:50 AM. \nWhere (In-Person): 500 Powder Springs St. Marietta\, 30060\, United States\, Georgia \nWebsite: https://mariettametrorotary.org
URL:https://theccbb.com/event/marietta-metro-georgia-united-states-rotary-club/2027-11-08/
LOCATION:Rotary Club (Marietta-Metro)\, 500 Powder Springs St.\, Marietta\, Georgia\, 30060
CATEGORIES:Rotary Club
END:VEVENT
BEGIN:VEVENT
DTSTART;TZID=America/New_York:20271109T073000
DTEND;TZID=America/New_York:20271109T083000
DTSTAMP:20260423T093846
CREATED:20241129T130726Z
LAST-MODIFIED:20241129T224241Z
UID:10003856-1825745400-1825749000@theccbb.com
SUMMARY:Woodstock\, Georgia (Rotary Club)
DESCRIPTION:IHOP Restaurant in Woodstock \nFrom Atl. I75N to I575N Exit 7\, left on HWY 92\,1/4 mile\nto right into IHOP parking lot. We meet in the back room \nPhone: 404-506-6878 \nWHERE (In-Person): 8979 Hwy. 92 Woodstock\, 30189\, Georgia
URL:https://theccbb.com/event/110345/2027-11-09/
LOCATION:Rotary Club (Woodstock)\, 8979 Hwy. 92\, Woodstock\, Georgia\, 30189
CATEGORIES:Rotary Club
END:VEVENT
BEGIN:VEVENT
DTSTART;TZID=America/New_York:20271109T080000
DTEND;TZID=America/New_York:20271109T090000
DTSTAMP:20260423T093846
CREATED:20240806T181316Z
LAST-MODIFIED:20240807T202722Z
UID:10000718-1825747200-1825750800@theccbb.com
SUMMARY:ABA: Morning Jolt
DESCRIPTION:Join the ABA for early morning networking and coffee. \nFor ticket costs and to become a member\, please visit: https://acworthbusiness.org
URL:https://theccbb.com/event/aba-morning-jolt/2027-11-09/
LOCATION:The Cowan\, 4271 Southside Drive\, Acworth\, GA\, 30101\, United States
CATEGORIES:Acworth Business Association
END:VEVENT
BEGIN:VEVENT
DTSTART;TZID=America/New_York:20271109T110000
DTEND;TZID=America/New_York:20271109T130000
DTSTAMP:20260423T093846
CREATED:20240806T185255Z
LAST-MODIFIED:20240806T185322Z
UID:10000929-1825758000-1825765200@theccbb.com
SUMMARY:KBA: Monthly Luncheon
DESCRIPTION:Join us to hear from community\, state\, and nationally recognized government and business leaders as they share current and relevant information for doing business in Georgia. See lunch event dates below and mark your calendar! \nFor ticket costs and to become a member\, please visit: https://kennesawbusiness.org \n**PLEASE NOTE: If you choose not to register in advance\, you will pay $10 more at the door.
URL:https://theccbb.com/event/kba-monthly-luncheon/2027-11-09/
LOCATION:KSU Professional Education Building\, 3333 Busbee Parkway\, Kennesaw\, GA\, 30144\, United States
CATEGORIES:Kennesaw Business Association
END:VEVENT
BEGIN:VEVENT
DTSTART;TZID=America/New_York:20271109T121500
DTEND;TZID=America/New_York:20271109T133000
DTSTAMP:20260423T093846
CREATED:20241127T115848Z
LAST-MODIFIED:20241127T115848Z
UID:10002812-1825762500-1825767000@theccbb.com
SUMMARY:Smyrna\, Georgia (Rotary Club)
DESCRIPTION:Email: smyrnarotaryga@gmail.com\nWebsite: https://smyrnarotary.org/ \nSmyrna Rotary Club\nWHERE (In-Person): 3180 Atlanta Rd SE\, Smyrna\, 30080-8256\, United States\, Georgia
URL:https://theccbb.com/event/smyrna-georgia-rotary-club/2027-11-09/
LOCATION:Rotary Club (Smyrna)\, 3180 Atlanta Rd SE\, Smyrna\, Georgia\, 30080
CATEGORIES:Rotary Club
END:VEVENT
BEGIN:VEVENT
DTSTART;TZID=America/New_York:20271110T070000
DTEND;TZID=America/New_York:20271110T080000
DTSTAMP:20260423T093846
CREATED:20241129T114849Z
LAST-MODIFIED:20241129T114849Z
UID:10003334-1825830000-1825833600@theccbb.com
SUMMARY:East Cobb-Marietta\, Georgia (Rotary Club)
DESCRIPTION:Phone: +1 7702358000\nWebsite: https://www.eastcobbrotary.com \nWHERE (In-Person): 4001 Clubland Dr. Marietta\, 30068-4014\, Georgia \n 
URL:https://theccbb.com/event/east-cobb-marietta-georgia-rotary-club/2027-11-10/
LOCATION:Rotary Club (East Cobb-Marietta)\, 4001 Clubland Dr.\, Marietta\, Georgia\, 30068
CATEGORIES:Rotary Club
END:VEVENT
BEGIN:VEVENT
DTSTART;TZID=America/New_York:20271110T080000
DTEND;TZID=America/New_York:20271110T090000
DTSTAMP:20260423T093846
CREATED:20240806T170818Z
LAST-MODIFIED:20240806T171414Z
UID:10000086-1825833600-1825837200@theccbb.com
SUMMARY:SBA: Coffee & Connections
DESCRIPTION:Join SBA members and guests for this FREE in-person networking event.  Each attendee will have an opportunity to give a 60 second speech about their business and what an ideal referral would be! \nSign up for a free ticket below to receive email reminders and updates. Pre-registration not required.
URL:https://theccbb.com/event/sba-coffee-connections/2027-11-10/
LOCATION:Smyrna First United Methodist Church\, 1315 Concord Rd. SE\, Smyrna\, GA\, 30080\, United States
CATEGORIES:Smyrna Business Association
END:VEVENT
BEGIN:VEVENT
DTSTART;TZID=America/New_York:20271110T120000
DTEND;TZID=America/New_York:20271110T133000
DTSTAMP:20260423T093846
CREATED:20241127T110157Z
LAST-MODIFIED:20241127T114052Z
UID:10002031-1825848000-1825853400@theccbb.com
SUMMARY:Marietta\, Georgia (Rotary Club)
DESCRIPTION:WHERE: 500 Powder Springs St. Marietta\, 30064-3523\, United States\, Georgia \n 
URL:https://theccbb.com/event/hilton-atlanta-marietta-conf-ctr-resort/2027-11-10/
LOCATION:Rotary Club of Marietta\, 500 Powder Springs St\, Marietta\, Georgia\, 30064
CATEGORIES:Rotary Club
ORGANIZER;CN="Rotary Club (Marietta)":MAILTO:rotaryclubofmarietta@gmail.com
END:VEVENT
BEGIN:VEVENT
DTSTART;TZID=America/New_York:20271110T120000
DTEND;TZID=America/New_York:20271110T133000
DTSTAMP:20260423T093846
CREATED:20241129T124454Z
LAST-MODIFIED:20241129T124454Z
UID:10003595-1825848000-1825853400@theccbb.com
SUMMARY:Vinings Cumberland\, Georgia (Rotary Club)
DESCRIPTION:Copeland’s of New Orleans\, Cumberland\nWebsite: https://www.viningsrotary.org \nWHERE (In-Person): 3101 Cobb Parkway\, Suite 220\, Mardi Gras Room\, Atlanta\, 30339\, Georgia
URL:https://theccbb.com/event/vinings-cumberland-georgia-rotary-club/2027-11-10/
LOCATION:Rotary Club (Vinings Cumberland)\, 3101 Cobb Parkway\, Suite 220\, Mardi Gras Room\, Atlanta\, Georgia\, 30339
END:VEVENT
BEGIN:VEVENT
DTSTART;TZID=America/New_York:20271111T071500
DTEND;TZID=America/New_York:20271111T080000
DTSTAMP:20260423T093846
CREATED:20241127T112839Z
LAST-MODIFIED:20241127T115032Z
UID:10002553-1825917300-1825920000@theccbb.com
SUMMARY:North Cobb County\, Georgia (Rotary Club)
DESCRIPTION:Email: northcobb@rotary6900.org\nPhone: +1 678-800-2176\nWebsite: https://www.northcobbrotary.org/ \nCopeland’s Restaurant\nWHERE (In-Person): 1142 Ernest W Barrett Pkwy NW\, Kennesaw\, 30144-4541\, United States\, Georgia
URL:https://theccbb.com/event/north-cobb-county-georgia-united-states-rotary-club/2027-11-11/
LOCATION:North Cobb County – (Rotary Club)\, 1142 Ernest W Barrett Pkwy NW\, Kennesaw\, Georgia\, 30144
CATEGORIES:Rotary Club
END:VEVENT
BEGIN:VEVENT
DTSTART;TZID=America/New_York:20271111T113000
DTEND;TZID=America/New_York:20271111T130000
DTSTAMP:20260423T093846
CREATED:20240806T172559Z
LAST-MODIFIED:20240806T175957Z
UID:10000172-1825932600-1825938000@theccbb.com
SUMMARY:SBA: Monthly Luncheon
DESCRIPTION:For ticket costs and to become a member\, please visit: https://smyrnabusiness.org
URL:https://theccbb.com/event/sba-monthly-luncheon/2027-11-11/
LOCATION:200 Village Green Cir SE\, 200 Village Green Cir SE\, Smyrna\, GA\, 30080\, United States
CATEGORIES:Smyrna Business Association
END:VEVENT
BEGIN:VEVENT
DTSTART;TZID=America/New_York:20271111T150000
DTEND;TZID=America/New_York:20271111T163000
DTSTAMP:20260423T093846
CREATED:20240806T191527Z
LAST-MODIFIED:20240806T191527Z
UID:10001299-1825945200-1825950600@theccbb.com
SUMMARY:MBA: N.O.W.
DESCRIPTION:Join us every Thursday at this “Invite only” FREE\, OPEN SEAT networking event. Our purpose is to support one another by learning about each other’s businesses which result in referrals \nWhat to bring:\n*Business cards\n*Your best 45-60 seconds about yourself\n*Notepad \nThe Format:\n***PLEASE DO NOT ARRIVE BEFORE 2:45***\n3-3:30 open networking\n3:30-4:30 45-60 second presentations\, Q&A\, and announcements on upcoming MBA events \nFor ticket costs and to become a member\, please visit: mariettabusiness.org
URL:https://theccbb.com/event/mba-n-o-w/2027-11-11/
LOCATION:Third Door\, 131 Church Street\, Marietta\, GA\, 30060\, United States
CATEGORIES:Marietta Business Association
END:VEVENT
BEGIN:VEVENT
DTSTART;TZID=America/New_York:20271111T180000
DTEND;TZID=America/New_York:20271111T190000
DTSTAMP:20260423T093846
CREATED:20241127T121743Z
LAST-MODIFIED:20241127T121743Z
UID:10003074-1825956000-1825959600@theccbb.com
SUMMARY:Kennesaw State University\, Georgia (Rotaract Club)
DESCRIPTION:Email: KSUROTARACT@LIST.KENNESAW.EDU\nPhone: 470-578-6965\nWebsite: https://www.kennesaw.edu/ \nWHERE (In-Person): 3333 Busbee Dr NW\, Kennesaw\, GA 30144
URL:https://theccbb.com/event/kennesaw-state-university-georgia-rotaract-club/2027-11-11/
LOCATION:Rotaract Club (Kennesaw State University)\, 3333 Busbee Dr NW\, Kennesaw\, Georgia\, 30144
CATEGORIES:Rotary Club
END:VEVENT
BEGIN:VEVENT
DTSTART;TZID=America/New_York:20271111T180000
DTEND;TZID=America/New_York:20271111T200000
DTSTAMP:20260423T093846
CREATED:20250602T081120Z
LAST-MODIFIED:20250602T081120Z
UID:10004522-1825956000-1825963200@theccbb.com
SUMMARY:ATL Airport Chamber - Landing at Six: Networking Series
DESCRIPTION:🚨 TAAC is on fire this week with opportunities you do not want to miss! 🚨 \n👉 Limited Membership Offer: The first 100 people can join the ATL Airport Chamber at our Main Cabin Membership level for only $100 for the year (a $500 value!). Sign up today before July when exclusive members-only content goes behind the curtain. \n👉 Here is how to claim your discounted membership: \nVisit: TAAC Membership Levels https://lnkd.in/ekh68hXN \nSelect Main Cabin Membership Level \nEnter your company and contact details \nSelect Main Cabin Membership Level again \nScroll down\, select New Member Limited Time Discount\, and complete your payment \n  \nContact natasha@airportchamber.com if you need assistance! \nLanding at Six Networking Series https://lnkd.in/e2ejR5EJ \nEvery Thursday at 6 PM at Kimpton Overland Hotel\, Atlanta. No registration fee. Great food\, drinks\, and professional connections. \n  \n💼 Want to sponsor or speak at an upcoming TAAC event? \nEmail: natasha@airportchamber.com \nTAAC: Where business takes off! ✈️
URL:https://theccbb.com/event/atl-airport-chamber-landing-at-six-networking-series/2027-11-11/
LOCATION:Kimpton Overland Hotel\, Two Porsche Drive\, Atlanta\, 30354\, United States
CATEGORIES:ATL Airport Chamber
END:VEVENT
BEGIN:VEVENT
DTSTART;TZID=America/New_York:20271112T073000
DTEND;TZID=America/New_York:20271112T083000
DTSTAMP:20260423T093846
CREATED:20240806T175616Z
LAST-MODIFIED:20250519T210149Z
UID:10004263-1826004600-1826008200@theccbb.com
SUMMARY:ECBA: ECON Open Networking
DESCRIPTION:
URL:https://theccbb.com/event/ecba-econ-open-networking/2027-11-12/
LOCATION:IHOP\, 3130 Johnson Ferry Rd.\, Marietta\, GA\, 30062\, United States
CATEGORIES:East Cobb Business Association
END:VEVENT
BEGIN:VEVENT
DTSTART;TZID=America/New_York:20271112T113000
DTEND;TZID=America/New_York:20271112T130000
DTSTAMP:20260423T093846
CREATED:20240806T174337Z
LAST-MODIFIED:20240806T175649Z
UID:10000290-1826019000-1826024400@theccbb.com
SUMMARY:ECBA: Professional Women of East Cobb
DESCRIPTION:*Members only event* \nCome join us in our monthly events to build relationships with other East Cobb businesswomen. This group is intended to support\, learn\, and grow from one another. We meet the first Friday of every month.  \nPlease register and pay in advance at: eastcobbba.com
URL:https://theccbb.com/event/ecba-professional-women-of-east-cobb/2027-11-12/
CATEGORIES:East Cobb Business Association
END:VEVENT
BEGIN:VEVENT
DTSTART;TZID=America/New_York:20271115T120000
DTEND;TZID=America/New_York:20271115T133000
DTSTAMP:20260423T093846
CREATED:20241127T110905Z
LAST-MODIFIED:20241127T113636Z
UID:10002292-1826280000-1826285400@theccbb.com
SUMMARY:Marietta-Metro\, Georgia (Rotary Club)
DESCRIPTION:Pre-luncheon fellowship period begins @ 11:50 AM. \nWhere (In-Person): 500 Powder Springs St. Marietta\, 30060\, United States\, Georgia \nWebsite: https://mariettametrorotary.org
URL:https://theccbb.com/event/marietta-metro-georgia-united-states-rotary-club/2027-11-15/
LOCATION:Rotary Club (Marietta-Metro)\, 500 Powder Springs St.\, Marietta\, Georgia\, 30060
CATEGORIES:Rotary Club
END:VEVENT
BEGIN:VEVENT
DTSTART;TZID=America/New_York:20271116T073000
DTEND;TZID=America/New_York:20271116T083000
DTSTAMP:20260423T093846
CREATED:20241129T130726Z
LAST-MODIFIED:20241129T224241Z
UID:10003857-1826350200-1826353800@theccbb.com
SUMMARY:Woodstock\, Georgia (Rotary Club)
DESCRIPTION:IHOP Restaurant in Woodstock \nFrom Atl. I75N to I575N Exit 7\, left on HWY 92\,1/4 mile\nto right into IHOP parking lot. We meet in the back room \nPhone: 404-506-6878 \nWHERE (In-Person): 8979 Hwy. 92 Woodstock\, 30189\, Georgia
URL:https://theccbb.com/event/110345/2027-11-16/
LOCATION:Rotary Club (Woodstock)\, 8979 Hwy. 92\, Woodstock\, Georgia\, 30189
CATEGORIES:Rotary Club
END:VEVENT
BEGIN:VEVENT
DTSTART;TZID=America/New_York:20271116T110000
DTEND;TZID=America/New_York:20271116T130000
DTSTAMP:20260423T093846
CREATED:20240806T173639Z
LAST-MODIFIED:20240807T202735Z
UID:10001549-1826362800-1826370000@theccbb.com
SUMMARY:ECBA: Monthly Business Luncheon
DESCRIPTION:For ticket costs and to become a member\, please visit: https://eastcobbba.com
URL:https://theccbb.com/event/ecba-monthly-business-luncheon/2027-11-16/
LOCATION:Rich Hart Global Studios\, 2030 Powers Ferry Rd SE Suite # 270/ 280\, Atlanta\, GA\, 30339\, United States
CATEGORIES:East Cobb Business Association
END:VEVENT
BEGIN:VEVENT
DTSTART;TZID=America/New_York:20271116T121500
DTEND;TZID=America/New_York:20271116T133000
DTSTAMP:20260423T093846
CREATED:20241127T115848Z
LAST-MODIFIED:20241127T115848Z
UID:10002813-1826367300-1826371800@theccbb.com
SUMMARY:Smyrna\, Georgia (Rotary Club)
DESCRIPTION:Email: smyrnarotaryga@gmail.com\nWebsite: https://smyrnarotary.org/ \nSmyrna Rotary Club\nWHERE (In-Person): 3180 Atlanta Rd SE\, Smyrna\, 30080-8256\, United States\, Georgia
URL:https://theccbb.com/event/smyrna-georgia-rotary-club/2027-11-16/
LOCATION:Rotary Club (Smyrna)\, 3180 Atlanta Rd SE\, Smyrna\, Georgia\, 30080
CATEGORIES:Rotary Club
END:VEVENT
BEGIN:VEVENT
DTSTART;TZID=America/New_York:20271116T173000
DTEND;TZID=America/New_York:20271116T190000
DTSTAMP:20260423T093846
CREATED:20240806T190005Z
LAST-MODIFIED:20240806T190005Z
UID:10000989-1826386200-1826391600@theccbb.com
SUMMARY:KBA: Alive After 5
DESCRIPTION:Join us from 5:30 – 7:00 at various locations around town on the 3rd Tuesday of each month! Interact with business owners & various team members in a relaxed\, after hours setting with adult beverages & great food!  Networking and Nightlife!  \nFor ticket costs and to become a member\, please visit: https://kennesawbusiness.org
URL:https://theccbb.com/event/kba-alive-after-5/2027-11-16/
CATEGORIES:Kennesaw Business Association
END:VEVENT
BEGIN:VEVENT
DTSTART;TZID=America/New_York:20271117T070000
DTEND;TZID=America/New_York:20271117T080000
DTSTAMP:20260423T093846
CREATED:20241129T114849Z
LAST-MODIFIED:20241129T114849Z
UID:10003335-1826434800-1826438400@theccbb.com
SUMMARY:East Cobb-Marietta\, Georgia (Rotary Club)
DESCRIPTION:Phone: +1 7702358000\nWebsite: https://www.eastcobbrotary.com \nWHERE (In-Person): 4001 Clubland Dr. Marietta\, 30068-4014\, Georgia \n 
URL:https://theccbb.com/event/east-cobb-marietta-georgia-rotary-club/2027-11-17/
LOCATION:Rotary Club (East Cobb-Marietta)\, 4001 Clubland Dr.\, Marietta\, Georgia\, 30068
CATEGORIES:Rotary Club
END:VEVENT
BEGIN:VEVENT
DTSTART;TZID=America/New_York:20271117T120000
DTEND;TZID=America/New_York:20271117T133000
DTSTAMP:20260423T093846
CREATED:20241127T110157Z
LAST-MODIFIED:20241127T114052Z
UID:10002032-1826452800-1826458200@theccbb.com
SUMMARY:Marietta\, Georgia (Rotary Club)
DESCRIPTION:WHERE: 500 Powder Springs St. Marietta\, 30064-3523\, United States\, Georgia \n 
URL:https://theccbb.com/event/hilton-atlanta-marietta-conf-ctr-resort/2027-11-17/
LOCATION:Rotary Club of Marietta\, 500 Powder Springs St\, Marietta\, Georgia\, 30064
CATEGORIES:Rotary Club
ORGANIZER;CN="Rotary Club (Marietta)":MAILTO:rotaryclubofmarietta@gmail.com
END:VEVENT
END:VCALENDAR