BEGIN:VCALENDAR
VERSION:2.0
PRODID:-//Cobb County Business Bootcamp - ECPv6.15.18//NONSGML v1.0//EN
CALSCALE:GREGORIAN
METHOD:PUBLISH
X-WR-CALNAME:Cobb County Business Bootcamp
X-ORIGINAL-URL:https://theccbb.com
X-WR-CALDESC:Events for Cobb County Business Bootcamp
REFRESH-INTERVAL;VALUE=DURATION:PT1H
X-Robots-Tag:noindex
X-PUBLISHED-TTL:PT1H
BEGIN:VTIMEZONE
TZID:America/New_York
BEGIN:DAYLIGHT
TZOFFSETFROM:-0500
TZOFFSETTO:-0400
TZNAME:EDT
DTSTART:20290311T070000
END:DAYLIGHT
BEGIN:STANDARD
TZOFFSETFROM:-0400
TZOFFSETTO:-0500
TZNAME:EST
DTSTART:20291104T060000
END:STANDARD
BEGIN:DAYLIGHT
TZOFFSETFROM:-0500
TZOFFSETTO:-0400
TZNAME:EDT
DTSTART:20300310T070000
END:DAYLIGHT
BEGIN:STANDARD
TZOFFSETFROM:-0400
TZOFFSETTO:-0500
TZNAME:EST
DTSTART:20301103T060000
END:STANDARD
BEGIN:DAYLIGHT
TZOFFSETFROM:-0500
TZOFFSETTO:-0400
TZNAME:EDT
DTSTART:20310309T070000
END:DAYLIGHT
BEGIN:STANDARD
TZOFFSETFROM:-0400
TZOFFSETTO:-0500
TZNAME:EST
DTSTART:20311102T060000
END:STANDARD
BEGIN:DAYLIGHT
TZOFFSETFROM:-0500
TZOFFSETTO:-0400
TZNAME:EDT
DTSTART:20320314T070000
END:DAYLIGHT
BEGIN:STANDARD
TZOFFSETFROM:-0400
TZOFFSETTO:-0500
TZNAME:EST
DTSTART:20321107T060000
END:STANDARD
END:VTIMEZONE
BEGIN:VEVENT
DTSTART;TZID=America/New_York:20300211T110000
DTEND;TZID=America/New_York:20300211T130000
DTSTAMP:20260423T165654
CREATED:20240806T182358Z
LAST-MODIFIED:20241104T031824Z
UID:10004807-1897038000-1897045200@theccbb.com
SUMMARY:CC: Marquee Monday
DESCRIPTION:Enjoy lunch with more than 300 of Cobb’s business elite at Marquee Monday. \nFor the featured speaker\, ticket costs and to become a member\, please visit: https://cobbchamber.org
URL:https://theccbb.com/event/cc-marquee-monday/2030-02-11/
LOCATION:Coca-Cola Roxy\, 800 Battery Ave SE #500\, Atlanta\, GA\, 30339\, United States
CATEGORIES:Cobb Chamber
END:VEVENT
BEGIN:VEVENT
DTSTART;TZID=America/New_York:20300311T110000
DTEND;TZID=America/New_York:20300311T130000
DTSTAMP:20260423T165654
CREATED:20240806T182358Z
LAST-MODIFIED:20241104T031824Z
UID:10004808-1899457200-1899464400@theccbb.com
SUMMARY:CC: Marquee Monday
DESCRIPTION:Enjoy lunch with more than 300 of Cobb’s business elite at Marquee Monday. \nFor the featured speaker\, ticket costs and to become a member\, please visit: https://cobbchamber.org
URL:https://theccbb.com/event/cc-marquee-monday/2030-03-11/
LOCATION:Coca-Cola Roxy\, 800 Battery Ave SE #500\, Atlanta\, GA\, 30339\, United States
CATEGORIES:Cobb Chamber
END:VEVENT
BEGIN:VEVENT
DTSTART;TZID=America/New_York:20300408T110000
DTEND;TZID=America/New_York:20300408T130000
DTSTAMP:20260423T165654
CREATED:20240806T182358Z
LAST-MODIFIED:20241104T031824Z
UID:10004809-1901876400-1901883600@theccbb.com
SUMMARY:CC: Marquee Monday
DESCRIPTION:Enjoy lunch with more than 300 of Cobb’s business elite at Marquee Monday. \nFor the featured speaker\, ticket costs and to become a member\, please visit: https://cobbchamber.org
URL:https://theccbb.com/event/cc-marquee-monday/2030-04-08/
LOCATION:Coca-Cola Roxy\, 800 Battery Ave SE #500\, Atlanta\, GA\, 30339\, United States
CATEGORIES:Cobb Chamber
END:VEVENT
BEGIN:VEVENT
DTSTART;TZID=America/New_York:20300513T110000
DTEND;TZID=America/New_York:20300513T130000
DTSTAMP:20260423T165654
CREATED:20240806T182358Z
LAST-MODIFIED:20241104T031824Z
UID:10004810-1904900400-1904907600@theccbb.com
SUMMARY:CC: Marquee Monday
DESCRIPTION:Enjoy lunch with more than 300 of Cobb’s business elite at Marquee Monday. \nFor the featured speaker\, ticket costs and to become a member\, please visit: https://cobbchamber.org
URL:https://theccbb.com/event/cc-marquee-monday/2030-05-13/
LOCATION:Coca-Cola Roxy\, 800 Battery Ave SE #500\, Atlanta\, GA\, 30339\, United States
CATEGORIES:Cobb Chamber
END:VEVENT
BEGIN:VEVENT
DTSTART;TZID=America/New_York:20300610T110000
DTEND;TZID=America/New_York:20300610T130000
DTSTAMP:20260423T165654
CREATED:20240806T182358Z
LAST-MODIFIED:20241104T031824Z
UID:10004811-1907319600-1907326800@theccbb.com
SUMMARY:CC: Marquee Monday
DESCRIPTION:Enjoy lunch with more than 300 of Cobb’s business elite at Marquee Monday. \nFor the featured speaker\, ticket costs and to become a member\, please visit: https://cobbchamber.org
URL:https://theccbb.com/event/cc-marquee-monday/2030-06-10/
LOCATION:Coca-Cola Roxy\, 800 Battery Ave SE #500\, Atlanta\, GA\, 30339\, United States
CATEGORIES:Cobb Chamber
END:VEVENT
BEGIN:VEVENT
DTSTART;TZID=America/New_York:20300708T110000
DTEND;TZID=America/New_York:20300708T130000
DTSTAMP:20260423T165654
CREATED:20240806T182358Z
LAST-MODIFIED:20241104T031824Z
UID:10004812-1909738800-1909746000@theccbb.com
SUMMARY:CC: Marquee Monday
DESCRIPTION:Enjoy lunch with more than 300 of Cobb’s business elite at Marquee Monday. \nFor the featured speaker\, ticket costs and to become a member\, please visit: https://cobbchamber.org
URL:https://theccbb.com/event/cc-marquee-monday/2030-07-08/
LOCATION:Coca-Cola Roxy\, 800 Battery Ave SE #500\, Atlanta\, GA\, 30339\, United States
CATEGORIES:Cobb Chamber
END:VEVENT
BEGIN:VEVENT
DTSTART;TZID=America/New_York:20300812T110000
DTEND;TZID=America/New_York:20300812T130000
DTSTAMP:20260423T165654
CREATED:20240806T182358Z
LAST-MODIFIED:20241104T031824Z
UID:10004813-1912762800-1912770000@theccbb.com
SUMMARY:CC: Marquee Monday
DESCRIPTION:Enjoy lunch with more than 300 of Cobb’s business elite at Marquee Monday. \nFor the featured speaker\, ticket costs and to become a member\, please visit: https://cobbchamber.org
URL:https://theccbb.com/event/cc-marquee-monday/2030-08-12/
LOCATION:Coca-Cola Roxy\, 800 Battery Ave SE #500\, Atlanta\, GA\, 30339\, United States
CATEGORIES:Cobb Chamber
END:VEVENT
BEGIN:VEVENT
DTSTART;TZID=America/New_York:20300909T110000
DTEND;TZID=America/New_York:20300909T130000
DTSTAMP:20260423T165654
CREATED:20240806T182358Z
LAST-MODIFIED:20241104T031824Z
UID:10004905-1915182000-1915189200@theccbb.com
SUMMARY:CC: Marquee Monday
DESCRIPTION:Enjoy lunch with more than 300 of Cobb’s business elite at Marquee Monday. \nFor the featured speaker\, ticket costs and to become a member\, please visit: https://cobbchamber.org
URL:https://theccbb.com/event/cc-marquee-monday/2030-09-09/
LOCATION:Coca-Cola Roxy\, 800 Battery Ave SE #500\, Atlanta\, GA\, 30339\, United States
CATEGORIES:Cobb Chamber
END:VEVENT
BEGIN:VEVENT
DTSTART;TZID=America/New_York:20301014T110000
DTEND;TZID=America/New_York:20301014T130000
DTSTAMP:20260423T165654
CREATED:20240806T182358Z
LAST-MODIFIED:20241104T031824Z
UID:10004945-1918206000-1918213200@theccbb.com
SUMMARY:CC: Marquee Monday
DESCRIPTION:Enjoy lunch with more than 300 of Cobb’s business elite at Marquee Monday. \nFor the featured speaker\, ticket costs and to become a member\, please visit: https://cobbchamber.org
URL:https://theccbb.com/event/cc-marquee-monday/2030-10-14/
LOCATION:Coca-Cola Roxy\, 800 Battery Ave SE #500\, Atlanta\, GA\, 30339\, United States
CATEGORIES:Cobb Chamber
END:VEVENT
BEGIN:VEVENT
DTSTART;TZID=America/New_York:20301111T110000
DTEND;TZID=America/New_York:20301111T130000
DTSTAMP:20260423T165654
CREATED:20240806T182358Z
LAST-MODIFIED:20241104T031824Z
UID:10005398-1920625200-1920632400@theccbb.com
SUMMARY:CC: Marquee Monday
DESCRIPTION:Enjoy lunch with more than 300 of Cobb’s business elite at Marquee Monday. \nFor the featured speaker\, ticket costs and to become a member\, please visit: https://cobbchamber.org
URL:https://theccbb.com/event/cc-marquee-monday/2030-11-11/
LOCATION:Coca-Cola Roxy\, 800 Battery Ave SE #500\, Atlanta\, GA\, 30339\, United States
CATEGORIES:Cobb Chamber
END:VEVENT
BEGIN:VEVENT
DTSTART;TZID=America/New_York:20301209T110000
DTEND;TZID=America/New_York:20301209T130000
DTSTAMP:20260423T165654
CREATED:20240806T182358Z
LAST-MODIFIED:20241104T031824Z
UID:10005399-1923044400-1923051600@theccbb.com
SUMMARY:CC: Marquee Monday
DESCRIPTION:Enjoy lunch with more than 300 of Cobb’s business elite at Marquee Monday. \nFor the featured speaker\, ticket costs and to become a member\, please visit: https://cobbchamber.org
URL:https://theccbb.com/event/cc-marquee-monday/2030-12-09/
LOCATION:Coca-Cola Roxy\, 800 Battery Ave SE #500\, Atlanta\, GA\, 30339\, United States
CATEGORIES:Cobb Chamber
END:VEVENT
BEGIN:VEVENT
DTSTART;TZID=America/New_York:20310113T110000
DTEND;TZID=America/New_York:20310113T130000
DTSTAMP:20260423T165654
CREATED:20240806T182358Z
LAST-MODIFIED:20241104T031824Z
UID:10005530-1926068400-1926075600@theccbb.com
SUMMARY:CC: Marquee Monday
DESCRIPTION:Enjoy lunch with more than 300 of Cobb’s business elite at Marquee Monday. \nFor the featured speaker\, ticket costs and to become a member\, please visit: https://cobbchamber.org
URL:https://theccbb.com/event/cc-marquee-monday/2031-01-13/
LOCATION:Coca-Cola Roxy\, 800 Battery Ave SE #500\, Atlanta\, GA\, 30339\, United States
CATEGORIES:Cobb Chamber
END:VEVENT
BEGIN:VEVENT
DTSTART;TZID=America/New_York:20310210T110000
DTEND;TZID=America/New_York:20310210T130000
DTSTAMP:20260423T165654
CREATED:20240806T182358Z
LAST-MODIFIED:20241104T031824Z
UID:10006109-1928487600-1928494800@theccbb.com
SUMMARY:CC: Marquee Monday
DESCRIPTION:Enjoy lunch with more than 300 of Cobb’s business elite at Marquee Monday. \nFor the featured speaker\, ticket costs and to become a member\, please visit: https://cobbchamber.org
URL:https://theccbb.com/event/cc-marquee-monday/2031-02-10/
LOCATION:Coca-Cola Roxy\, 800 Battery Ave SE #500\, Atlanta\, GA\, 30339\, United States
CATEGORIES:Cobb Chamber
END:VEVENT
BEGIN:VEVENT
DTSTART;TZID=America/New_York:20310310T110000
DTEND;TZID=America/New_York:20310310T130000
DTSTAMP:20260423T165654
CREATED:20240806T182358Z
LAST-MODIFIED:20241104T031824Z
UID:10006224-1930906800-1930914000@theccbb.com
SUMMARY:CC: Marquee Monday
DESCRIPTION:Enjoy lunch with more than 300 of Cobb’s business elite at Marquee Monday. \nFor the featured speaker\, ticket costs and to become a member\, please visit: https://cobbchamber.org
URL:https://theccbb.com/event/cc-marquee-monday/2031-03-10/
LOCATION:Coca-Cola Roxy\, 800 Battery Ave SE #500\, Atlanta\, GA\, 30339\, United States
CATEGORIES:Cobb Chamber
END:VEVENT
END:VCALENDAR