BEGIN:VCALENDAR
VERSION:2.0
PRODID:-//Cobb County Business Bootcamp - ECPv6.15.18//NONSGML v1.0//EN
CALSCALE:GREGORIAN
METHOD:PUBLISH
X-WR-CALNAME:Cobb County Business Bootcamp
X-ORIGINAL-URL:https://theccbb.com
X-WR-CALDESC:Events for Cobb County Business Bootcamp
REFRESH-INTERVAL;VALUE=DURATION:PT1H
X-Robots-Tag:noindex
X-PUBLISHED-TTL:PT1H
BEGIN:VTIMEZONE
TZID:America/New_York
BEGIN:DAYLIGHT
TZOFFSETFROM:-0500
TZOFFSETTO:-0400
TZNAME:EDT
DTSTART:20260308T070000
END:DAYLIGHT
BEGIN:STANDARD
TZOFFSETFROM:-0400
TZOFFSETTO:-0500
TZNAME:EST
DTSTART:20261101T060000
END:STANDARD
BEGIN:DAYLIGHT
TZOFFSETFROM:-0500
TZOFFSETTO:-0400
TZNAME:EDT
DTSTART:20270314T070000
END:DAYLIGHT
BEGIN:STANDARD
TZOFFSETFROM:-0400
TZOFFSETTO:-0500
TZNAME:EST
DTSTART:20271107T060000
END:STANDARD
BEGIN:DAYLIGHT
TZOFFSETFROM:-0500
TZOFFSETTO:-0400
TZNAME:EDT
DTSTART:20280312T070000
END:DAYLIGHT
BEGIN:STANDARD
TZOFFSETFROM:-0400
TZOFFSETTO:-0500
TZNAME:EST
DTSTART:20281105T060000
END:STANDARD
BEGIN:DAYLIGHT
TZOFFSETFROM:-0500
TZOFFSETTO:-0400
TZNAME:EDT
DTSTART:20290311T070000
END:DAYLIGHT
BEGIN:STANDARD
TZOFFSETFROM:-0400
TZOFFSETTO:-0500
TZNAME:EST
DTSTART:20291104T060000
END:STANDARD
END:VTIMEZONE
BEGIN:VEVENT
DTSTART;TZID=America/New_York:20270729T183000
DTEND;TZID=America/New_York:20270729T200000
DTSTAMP:20260423T105913
CREATED:20241104T033559Z
LAST-MODIFIED:20241104T033559Z
UID:10001667-1816885800-1816891200@theccbb.com
SUMMARY:Atlanta Brasil Rotary Club Monthly In-Person Meeting
DESCRIPTION:In-person meetings last Thursday of each month at 6:30 PM. Meetings are in Portuguese\, but all of our members also speak English! You’re welcome to visit! Just let us know! \nFor more information on membership or the event\, please visit: https://www.atlantabrasilrotary.club
URL:https://theccbb.com/event/atlanta-brasil-rotary-club-monthly-in-person-meeting/2027-07-29/
LOCATION:Zoei Group\, 1165 Northchase Pkwy SE STE 125\, Marietta\, 30067\, United States
CATEGORIES:Rotary Club
ORGANIZER;CN="Rotary Club (Atlanta Brasil)":MAILTO:atlantabrasilrotaryclub@gmail.com
END:VEVENT
BEGIN:VEVENT
DTSTART;TZID=America/New_York:20270804T190000
DTEND;TZID=America/New_York:20270804T203000
DTSTAMP:20260423T105913
CREATED:20241104T034002Z
LAST-MODIFIED:20241104T034154Z
UID:10001848-1817406000-1817411400@theccbb.com
SUMMARY:Atlanta Brasil Rotary Club Monthly Zoom Meeting
DESCRIPTION:In-person meetings first Wednesday of each month at 7:00 PM. Meetings are in Portuguese\, but all of our members also speak English! You’re welcome to visit! Just let us know! \nFor more information on membership or the event and to get the zoom link\, please visit: https://www.atlantabrasilrotary.club or email atlantabrasilrotaryclub@gmail.com
URL:https://theccbb.com/event/atlanta-brasil-rotary-club-monthly-zoom-meeting/2027-08-04/
LOCATION:Zoei Group\, 1165 Northchase Pkwy SE STE 125\, Marietta\, 30067\, United States
CATEGORIES:Rotary Club
ORGANIZER;CN="Rotary Club (Atlanta Brasil)":MAILTO:atlantabrasilrotaryclub@gmail.com
END:VEVENT
BEGIN:VEVENT
DTSTART;TZID=America/New_York:20270826T183000
DTEND;TZID=America/New_York:20270826T200000
DTSTAMP:20260423T105913
CREATED:20241104T033559Z
LAST-MODIFIED:20241104T033559Z
UID:10001668-1819305000-1819310400@theccbb.com
SUMMARY:Atlanta Brasil Rotary Club Monthly In-Person Meeting
DESCRIPTION:In-person meetings last Thursday of each month at 6:30 PM. Meetings are in Portuguese\, but all of our members also speak English! You’re welcome to visit! Just let us know! \nFor more information on membership or the event\, please visit: https://www.atlantabrasilrotary.club
URL:https://theccbb.com/event/atlanta-brasil-rotary-club-monthly-in-person-meeting/2027-08-26/
LOCATION:Zoei Group\, 1165 Northchase Pkwy SE STE 125\, Marietta\, 30067\, United States
CATEGORIES:Rotary Club
ORGANIZER;CN="Rotary Club (Atlanta Brasil)":MAILTO:atlantabrasilrotaryclub@gmail.com
END:VEVENT
BEGIN:VEVENT
DTSTART;TZID=America/New_York:20270901T190000
DTEND;TZID=America/New_York:20270901T203000
DTSTAMP:20260423T105913
CREATED:20241104T034002Z
LAST-MODIFIED:20241104T034154Z
UID:10001849-1819825200-1819830600@theccbb.com
SUMMARY:Atlanta Brasil Rotary Club Monthly Zoom Meeting
DESCRIPTION:In-person meetings first Wednesday of each month at 7:00 PM. Meetings are in Portuguese\, but all of our members also speak English! You’re welcome to visit! Just let us know! \nFor more information on membership or the event and to get the zoom link\, please visit: https://www.atlantabrasilrotary.club or email atlantabrasilrotaryclub@gmail.com
URL:https://theccbb.com/event/atlanta-brasil-rotary-club-monthly-zoom-meeting/2027-09-01/
LOCATION:Zoei Group\, 1165 Northchase Pkwy SE STE 125\, Marietta\, 30067\, United States
CATEGORIES:Rotary Club
ORGANIZER;CN="Rotary Club (Atlanta Brasil)":MAILTO:atlantabrasilrotaryclub@gmail.com
END:VEVENT
BEGIN:VEVENT
DTSTART;TZID=America/New_York:20270930T183000
DTEND;TZID=America/New_York:20270930T200000
DTSTAMP:20260423T105913
CREATED:20241104T033559Z
LAST-MODIFIED:20241104T033559Z
UID:10001669-1822329000-1822334400@theccbb.com
SUMMARY:Atlanta Brasil Rotary Club Monthly In-Person Meeting
DESCRIPTION:In-person meetings last Thursday of each month at 6:30 PM. Meetings are in Portuguese\, but all of our members also speak English! You’re welcome to visit! Just let us know! \nFor more information on membership or the event\, please visit: https://www.atlantabrasilrotary.club
URL:https://theccbb.com/event/atlanta-brasil-rotary-club-monthly-in-person-meeting/2027-09-30/
LOCATION:Zoei Group\, 1165 Northchase Pkwy SE STE 125\, Marietta\, 30067\, United States
CATEGORIES:Rotary Club
ORGANIZER;CN="Rotary Club (Atlanta Brasil)":MAILTO:atlantabrasilrotaryclub@gmail.com
END:VEVENT
BEGIN:VEVENT
DTSTART;TZID=America/New_York:20271006T190000
DTEND;TZID=America/New_York:20271006T203000
DTSTAMP:20260423T105913
CREATED:20241104T034002Z
LAST-MODIFIED:20241104T034154Z
UID:10001850-1822849200-1822854600@theccbb.com
SUMMARY:Atlanta Brasil Rotary Club Monthly Zoom Meeting
DESCRIPTION:In-person meetings first Wednesday of each month at 7:00 PM. Meetings are in Portuguese\, but all of our members also speak English! You’re welcome to visit! Just let us know! \nFor more information on membership or the event and to get the zoom link\, please visit: https://www.atlantabrasilrotary.club or email atlantabrasilrotaryclub@gmail.com
URL:https://theccbb.com/event/atlanta-brasil-rotary-club-monthly-zoom-meeting/2027-10-06/
LOCATION:Zoei Group\, 1165 Northchase Pkwy SE STE 125\, Marietta\, 30067\, United States
CATEGORIES:Rotary Club
ORGANIZER;CN="Rotary Club (Atlanta Brasil)":MAILTO:atlantabrasilrotaryclub@gmail.com
END:VEVENT
BEGIN:VEVENT
DTSTART;TZID=America/New_York:20271028T183000
DTEND;TZID=America/New_York:20271028T200000
DTSTAMP:20260423T105913
CREATED:20241104T033559Z
LAST-MODIFIED:20241104T033559Z
UID:10001670-1824748200-1824753600@theccbb.com
SUMMARY:Atlanta Brasil Rotary Club Monthly In-Person Meeting
DESCRIPTION:In-person meetings last Thursday of each month at 6:30 PM. Meetings are in Portuguese\, but all of our members also speak English! You’re welcome to visit! Just let us know! \nFor more information on membership or the event\, please visit: https://www.atlantabrasilrotary.club
URL:https://theccbb.com/event/atlanta-brasil-rotary-club-monthly-in-person-meeting/2027-10-28/
LOCATION:Zoei Group\, 1165 Northchase Pkwy SE STE 125\, Marietta\, 30067\, United States
CATEGORIES:Rotary Club
ORGANIZER;CN="Rotary Club (Atlanta Brasil)":MAILTO:atlantabrasilrotaryclub@gmail.com
END:VEVENT
BEGIN:VEVENT
DTSTART;TZID=America/New_York:20271103T190000
DTEND;TZID=America/New_York:20271103T203000
DTSTAMP:20260423T105913
CREATED:20241104T034002Z
LAST-MODIFIED:20241104T034154Z
UID:10001851-1825268400-1825273800@theccbb.com
SUMMARY:Atlanta Brasil Rotary Club Monthly Zoom Meeting
DESCRIPTION:In-person meetings first Wednesday of each month at 7:00 PM. Meetings are in Portuguese\, but all of our members also speak English! You’re welcome to visit! Just let us know! \nFor more information on membership or the event and to get the zoom link\, please visit: https://www.atlantabrasilrotary.club or email atlantabrasilrotaryclub@gmail.com
URL:https://theccbb.com/event/atlanta-brasil-rotary-club-monthly-zoom-meeting/2027-11-03/
LOCATION:Zoei Group\, 1165 Northchase Pkwy SE STE 125\, Marietta\, 30067\, United States
CATEGORIES:Rotary Club
ORGANIZER;CN="Rotary Club (Atlanta Brasil)":MAILTO:atlantabrasilrotaryclub@gmail.com
END:VEVENT
BEGIN:VEVENT
DTSTART;TZID=America/New_York:20271125T183000
DTEND;TZID=America/New_York:20271125T200000
DTSTAMP:20260423T105913
CREATED:20241104T033559Z
LAST-MODIFIED:20241104T033559Z
UID:10001671-1827167400-1827172800@theccbb.com
SUMMARY:Atlanta Brasil Rotary Club Monthly In-Person Meeting
DESCRIPTION:In-person meetings last Thursday of each month at 6:30 PM. Meetings are in Portuguese\, but all of our members also speak English! You’re welcome to visit! Just let us know! \nFor more information on membership or the event\, please visit: https://www.atlantabrasilrotary.club
URL:https://theccbb.com/event/atlanta-brasil-rotary-club-monthly-in-person-meeting/2027-11-25/
LOCATION:Zoei Group\, 1165 Northchase Pkwy SE STE 125\, Marietta\, 30067\, United States
CATEGORIES:Rotary Club
ORGANIZER;CN="Rotary Club (Atlanta Brasil)":MAILTO:atlantabrasilrotaryclub@gmail.com
END:VEVENT
BEGIN:VEVENT
DTSTART;TZID=America/New_York:20271201T190000
DTEND;TZID=America/New_York:20271201T203000
DTSTAMP:20260423T105913
CREATED:20241104T034002Z
LAST-MODIFIED:20241104T034154Z
UID:10001852-1827687600-1827693000@theccbb.com
SUMMARY:Atlanta Brasil Rotary Club Monthly Zoom Meeting
DESCRIPTION:In-person meetings first Wednesday of each month at 7:00 PM. Meetings are in Portuguese\, but all of our members also speak English! You’re welcome to visit! Just let us know! \nFor more information on membership or the event and to get the zoom link\, please visit: https://www.atlantabrasilrotary.club or email atlantabrasilrotaryclub@gmail.com
URL:https://theccbb.com/event/atlanta-brasil-rotary-club-monthly-zoom-meeting/2027-12-01/
LOCATION:Zoei Group\, 1165 Northchase Pkwy SE STE 125\, Marietta\, 30067\, United States
CATEGORIES:Rotary Club
ORGANIZER;CN="Rotary Club (Atlanta Brasil)":MAILTO:atlantabrasilrotaryclub@gmail.com
END:VEVENT
BEGIN:VEVENT
DTSTART;TZID=America/New_York:20271230T183000
DTEND;TZID=America/New_York:20271230T200000
DTSTAMP:20260423T105913
CREATED:20241104T033559Z
LAST-MODIFIED:20241104T033559Z
UID:10001672-1830191400-1830196800@theccbb.com
SUMMARY:Atlanta Brasil Rotary Club Monthly In-Person Meeting
DESCRIPTION:In-person meetings last Thursday of each month at 6:30 PM. Meetings are in Portuguese\, but all of our members also speak English! You’re welcome to visit! Just let us know! \nFor more information on membership or the event\, please visit: https://www.atlantabrasilrotary.club
URL:https://theccbb.com/event/atlanta-brasil-rotary-club-monthly-in-person-meeting/2027-12-30/
LOCATION:Zoei Group\, 1165 Northchase Pkwy SE STE 125\, Marietta\, 30067\, United States
CATEGORIES:Rotary Club
ORGANIZER;CN="Rotary Club (Atlanta Brasil)":MAILTO:atlantabrasilrotaryclub@gmail.com
END:VEVENT
BEGIN:VEVENT
DTSTART;TZID=America/New_York:20280105T190000
DTEND;TZID=America/New_York:20280105T203000
DTSTAMP:20260423T105913
CREATED:20241104T034002Z
LAST-MODIFIED:20241104T034154Z
UID:10001853-1830711600-1830717000@theccbb.com
SUMMARY:Atlanta Brasil Rotary Club Monthly Zoom Meeting
DESCRIPTION:In-person meetings first Wednesday of each month at 7:00 PM. Meetings are in Portuguese\, but all of our members also speak English! You’re welcome to visit! Just let us know! \nFor more information on membership or the event and to get the zoom link\, please visit: https://www.atlantabrasilrotary.club or email atlantabrasilrotaryclub@gmail.com
URL:https://theccbb.com/event/atlanta-brasil-rotary-club-monthly-zoom-meeting/2028-01-05/
LOCATION:Zoei Group\, 1165 Northchase Pkwy SE STE 125\, Marietta\, 30067\, United States
CATEGORIES:Rotary Club
ORGANIZER;CN="Rotary Club (Atlanta Brasil)":MAILTO:atlantabrasilrotaryclub@gmail.com
END:VEVENT
BEGIN:VEVENT
DTSTART;TZID=America/New_York:20280127T183000
DTEND;TZID=America/New_York:20280127T200000
DTSTAMP:20260423T105913
CREATED:20241104T033559Z
LAST-MODIFIED:20241104T033559Z
UID:10001673-1832610600-1832616000@theccbb.com
SUMMARY:Atlanta Brasil Rotary Club Monthly In-Person Meeting
DESCRIPTION:In-person meetings last Thursday of each month at 6:30 PM. Meetings are in Portuguese\, but all of our members also speak English! You’re welcome to visit! Just let us know! \nFor more information on membership or the event\, please visit: https://www.atlantabrasilrotary.club
URL:https://theccbb.com/event/atlanta-brasil-rotary-club-monthly-in-person-meeting/2028-01-27/
LOCATION:Zoei Group\, 1165 Northchase Pkwy SE STE 125\, Marietta\, 30067\, United States
CATEGORIES:Rotary Club
ORGANIZER;CN="Rotary Club (Atlanta Brasil)":MAILTO:atlantabrasilrotaryclub@gmail.com
END:VEVENT
BEGIN:VEVENT
DTSTART;TZID=America/New_York:20280202T190000
DTEND;TZID=America/New_York:20280202T203000
DTSTAMP:20260423T105913
CREATED:20241104T034002Z
LAST-MODIFIED:20241104T034154Z
UID:10001854-1833130800-1833136200@theccbb.com
SUMMARY:Atlanta Brasil Rotary Club Monthly Zoom Meeting
DESCRIPTION:In-person meetings first Wednesday of each month at 7:00 PM. Meetings are in Portuguese\, but all of our members also speak English! You’re welcome to visit! Just let us know! \nFor more information on membership or the event and to get the zoom link\, please visit: https://www.atlantabrasilrotary.club or email atlantabrasilrotaryclub@gmail.com
URL:https://theccbb.com/event/atlanta-brasil-rotary-club-monthly-zoom-meeting/2028-02-02/
LOCATION:Zoei Group\, 1165 Northchase Pkwy SE STE 125\, Marietta\, 30067\, United States
CATEGORIES:Rotary Club
ORGANIZER;CN="Rotary Club (Atlanta Brasil)":MAILTO:atlantabrasilrotaryclub@gmail.com
END:VEVENT
BEGIN:VEVENT
DTSTART;TZID=America/New_York:20280224T183000
DTEND;TZID=America/New_York:20280224T200000
DTSTAMP:20260423T105913
CREATED:20241104T033559Z
LAST-MODIFIED:20241104T033559Z
UID:10001674-1835029800-1835035200@theccbb.com
SUMMARY:Atlanta Brasil Rotary Club Monthly In-Person Meeting
DESCRIPTION:In-person meetings last Thursday of each month at 6:30 PM. Meetings are in Portuguese\, but all of our members also speak English! You’re welcome to visit! Just let us know! \nFor more information on membership or the event\, please visit: https://www.atlantabrasilrotary.club
URL:https://theccbb.com/event/atlanta-brasil-rotary-club-monthly-in-person-meeting/2028-02-24/
LOCATION:Zoei Group\, 1165 Northchase Pkwy SE STE 125\, Marietta\, 30067\, United States
CATEGORIES:Rotary Club
ORGANIZER;CN="Rotary Club (Atlanta Brasil)":MAILTO:atlantabrasilrotaryclub@gmail.com
END:VEVENT
BEGIN:VEVENT
DTSTART;TZID=America/New_York:20280301T190000
DTEND;TZID=America/New_York:20280301T203000
DTSTAMP:20260423T105913
CREATED:20241104T034002Z
LAST-MODIFIED:20241104T034154Z
UID:10001855-1835550000-1835555400@theccbb.com
SUMMARY:Atlanta Brasil Rotary Club Monthly Zoom Meeting
DESCRIPTION:In-person meetings first Wednesday of each month at 7:00 PM. Meetings are in Portuguese\, but all of our members also speak English! You’re welcome to visit! Just let us know! \nFor more information on membership or the event and to get the zoom link\, please visit: https://www.atlantabrasilrotary.club or email atlantabrasilrotaryclub@gmail.com
URL:https://theccbb.com/event/atlanta-brasil-rotary-club-monthly-zoom-meeting/2028-03-01/
LOCATION:Zoei Group\, 1165 Northchase Pkwy SE STE 125\, Marietta\, 30067\, United States
CATEGORIES:Rotary Club
ORGANIZER;CN="Rotary Club (Atlanta Brasil)":MAILTO:atlantabrasilrotaryclub@gmail.com
END:VEVENT
BEGIN:VEVENT
DTSTART;TZID=America/New_York:20280330T183000
DTEND;TZID=America/New_York:20280330T200000
DTSTAMP:20260423T105913
CREATED:20241104T033559Z
LAST-MODIFIED:20241104T033559Z
UID:10001675-1838053800-1838059200@theccbb.com
SUMMARY:Atlanta Brasil Rotary Club Monthly In-Person Meeting
DESCRIPTION:In-person meetings last Thursday of each month at 6:30 PM. Meetings are in Portuguese\, but all of our members also speak English! You’re welcome to visit! Just let us know! \nFor more information on membership or the event\, please visit: https://www.atlantabrasilrotary.club
URL:https://theccbb.com/event/atlanta-brasil-rotary-club-monthly-in-person-meeting/2028-03-30/
LOCATION:Zoei Group\, 1165 Northchase Pkwy SE STE 125\, Marietta\, 30067\, United States
CATEGORIES:Rotary Club
ORGANIZER;CN="Rotary Club (Atlanta Brasil)":MAILTO:atlantabrasilrotaryclub@gmail.com
END:VEVENT
BEGIN:VEVENT
DTSTART;TZID=America/New_York:20280405T190000
DTEND;TZID=America/New_York:20280405T203000
DTSTAMP:20260423T105913
CREATED:20241104T034002Z
LAST-MODIFIED:20241104T034154Z
UID:10001856-1838574000-1838579400@theccbb.com
SUMMARY:Atlanta Brasil Rotary Club Monthly Zoom Meeting
DESCRIPTION:In-person meetings first Wednesday of each month at 7:00 PM. Meetings are in Portuguese\, but all of our members also speak English! You’re welcome to visit! Just let us know! \nFor more information on membership or the event and to get the zoom link\, please visit: https://www.atlantabrasilrotary.club or email atlantabrasilrotaryclub@gmail.com
URL:https://theccbb.com/event/atlanta-brasil-rotary-club-monthly-zoom-meeting/2028-04-05/
LOCATION:Zoei Group\, 1165 Northchase Pkwy SE STE 125\, Marietta\, 30067\, United States
CATEGORIES:Rotary Club
ORGANIZER;CN="Rotary Club (Atlanta Brasil)":MAILTO:atlantabrasilrotaryclub@gmail.com
END:VEVENT
BEGIN:VEVENT
DTSTART;TZID=America/New_York:20280427T183000
DTEND;TZID=America/New_York:20280427T200000
DTSTAMP:20260423T105913
CREATED:20241104T033559Z
LAST-MODIFIED:20241104T033559Z
UID:10001676-1840473000-1840478400@theccbb.com
SUMMARY:Atlanta Brasil Rotary Club Monthly In-Person Meeting
DESCRIPTION:In-person meetings last Thursday of each month at 6:30 PM. Meetings are in Portuguese\, but all of our members also speak English! You’re welcome to visit! Just let us know! \nFor more information on membership or the event\, please visit: https://www.atlantabrasilrotary.club
URL:https://theccbb.com/event/atlanta-brasil-rotary-club-monthly-in-person-meeting/2028-04-27/
LOCATION:Zoei Group\, 1165 Northchase Pkwy SE STE 125\, Marietta\, 30067\, United States
CATEGORIES:Rotary Club
ORGANIZER;CN="Rotary Club (Atlanta Brasil)":MAILTO:atlantabrasilrotaryclub@gmail.com
END:VEVENT
BEGIN:VEVENT
DTSTART;TZID=America/New_York:20280503T190000
DTEND;TZID=America/New_York:20280503T203000
DTSTAMP:20260423T105913
CREATED:20241104T034002Z
LAST-MODIFIED:20241104T034154Z
UID:10001857-1840993200-1840998600@theccbb.com
SUMMARY:Atlanta Brasil Rotary Club Monthly Zoom Meeting
DESCRIPTION:In-person meetings first Wednesday of each month at 7:00 PM. Meetings are in Portuguese\, but all of our members also speak English! You’re welcome to visit! Just let us know! \nFor more information on membership or the event and to get the zoom link\, please visit: https://www.atlantabrasilrotary.club or email atlantabrasilrotaryclub@gmail.com
URL:https://theccbb.com/event/atlanta-brasil-rotary-club-monthly-zoom-meeting/2028-05-03/
LOCATION:Zoei Group\, 1165 Northchase Pkwy SE STE 125\, Marietta\, 30067\, United States
CATEGORIES:Rotary Club
ORGANIZER;CN="Rotary Club (Atlanta Brasil)":MAILTO:atlantabrasilrotaryclub@gmail.com
END:VEVENT
BEGIN:VEVENT
DTSTART;TZID=America/New_York:20280525T183000
DTEND;TZID=America/New_York:20280525T200000
DTSTAMP:20260423T105913
CREATED:20241104T033559Z
LAST-MODIFIED:20241104T033559Z
UID:10001677-1842892200-1842897600@theccbb.com
SUMMARY:Atlanta Brasil Rotary Club Monthly In-Person Meeting
DESCRIPTION:In-person meetings last Thursday of each month at 6:30 PM. Meetings are in Portuguese\, but all of our members also speak English! You’re welcome to visit! Just let us know! \nFor more information on membership or the event\, please visit: https://www.atlantabrasilrotary.club
URL:https://theccbb.com/event/atlanta-brasil-rotary-club-monthly-in-person-meeting/2028-05-25/
LOCATION:Zoei Group\, 1165 Northchase Pkwy SE STE 125\, Marietta\, 30067\, United States
CATEGORIES:Rotary Club
ORGANIZER;CN="Rotary Club (Atlanta Brasil)":MAILTO:atlantabrasilrotaryclub@gmail.com
END:VEVENT
BEGIN:VEVENT
DTSTART;TZID=America/New_York:20280607T190000
DTEND;TZID=America/New_York:20280607T203000
DTSTAMP:20260423T105913
CREATED:20241104T034002Z
LAST-MODIFIED:20241104T034154Z
UID:10001858-1844017200-1844022600@theccbb.com
SUMMARY:Atlanta Brasil Rotary Club Monthly Zoom Meeting
DESCRIPTION:In-person meetings first Wednesday of each month at 7:00 PM. Meetings are in Portuguese\, but all of our members also speak English! You’re welcome to visit! Just let us know! \nFor more information on membership or the event and to get the zoom link\, please visit: https://www.atlantabrasilrotary.club or email atlantabrasilrotaryclub@gmail.com
URL:https://theccbb.com/event/atlanta-brasil-rotary-club-monthly-zoom-meeting/2028-06-07/
LOCATION:Zoei Group\, 1165 Northchase Pkwy SE STE 125\, Marietta\, 30067\, United States
CATEGORIES:Rotary Club
ORGANIZER;CN="Rotary Club (Atlanta Brasil)":MAILTO:atlantabrasilrotaryclub@gmail.com
END:VEVENT
BEGIN:VEVENT
DTSTART;TZID=America/New_York:20280629T183000
DTEND;TZID=America/New_York:20280629T200000
DTSTAMP:20260423T105913
CREATED:20241104T033559Z
LAST-MODIFIED:20241104T033559Z
UID:10001678-1845916200-1845921600@theccbb.com
SUMMARY:Atlanta Brasil Rotary Club Monthly In-Person Meeting
DESCRIPTION:In-person meetings last Thursday of each month at 6:30 PM. Meetings are in Portuguese\, but all of our members also speak English! You’re welcome to visit! Just let us know! \nFor more information on membership or the event\, please visit: https://www.atlantabrasilrotary.club
URL:https://theccbb.com/event/atlanta-brasil-rotary-club-monthly-in-person-meeting/2028-06-29/
LOCATION:Zoei Group\, 1165 Northchase Pkwy SE STE 125\, Marietta\, 30067\, United States
CATEGORIES:Rotary Club
ORGANIZER;CN="Rotary Club (Atlanta Brasil)":MAILTO:atlantabrasilrotaryclub@gmail.com
END:VEVENT
BEGIN:VEVENT
DTSTART;TZID=America/New_York:20280705T190000
DTEND;TZID=America/New_York:20280705T203000
DTSTAMP:20260423T105913
CREATED:20241104T034002Z
LAST-MODIFIED:20241104T034154Z
UID:10001859-1846436400-1846441800@theccbb.com
SUMMARY:Atlanta Brasil Rotary Club Monthly Zoom Meeting
DESCRIPTION:In-person meetings first Wednesday of each month at 7:00 PM. Meetings are in Portuguese\, but all of our members also speak English! You’re welcome to visit! Just let us know! \nFor more information on membership or the event and to get the zoom link\, please visit: https://www.atlantabrasilrotary.club or email atlantabrasilrotaryclub@gmail.com
URL:https://theccbb.com/event/atlanta-brasil-rotary-club-monthly-zoom-meeting/2028-07-05/
LOCATION:Zoei Group\, 1165 Northchase Pkwy SE STE 125\, Marietta\, 30067\, United States
CATEGORIES:Rotary Club
ORGANIZER;CN="Rotary Club (Atlanta Brasil)":MAILTO:atlantabrasilrotaryclub@gmail.com
END:VEVENT
BEGIN:VEVENT
DTSTART;TZID=America/New_York:20280727T183000
DTEND;TZID=America/New_York:20280727T200000
DTSTAMP:20260423T105913
CREATED:20241104T033559Z
LAST-MODIFIED:20241104T033559Z
UID:10001679-1848335400-1848340800@theccbb.com
SUMMARY:Atlanta Brasil Rotary Club Monthly In-Person Meeting
DESCRIPTION:In-person meetings last Thursday of each month at 6:30 PM. Meetings are in Portuguese\, but all of our members also speak English! You’re welcome to visit! Just let us know! \nFor more information on membership or the event\, please visit: https://www.atlantabrasilrotary.club
URL:https://theccbb.com/event/atlanta-brasil-rotary-club-monthly-in-person-meeting/2028-07-27/
LOCATION:Zoei Group\, 1165 Northchase Pkwy SE STE 125\, Marietta\, 30067\, United States
CATEGORIES:Rotary Club
ORGANIZER;CN="Rotary Club (Atlanta Brasil)":MAILTO:atlantabrasilrotaryclub@gmail.com
END:VEVENT
BEGIN:VEVENT
DTSTART;TZID=America/New_York:20280802T190000
DTEND;TZID=America/New_York:20280802T203000
DTSTAMP:20260423T105913
CREATED:20241104T034002Z
LAST-MODIFIED:20241104T034154Z
UID:10001860-1848855600-1848861000@theccbb.com
SUMMARY:Atlanta Brasil Rotary Club Monthly Zoom Meeting
DESCRIPTION:In-person meetings first Wednesday of each month at 7:00 PM. Meetings are in Portuguese\, but all of our members also speak English! You’re welcome to visit! Just let us know! \nFor more information on membership or the event and to get the zoom link\, please visit: https://www.atlantabrasilrotary.club or email atlantabrasilrotaryclub@gmail.com
URL:https://theccbb.com/event/atlanta-brasil-rotary-club-monthly-zoom-meeting/2028-08-02/
LOCATION:Zoei Group\, 1165 Northchase Pkwy SE STE 125\, Marietta\, 30067\, United States
CATEGORIES:Rotary Club
ORGANIZER;CN="Rotary Club (Atlanta Brasil)":MAILTO:atlantabrasilrotaryclub@gmail.com
END:VEVENT
BEGIN:VEVENT
DTSTART;TZID=America/New_York:20280831T183000
DTEND;TZID=America/New_York:20280831T200000
DTSTAMP:20260423T105913
CREATED:20241104T033559Z
LAST-MODIFIED:20241104T033559Z
UID:10001680-1851359400-1851364800@theccbb.com
SUMMARY:Atlanta Brasil Rotary Club Monthly In-Person Meeting
DESCRIPTION:In-person meetings last Thursday of each month at 6:30 PM. Meetings are in Portuguese\, but all of our members also speak English! You’re welcome to visit! Just let us know! \nFor more information on membership or the event\, please visit: https://www.atlantabrasilrotary.club
URL:https://theccbb.com/event/atlanta-brasil-rotary-club-monthly-in-person-meeting/2028-08-31/
LOCATION:Zoei Group\, 1165 Northchase Pkwy SE STE 125\, Marietta\, 30067\, United States
CATEGORIES:Rotary Club
ORGANIZER;CN="Rotary Club (Atlanta Brasil)":MAILTO:atlantabrasilrotaryclub@gmail.com
END:VEVENT
BEGIN:VEVENT
DTSTART;TZID=America/New_York:20280906T190000
DTEND;TZID=America/New_York:20280906T203000
DTSTAMP:20260423T105913
CREATED:20241104T034002Z
LAST-MODIFIED:20241104T034154Z
UID:10001861-1851879600-1851885000@theccbb.com
SUMMARY:Atlanta Brasil Rotary Club Monthly Zoom Meeting
DESCRIPTION:In-person meetings first Wednesday of each month at 7:00 PM. Meetings are in Portuguese\, but all of our members also speak English! You’re welcome to visit! Just let us know! \nFor more information on membership or the event and to get the zoom link\, please visit: https://www.atlantabrasilrotary.club or email atlantabrasilrotaryclub@gmail.com
URL:https://theccbb.com/event/atlanta-brasil-rotary-club-monthly-zoom-meeting/2028-09-06/
LOCATION:Zoei Group\, 1165 Northchase Pkwy SE STE 125\, Marietta\, 30067\, United States
CATEGORIES:Rotary Club
ORGANIZER;CN="Rotary Club (Atlanta Brasil)":MAILTO:atlantabrasilrotaryclub@gmail.com
END:VEVENT
BEGIN:VEVENT
DTSTART;TZID=America/New_York:20280928T183000
DTEND;TZID=America/New_York:20280928T200000
DTSTAMP:20260423T105913
CREATED:20241104T033559Z
LAST-MODIFIED:20241104T033559Z
UID:10001681-1853778600-1853784000@theccbb.com
SUMMARY:Atlanta Brasil Rotary Club Monthly In-Person Meeting
DESCRIPTION:In-person meetings last Thursday of each month at 6:30 PM. Meetings are in Portuguese\, but all of our members also speak English! You’re welcome to visit! Just let us know! \nFor more information on membership or the event\, please visit: https://www.atlantabrasilrotary.club
URL:https://theccbb.com/event/atlanta-brasil-rotary-club-monthly-in-person-meeting/2028-09-28/
LOCATION:Zoei Group\, 1165 Northchase Pkwy SE STE 125\, Marietta\, 30067\, United States
CATEGORIES:Rotary Club
ORGANIZER;CN="Rotary Club (Atlanta Brasil)":MAILTO:atlantabrasilrotaryclub@gmail.com
END:VEVENT
BEGIN:VEVENT
DTSTART;TZID=America/New_York:20281004T190000
DTEND;TZID=America/New_York:20281004T203000
DTSTAMP:20260423T105913
CREATED:20241104T034002Z
LAST-MODIFIED:20241104T034154Z
UID:10001862-1854298800-1854304200@theccbb.com
SUMMARY:Atlanta Brasil Rotary Club Monthly Zoom Meeting
DESCRIPTION:In-person meetings first Wednesday of each month at 7:00 PM. Meetings are in Portuguese\, but all of our members also speak English! You’re welcome to visit! Just let us know! \nFor more information on membership or the event and to get the zoom link\, please visit: https://www.atlantabrasilrotary.club or email atlantabrasilrotaryclub@gmail.com
URL:https://theccbb.com/event/atlanta-brasil-rotary-club-monthly-zoom-meeting/2028-10-04/
LOCATION:Zoei Group\, 1165 Northchase Pkwy SE STE 125\, Marietta\, 30067\, United States
CATEGORIES:Rotary Club
ORGANIZER;CN="Rotary Club (Atlanta Brasil)":MAILTO:atlantabrasilrotaryclub@gmail.com
END:VEVENT
END:VCALENDAR