BEGIN:VCALENDAR
VERSION:2.0
PRODID:-//Cobb County Business Bootcamp - ECPv6.15.18//NONSGML v1.0//EN
CALSCALE:GREGORIAN
METHOD:PUBLISH
X-ORIGINAL-URL:https://theccbb.com
X-WR-CALDESC:Events for Cobb County Business Bootcamp
REFRESH-INTERVAL;VALUE=DURATION:PT1H
X-Robots-Tag:noindex
X-PUBLISHED-TTL:PT1H
BEGIN:VTIMEZONE
TZID:America/New_York
BEGIN:DAYLIGHT
TZOFFSETFROM:-0500
TZOFFSETTO:-0400
TZNAME:EDT
DTSTART:20260308T070000
END:DAYLIGHT
BEGIN:STANDARD
TZOFFSETFROM:-0400
TZOFFSETTO:-0500
TZNAME:EST
DTSTART:20261101T060000
END:STANDARD
BEGIN:DAYLIGHT
TZOFFSETFROM:-0500
TZOFFSETTO:-0400
TZNAME:EDT
DTSTART:20270314T070000
END:DAYLIGHT
BEGIN:STANDARD
TZOFFSETFROM:-0400
TZOFFSETTO:-0500
TZNAME:EST
DTSTART:20271107T060000
END:STANDARD
BEGIN:DAYLIGHT
TZOFFSETFROM:-0500
TZOFFSETTO:-0400
TZNAME:EDT
DTSTART:20280312T070000
END:DAYLIGHT
BEGIN:STANDARD
TZOFFSETFROM:-0400
TZOFFSETTO:-0500
TZNAME:EST
DTSTART:20281105T060000
END:STANDARD
BEGIN:DAYLIGHT
TZOFFSETFROM:-0500
TZOFFSETTO:-0400
TZNAME:EDT
DTSTART:20290311T070000
END:DAYLIGHT
BEGIN:STANDARD
TZOFFSETFROM:-0400
TZOFFSETTO:-0500
TZNAME:EST
DTSTART:20291104T060000
END:STANDARD
END:VTIMEZONE
BEGIN:VEVENT
DTSTART;TZID=America/New_York:20270804T110000
DTEND;TZID=America/New_York:20270804T130000
DTSTAMP:20260423T091733
CREATED:20240806T190639Z
LAST-MODIFIED:20240806T190639Z
UID:10001047-1817377200-1817384400@theccbb.com
SUMMARY:SCBA: Monthly Luncheon
DESCRIPTION:Monthly luncheon and networking opportunity. \nFor ticket costs and to become a member\, please visit: southcobbba.org
URL:https://theccbb.com/event/scba-monthly-luncheon/2027-08-04/
LOCATION:Faith Christian Center\, 3831 Tramore Pointe Pkwy SE\, Austell\, GA\, 30106\, United States
CATEGORIES:South Cobb Business Association
END:VEVENT
BEGIN:VEVENT
DTSTART;TZID=America/New_York:20270804T110000
DTEND;TZID=America/New_York:20270804T130000
DTSTAMP:20260423T091733
CREATED:20260122T052837Z
LAST-MODIFIED:20260122T052837Z
UID:10005756-1817377200-1817384400@theccbb.com
SUMMARY:SCBA: Monthly Luncheon
DESCRIPTION:Monthly luncheon and networking opportunity. \n \n  \nFor ticket costs and to become a member\, please visit: southcobbba.org
URL:https://theccbb.com/event/scba-monthly-luncheon-2/2027-08-04/
LOCATION:Faith Christian Center\, 3831 Tramore Pointe Pkwy SE\, Austell\, GA\, 30106\, United States
CATEGORIES:South Cobb Business Association
END:VEVENT
BEGIN:VEVENT
DTSTART;TZID=America/New_York:20270901T110000
DTEND;TZID=America/New_York:20270901T130000
DTSTAMP:20260423T091733
CREATED:20240806T190639Z
LAST-MODIFIED:20240806T190639Z
UID:10001048-1819796400-1819803600@theccbb.com
SUMMARY:SCBA: Monthly Luncheon
DESCRIPTION:Monthly luncheon and networking opportunity. \nFor ticket costs and to become a member\, please visit: southcobbba.org
URL:https://theccbb.com/event/scba-monthly-luncheon/2027-09-01/
LOCATION:Faith Christian Center\, 3831 Tramore Pointe Pkwy SE\, Austell\, GA\, 30106\, United States
CATEGORIES:South Cobb Business Association
END:VEVENT
BEGIN:VEVENT
DTSTART;TZID=America/New_York:20270901T110000
DTEND;TZID=America/New_York:20270901T130000
DTSTAMP:20260423T091733
CREATED:20260122T052837Z
LAST-MODIFIED:20260122T052837Z
UID:10005757-1819796400-1819803600@theccbb.com
SUMMARY:SCBA: Monthly Luncheon
DESCRIPTION:Monthly luncheon and networking opportunity. \n \n  \nFor ticket costs and to become a member\, please visit: southcobbba.org
URL:https://theccbb.com/event/scba-monthly-luncheon-2/2027-09-01/
LOCATION:Faith Christian Center\, 3831 Tramore Pointe Pkwy SE\, Austell\, GA\, 30106\, United States
CATEGORIES:South Cobb Business Association
END:VEVENT
BEGIN:VEVENT
DTSTART;TZID=America/New_York:20271006T110000
DTEND;TZID=America/New_York:20271006T130000
DTSTAMP:20260423T091733
CREATED:20240806T190639Z
LAST-MODIFIED:20240806T190639Z
UID:10001049-1822820400-1822827600@theccbb.com
SUMMARY:SCBA: Monthly Luncheon
DESCRIPTION:Monthly luncheon and networking opportunity. \nFor ticket costs and to become a member\, please visit: southcobbba.org
URL:https://theccbb.com/event/scba-monthly-luncheon/2027-10-06/
LOCATION:Faith Christian Center\, 3831 Tramore Pointe Pkwy SE\, Austell\, GA\, 30106\, United States
CATEGORIES:South Cobb Business Association
END:VEVENT
BEGIN:VEVENT
DTSTART;TZID=America/New_York:20271006T110000
DTEND;TZID=America/New_York:20271006T130000
DTSTAMP:20260423T091733
CREATED:20260122T052837Z
LAST-MODIFIED:20260122T052837Z
UID:10005758-1822820400-1822827600@theccbb.com
SUMMARY:SCBA: Monthly Luncheon
DESCRIPTION:Monthly luncheon and networking opportunity. \n \n  \nFor ticket costs and to become a member\, please visit: southcobbba.org
URL:https://theccbb.com/event/scba-monthly-luncheon-2/2027-10-06/
LOCATION:Faith Christian Center\, 3831 Tramore Pointe Pkwy SE\, Austell\, GA\, 30106\, United States
CATEGORIES:South Cobb Business Association
END:VEVENT
BEGIN:VEVENT
DTSTART;TZID=America/New_York:20271103T110000
DTEND;TZID=America/New_York:20271103T130000
DTSTAMP:20260423T091733
CREATED:20240806T190639Z
LAST-MODIFIED:20240806T190639Z
UID:10001050-1825239600-1825246800@theccbb.com
SUMMARY:SCBA: Monthly Luncheon
DESCRIPTION:Monthly luncheon and networking opportunity. \nFor ticket costs and to become a member\, please visit: southcobbba.org
URL:https://theccbb.com/event/scba-monthly-luncheon/2027-11-03/
LOCATION:Faith Christian Center\, 3831 Tramore Pointe Pkwy SE\, Austell\, GA\, 30106\, United States
CATEGORIES:South Cobb Business Association
END:VEVENT
BEGIN:VEVENT
DTSTART;TZID=America/New_York:20271103T110000
DTEND;TZID=America/New_York:20271103T130000
DTSTAMP:20260423T091733
CREATED:20260122T052837Z
LAST-MODIFIED:20260122T052837Z
UID:10005759-1825239600-1825246800@theccbb.com
SUMMARY:SCBA: Monthly Luncheon
DESCRIPTION:Monthly luncheon and networking opportunity. \n \n  \nFor ticket costs and to become a member\, please visit: southcobbba.org
URL:https://theccbb.com/event/scba-monthly-luncheon-2/2027-11-03/
LOCATION:Faith Christian Center\, 3831 Tramore Pointe Pkwy SE\, Austell\, GA\, 30106\, United States
CATEGORIES:South Cobb Business Association
END:VEVENT
BEGIN:VEVENT
DTSTART;TZID=America/New_York:20271201T110000
DTEND;TZID=America/New_York:20271201T130000
DTSTAMP:20260423T091733
CREATED:20240806T190639Z
LAST-MODIFIED:20240806T190639Z
UID:10001051-1827658800-1827666000@theccbb.com
SUMMARY:SCBA: Monthly Luncheon
DESCRIPTION:Monthly luncheon and networking opportunity. \nFor ticket costs and to become a member\, please visit: southcobbba.org
URL:https://theccbb.com/event/scba-monthly-luncheon/2027-12-01/
LOCATION:Faith Christian Center\, 3831 Tramore Pointe Pkwy SE\, Austell\, GA\, 30106\, United States
CATEGORIES:South Cobb Business Association
END:VEVENT
BEGIN:VEVENT
DTSTART;TZID=America/New_York:20271201T110000
DTEND;TZID=America/New_York:20271201T130000
DTSTAMP:20260423T091733
CREATED:20260122T052837Z
LAST-MODIFIED:20260122T052837Z
UID:10005760-1827658800-1827666000@theccbb.com
SUMMARY:SCBA: Monthly Luncheon
DESCRIPTION:Monthly luncheon and networking opportunity. \n \n  \nFor ticket costs and to become a member\, please visit: southcobbba.org
URL:https://theccbb.com/event/scba-monthly-luncheon-2/2027-12-01/
LOCATION:Faith Christian Center\, 3831 Tramore Pointe Pkwy SE\, Austell\, GA\, 30106\, United States
CATEGORIES:South Cobb Business Association
END:VEVENT
BEGIN:VEVENT
DTSTART;TZID=America/New_York:20280105T110000
DTEND;TZID=America/New_York:20280105T130000
DTSTAMP:20260423T091733
CREATED:20240806T190639Z
LAST-MODIFIED:20240806T190639Z
UID:10001052-1830682800-1830690000@theccbb.com
SUMMARY:SCBA: Monthly Luncheon
DESCRIPTION:Monthly luncheon and networking opportunity. \nFor ticket costs and to become a member\, please visit: southcobbba.org
URL:https://theccbb.com/event/scba-monthly-luncheon/2028-01-05/
LOCATION:Faith Christian Center\, 3831 Tramore Pointe Pkwy SE\, Austell\, GA\, 30106\, United States
CATEGORIES:South Cobb Business Association
END:VEVENT
BEGIN:VEVENT
DTSTART;TZID=America/New_York:20280105T110000
DTEND;TZID=America/New_York:20280105T130000
DTSTAMP:20260423T091733
CREATED:20260122T052837Z
LAST-MODIFIED:20260122T052837Z
UID:10005761-1830682800-1830690000@theccbb.com
SUMMARY:SCBA: Monthly Luncheon
DESCRIPTION:Monthly luncheon and networking opportunity. \n \n  \nFor ticket costs and to become a member\, please visit: southcobbba.org
URL:https://theccbb.com/event/scba-monthly-luncheon-2/2028-01-05/
LOCATION:Faith Christian Center\, 3831 Tramore Pointe Pkwy SE\, Austell\, GA\, 30106\, United States
CATEGORIES:South Cobb Business Association
END:VEVENT
BEGIN:VEVENT
DTSTART;TZID=America/New_York:20280202T110000
DTEND;TZID=America/New_York:20280202T130000
DTSTAMP:20260423T091733
CREATED:20240806T190639Z
LAST-MODIFIED:20240806T190639Z
UID:10001053-1833102000-1833109200@theccbb.com
SUMMARY:SCBA: Monthly Luncheon
DESCRIPTION:Monthly luncheon and networking opportunity. \nFor ticket costs and to become a member\, please visit: southcobbba.org
URL:https://theccbb.com/event/scba-monthly-luncheon/2028-02-02/
LOCATION:Faith Christian Center\, 3831 Tramore Pointe Pkwy SE\, Austell\, GA\, 30106\, United States
CATEGORIES:South Cobb Business Association
END:VEVENT
BEGIN:VEVENT
DTSTART;TZID=America/New_York:20280202T110000
DTEND;TZID=America/New_York:20280202T130000
DTSTAMP:20260423T091733
CREATED:20260122T052837Z
LAST-MODIFIED:20260122T052837Z
UID:10005762-1833102000-1833109200@theccbb.com
SUMMARY:SCBA: Monthly Luncheon
DESCRIPTION:Monthly luncheon and networking opportunity. \n \n  \nFor ticket costs and to become a member\, please visit: southcobbba.org
URL:https://theccbb.com/event/scba-monthly-luncheon-2/2028-02-02/
LOCATION:Faith Christian Center\, 3831 Tramore Pointe Pkwy SE\, Austell\, GA\, 30106\, United States
CATEGORIES:South Cobb Business Association
END:VEVENT
BEGIN:VEVENT
DTSTART;TZID=America/New_York:20280301T110000
DTEND;TZID=America/New_York:20280301T130000
DTSTAMP:20260423T091733
CREATED:20240806T190639Z
LAST-MODIFIED:20240806T190639Z
UID:10001054-1835521200-1835528400@theccbb.com
SUMMARY:SCBA: Monthly Luncheon
DESCRIPTION:Monthly luncheon and networking opportunity. \nFor ticket costs and to become a member\, please visit: southcobbba.org
URL:https://theccbb.com/event/scba-monthly-luncheon/2028-03-01/
LOCATION:Faith Christian Center\, 3831 Tramore Pointe Pkwy SE\, Austell\, GA\, 30106\, United States
CATEGORIES:South Cobb Business Association
END:VEVENT
BEGIN:VEVENT
DTSTART;TZID=America/New_York:20280301T110000
DTEND;TZID=America/New_York:20280301T130000
DTSTAMP:20260423T091733
CREATED:20260122T052837Z
LAST-MODIFIED:20260122T052837Z
UID:10005763-1835521200-1835528400@theccbb.com
SUMMARY:SCBA: Monthly Luncheon
DESCRIPTION:Monthly luncheon and networking opportunity. \n \n  \nFor ticket costs and to become a member\, please visit: southcobbba.org
URL:https://theccbb.com/event/scba-monthly-luncheon-2/2028-03-01/
LOCATION:Faith Christian Center\, 3831 Tramore Pointe Pkwy SE\, Austell\, GA\, 30106\, United States
CATEGORIES:South Cobb Business Association
END:VEVENT
BEGIN:VEVENT
DTSTART;TZID=America/New_York:20280405T110000
DTEND;TZID=America/New_York:20280405T130000
DTSTAMP:20260423T091733
CREATED:20240806T190639Z
LAST-MODIFIED:20240806T190639Z
UID:10001055-1838545200-1838552400@theccbb.com
SUMMARY:SCBA: Monthly Luncheon
DESCRIPTION:Monthly luncheon and networking opportunity. \nFor ticket costs and to become a member\, please visit: southcobbba.org
URL:https://theccbb.com/event/scba-monthly-luncheon/2028-04-05/
LOCATION:Faith Christian Center\, 3831 Tramore Pointe Pkwy SE\, Austell\, GA\, 30106\, United States
CATEGORIES:South Cobb Business Association
END:VEVENT
BEGIN:VEVENT
DTSTART;TZID=America/New_York:20280405T110000
DTEND;TZID=America/New_York:20280405T130000
DTSTAMP:20260423T091734
CREATED:20260122T052837Z
LAST-MODIFIED:20260122T052837Z
UID:10005764-1838545200-1838552400@theccbb.com
SUMMARY:SCBA: Monthly Luncheon
DESCRIPTION:Monthly luncheon and networking opportunity. \n \n  \nFor ticket costs and to become a member\, please visit: southcobbba.org
URL:https://theccbb.com/event/scba-monthly-luncheon-2/2028-04-05/
LOCATION:Faith Christian Center\, 3831 Tramore Pointe Pkwy SE\, Austell\, GA\, 30106\, United States
CATEGORIES:South Cobb Business Association
END:VEVENT
BEGIN:VEVENT
DTSTART;TZID=America/New_York:20280503T110000
DTEND;TZID=America/New_York:20280503T130000
DTSTAMP:20260423T091734
CREATED:20240806T190639Z
LAST-MODIFIED:20240806T190639Z
UID:10001056-1840964400-1840971600@theccbb.com
SUMMARY:SCBA: Monthly Luncheon
DESCRIPTION:Monthly luncheon and networking opportunity. \nFor ticket costs and to become a member\, please visit: southcobbba.org
URL:https://theccbb.com/event/scba-monthly-luncheon/2028-05-03/
LOCATION:Faith Christian Center\, 3831 Tramore Pointe Pkwy SE\, Austell\, GA\, 30106\, United States
CATEGORIES:South Cobb Business Association
END:VEVENT
BEGIN:VEVENT
DTSTART;TZID=America/New_York:20280503T110000
DTEND;TZID=America/New_York:20280503T130000
DTSTAMP:20260423T091734
CREATED:20260122T052837Z
LAST-MODIFIED:20260122T052837Z
UID:10005765-1840964400-1840971600@theccbb.com
SUMMARY:SCBA: Monthly Luncheon
DESCRIPTION:Monthly luncheon and networking opportunity. \n \n  \nFor ticket costs and to become a member\, please visit: southcobbba.org
URL:https://theccbb.com/event/scba-monthly-luncheon-2/2028-05-03/
LOCATION:Faith Christian Center\, 3831 Tramore Pointe Pkwy SE\, Austell\, GA\, 30106\, United States
CATEGORIES:South Cobb Business Association
END:VEVENT
BEGIN:VEVENT
DTSTART;TZID=America/New_York:20280607T110000
DTEND;TZID=America/New_York:20280607T130000
DTSTAMP:20260423T091734
CREATED:20240806T190639Z
LAST-MODIFIED:20240806T190639Z
UID:10001057-1843988400-1843995600@theccbb.com
SUMMARY:SCBA: Monthly Luncheon
DESCRIPTION:Monthly luncheon and networking opportunity. \nFor ticket costs and to become a member\, please visit: southcobbba.org
URL:https://theccbb.com/event/scba-monthly-luncheon/2028-06-07/
LOCATION:Faith Christian Center\, 3831 Tramore Pointe Pkwy SE\, Austell\, GA\, 30106\, United States
CATEGORIES:South Cobb Business Association
END:VEVENT
BEGIN:VEVENT
DTSTART;TZID=America/New_York:20280607T110000
DTEND;TZID=America/New_York:20280607T130000
DTSTAMP:20260423T091734
CREATED:20260122T052837Z
LAST-MODIFIED:20260122T052837Z
UID:10005766-1843988400-1843995600@theccbb.com
SUMMARY:SCBA: Monthly Luncheon
DESCRIPTION:Monthly luncheon and networking opportunity. \n \n  \nFor ticket costs and to become a member\, please visit: southcobbba.org
URL:https://theccbb.com/event/scba-monthly-luncheon-2/2028-06-07/
LOCATION:Faith Christian Center\, 3831 Tramore Pointe Pkwy SE\, Austell\, GA\, 30106\, United States
CATEGORIES:South Cobb Business Association
END:VEVENT
BEGIN:VEVENT
DTSTART;TZID=America/New_York:20280705T110000
DTEND;TZID=America/New_York:20280705T130000
DTSTAMP:20260423T091734
CREATED:20240806T190639Z
LAST-MODIFIED:20240806T190639Z
UID:10001058-1846407600-1846414800@theccbb.com
SUMMARY:SCBA: Monthly Luncheon
DESCRIPTION:Monthly luncheon and networking opportunity. \nFor ticket costs and to become a member\, please visit: southcobbba.org
URL:https://theccbb.com/event/scba-monthly-luncheon/2028-07-05/
LOCATION:Faith Christian Center\, 3831 Tramore Pointe Pkwy SE\, Austell\, GA\, 30106\, United States
CATEGORIES:South Cobb Business Association
END:VEVENT
BEGIN:VEVENT
DTSTART;TZID=America/New_York:20280705T110000
DTEND;TZID=America/New_York:20280705T130000
DTSTAMP:20260423T091734
CREATED:20260122T052837Z
LAST-MODIFIED:20260122T052837Z
UID:10005767-1846407600-1846414800@theccbb.com
SUMMARY:SCBA: Monthly Luncheon
DESCRIPTION:Monthly luncheon and networking opportunity. \n \n  \nFor ticket costs and to become a member\, please visit: southcobbba.org
URL:https://theccbb.com/event/scba-monthly-luncheon-2/2028-07-05/
LOCATION:Faith Christian Center\, 3831 Tramore Pointe Pkwy SE\, Austell\, GA\, 30106\, United States
CATEGORIES:South Cobb Business Association
END:VEVENT
BEGIN:VEVENT
DTSTART;TZID=America/New_York:20280802T110000
DTEND;TZID=America/New_York:20280802T130000
DTSTAMP:20260423T091734
CREATED:20240806T190639Z
LAST-MODIFIED:20240806T190639Z
UID:10001059-1848826800-1848834000@theccbb.com
SUMMARY:SCBA: Monthly Luncheon
DESCRIPTION:Monthly luncheon and networking opportunity. \nFor ticket costs and to become a member\, please visit: southcobbba.org
URL:https://theccbb.com/event/scba-monthly-luncheon/2028-08-02/
LOCATION:Faith Christian Center\, 3831 Tramore Pointe Pkwy SE\, Austell\, GA\, 30106\, United States
CATEGORIES:South Cobb Business Association
END:VEVENT
BEGIN:VEVENT
DTSTART;TZID=America/New_York:20280802T110000
DTEND;TZID=America/New_York:20280802T130000
DTSTAMP:20260423T091734
CREATED:20260122T052837Z
LAST-MODIFIED:20260122T052837Z
UID:10005768-1848826800-1848834000@theccbb.com
SUMMARY:SCBA: Monthly Luncheon
DESCRIPTION:Monthly luncheon and networking opportunity. \n \n  \nFor ticket costs and to become a member\, please visit: southcobbba.org
URL:https://theccbb.com/event/scba-monthly-luncheon-2/2028-08-02/
LOCATION:Faith Christian Center\, 3831 Tramore Pointe Pkwy SE\, Austell\, GA\, 30106\, United States
CATEGORIES:South Cobb Business Association
END:VEVENT
BEGIN:VEVENT
DTSTART;TZID=America/New_York:20280906T110000
DTEND;TZID=America/New_York:20280906T130000
DTSTAMP:20260423T091734
CREATED:20240806T190639Z
LAST-MODIFIED:20240806T190639Z
UID:10001060-1851850800-1851858000@theccbb.com
SUMMARY:SCBA: Monthly Luncheon
DESCRIPTION:Monthly luncheon and networking opportunity. \nFor ticket costs and to become a member\, please visit: southcobbba.org
URL:https://theccbb.com/event/scba-monthly-luncheon/2028-09-06/
LOCATION:Faith Christian Center\, 3831 Tramore Pointe Pkwy SE\, Austell\, GA\, 30106\, United States
CATEGORIES:South Cobb Business Association
END:VEVENT
BEGIN:VEVENT
DTSTART;TZID=America/New_York:20280906T110000
DTEND;TZID=America/New_York:20280906T130000
DTSTAMP:20260423T091734
CREATED:20260122T052837Z
LAST-MODIFIED:20260122T052837Z
UID:10005769-1851850800-1851858000@theccbb.com
SUMMARY:SCBA: Monthly Luncheon
DESCRIPTION:Monthly luncheon and networking opportunity. \n \n  \nFor ticket costs and to become a member\, please visit: southcobbba.org
URL:https://theccbb.com/event/scba-monthly-luncheon-2/2028-09-06/
LOCATION:Faith Christian Center\, 3831 Tramore Pointe Pkwy SE\, Austell\, GA\, 30106\, United States
CATEGORIES:South Cobb Business Association
END:VEVENT
BEGIN:VEVENT
DTSTART;TZID=America/New_York:20281004T110000
DTEND;TZID=America/New_York:20281004T130000
DTSTAMP:20260423T091734
CREATED:20240806T190639Z
LAST-MODIFIED:20240806T190639Z
UID:10001061-1854270000-1854277200@theccbb.com
SUMMARY:SCBA: Monthly Luncheon
DESCRIPTION:Monthly luncheon and networking opportunity. \nFor ticket costs and to become a member\, please visit: southcobbba.org
URL:https://theccbb.com/event/scba-monthly-luncheon/2028-10-04/
LOCATION:Faith Christian Center\, 3831 Tramore Pointe Pkwy SE\, Austell\, GA\, 30106\, United States
CATEGORIES:South Cobb Business Association
END:VEVENT
BEGIN:VEVENT
DTSTART;TZID=America/New_York:20281004T110000
DTEND;TZID=America/New_York:20281004T130000
DTSTAMP:20260423T091734
CREATED:20260122T052837Z
LAST-MODIFIED:20260122T052837Z
UID:10005770-1854270000-1854277200@theccbb.com
SUMMARY:SCBA: Monthly Luncheon
DESCRIPTION:Monthly luncheon and networking opportunity. \n \n  \nFor ticket costs and to become a member\, please visit: southcobbba.org
URL:https://theccbb.com/event/scba-monthly-luncheon-2/2028-10-04/
LOCATION:Faith Christian Center\, 3831 Tramore Pointe Pkwy SE\, Austell\, GA\, 30106\, United States
CATEGORIES:South Cobb Business Association
END:VEVENT
END:VCALENDAR