BEGIN:VCALENDAR
VERSION:2.0
PRODID:-//Cobb County Business Bootcamp - ECPv6.15.18//NONSGML v1.0//EN
CALSCALE:GREGORIAN
METHOD:PUBLISH
X-WR-CALNAME:Cobb County Business Bootcamp
X-ORIGINAL-URL:https://theccbb.com
X-WR-CALDESC:Events for Cobb County Business Bootcamp
REFRESH-INTERVAL;VALUE=DURATION:PT1H
X-Robots-Tag:noindex
X-PUBLISHED-TTL:PT1H
BEGIN:VTIMEZONE
TZID:America/New_York
BEGIN:DAYLIGHT
TZOFFSETFROM:-0500
TZOFFSETTO:-0400
TZNAME:EDT
DTSTART:20250309T070000
END:DAYLIGHT
BEGIN:STANDARD
TZOFFSETFROM:-0400
TZOFFSETTO:-0500
TZNAME:EST
DTSTART:20251102T060000
END:STANDARD
BEGIN:DAYLIGHT
TZOFFSETFROM:-0500
TZOFFSETTO:-0400
TZNAME:EDT
DTSTART:20260308T070000
END:DAYLIGHT
BEGIN:STANDARD
TZOFFSETFROM:-0400
TZOFFSETTO:-0500
TZNAME:EST
DTSTART:20261101T060000
END:STANDARD
BEGIN:DAYLIGHT
TZOFFSETFROM:-0500
TZOFFSETTO:-0400
TZNAME:EDT
DTSTART:20270314T070000
END:DAYLIGHT
BEGIN:STANDARD
TZOFFSETFROM:-0400
TZOFFSETTO:-0500
TZNAME:EST
DTSTART:20271107T060000
END:STANDARD
END:VTIMEZONE
BEGIN:VEVENT
DTSTART;TZID=America/New_York:20260409T113000
DTEND;TZID=America/New_York:20260409T130000
DTSTAMP:20260419T213327
CREATED:20240806T172559Z
LAST-MODIFIED:20240806T175957Z
UID:10000153-1775734200-1775739600@theccbb.com
SUMMARY:SBA: Monthly Luncheon
DESCRIPTION:For ticket costs and to become a member\, please visit: https://smyrnabusiness.org
URL:https://theccbb.com/event/sba-monthly-luncheon/2026-04-09/
LOCATION:200 Village Green Cir SE\, 200 Village Green Cir SE\, Smyrna\, GA\, 30080\, United States
CATEGORIES:Smyrna Business Association
END:VEVENT
BEGIN:VEVENT
DTSTART;TZID=America/New_York:20260402T113000
DTEND;TZID=America/New_York:20260402T130000
DTSTAMP:20260419T213327
CREATED:20260122T062220Z
LAST-MODIFIED:20260122T062220Z
UID:10005870-1775129400-1775134800@theccbb.com
SUMMARY:SBA: Monthly Luncheon
DESCRIPTION:April Networking Luncheon\n\nSpeaker:\n\nTBA\n\n\n Join us for lunch at the Smyrna Community Center\nEarly Member Tickets – $20\nEarly Non-Member Tickets – $25\n(Early registration closes at NOON on the Tuesday before the luncheon.)\nSignature Table Reservation. Purchase 6 tickets and be seated at a reserved table! Must be purchased before the early registration deadline. $120\n\nLate Member Tickets – $25\nLate Non-Member Tickets – $30\n  \nScroll down for In-Person Registration*\n*If you are a current member or sponsor\, please log in to your account to view/select member or sponsor tickets \nFor ticket costs and to become a member\, please visit: https://smyrnabusiness.org
URL:https://theccbb.com/event/sba-monthly-luncheon-4/
LOCATION:200 Village Green Cir SE\, 200 Village Green Cir SE\, Smyrna\, GA\, 30080\, United States
CATEGORIES:Smyrna Business Association
END:VEVENT
BEGIN:VEVENT
DTSTART;TZID=America/New_York:20260312T113000
DTEND;TZID=America/New_York:20260312T130000
DTSTAMP:20260419T213327
CREATED:20240806T172559Z
LAST-MODIFIED:20240806T175957Z
UID:10000152-1773315000-1773320400@theccbb.com
SUMMARY:SBA: Monthly Luncheon
DESCRIPTION:For ticket costs and to become a member\, please visit: https://smyrnabusiness.org
URL:https://theccbb.com/event/sba-monthly-luncheon/2026-03-12/
LOCATION:200 Village Green Cir SE\, 200 Village Green Cir SE\, Smyrna\, GA\, 30080\, United States
CATEGORIES:Smyrna Business Association
END:VEVENT
BEGIN:VEVENT
DTSTART;TZID=America/New_York:20260305T113000
DTEND;TZID=America/New_York:20260305T130000
DTSTAMP:20260419T213327
CREATED:20260122T061930Z
LAST-MODIFIED:20260122T061930Z
UID:10005869-1772710200-1772715600@theccbb.com
SUMMARY:SBA: Monthly Luncheon
DESCRIPTION:Updates coming soon!\n\n Join us for lunch at the Smyrna Community Center\nEarly Member Tickets – $20\nEarly Non-Member Tickets – $25\n(Early registration closes at NOON on the Tuesday before the luncheon.)\nSignature Table Reservation. Purchase 6 tickets and be seated at a reserved table! Must be purchased before the early registration deadline. $120\nLate Member Tickets – $25\nLate Non-Member Tickets – $30\nScroll down for In-Person Registration*\n*If you are a current member or sponsor\, please log in to your account to view/select member or sponsor tickets \nFor ticket costs and to become a member\, please visit: https://smyrnabusiness.org
URL:https://theccbb.com/event/sba-monthly-luncheon-3/
LOCATION:200 Village Green Cir SE\, 200 Village Green Cir SE\, Smyrna\, GA\, 30080\, United States
CATEGORIES:Smyrna Business Association
END:VEVENT
BEGIN:VEVENT
DTSTART;TZID=America/New_York:20260212T113000
DTEND;TZID=America/New_York:20260212T130000
DTSTAMP:20260419T213327
CREATED:20240806T172559Z
LAST-MODIFIED:20240806T175957Z
UID:10000151-1770895800-1770901200@theccbb.com
SUMMARY:SBA: Monthly Luncheon
DESCRIPTION:For ticket costs and to become a member\, please visit: https://smyrnabusiness.org
URL:https://theccbb.com/event/sba-monthly-luncheon/2026-02-12/
LOCATION:200 Village Green Cir SE\, 200 Village Green Cir SE\, Smyrna\, GA\, 30080\, United States
CATEGORIES:Smyrna Business Association
END:VEVENT
BEGIN:VEVENT
DTSTART;TZID=America/New_York:20260205T113000
DTEND;TZID=America/New_York:20260205T130000
DTSTAMP:20260419T213327
CREATED:20260122T061441Z
LAST-MODIFIED:20260122T061441Z
UID:10005802-1770291000-1770296400@theccbb.com
SUMMARY:SBA: Monthly Luncheon
DESCRIPTION:Speaker:\n\n\nJoyette Holmes\nVice Chair of the State Board of Pardons and Paroles\n\nJoyette Holmes\, ESQ is a trusted and resilient public servant who has served the Cobb County community faithfully as an attorney\, judge\, and catalyst for criminal justice reform. Throughout Holmes’ legal career she has been most notably known for her uncompromising excellence in her representation of the court system no matter what position she served in. Her many accolades speak to her character\, integrity\, and high ethical standards – all qualities that led to her rise within the legal profession as a trailblazer. Joyette Holmes\, ESQ would become the first African American and woman to serve as Chief magistrate judge and district attorney in Cobb County. \nThroughout Joyette Holmes\, ESQ’s career she has been blessed to be honored by her peers and her community. She was named the 2019 Cobb County Citizen of the Year by the Marietta Daily Journal. The Cobb NAACP  and the Cobb Ministerial Alliance have both honored her with awards named for United States Supreme Court Justice Thurgood Marshall. She has received a Community Service Award named for one of her mentors\, retired Georgia Supreme Court Justice Robert Benham and honored with the Living Legacy Award by the Kennesaw Teen Center. She also made Cobb Life Magazine’s “20 Rising Stars under 40”. \nHolmes is a member of Alpha Kappa Alpha Sorority\, Inc. and serves in Rho Zeta Omega – the Cobb County Graduate Chapter of Alpha Kappa Alpha Sorority\, Inc. She also serves on the boards of the Cobb Chamber of Commerce\, Cobb Community Foundation\, Must Ministries\, and the Davis Direction Foundation. She is a Life Member of the Cobb County NAACP Chapter. She also has two teenage daughters that she shares with her husband\, Smyrna native Bridges Holmes. \nJoin us for lunch at the Smyrna Community Center\nEarly Member Tickets – $20\nEarly Non-Member Tickets – $25\n(Early registration closes at NOON on the Tuesday before the luncheon.)\nSignature Table Reservation. Purchase 6 tickets and be seated at a reserved table! Must be purchased before the early registration deadline. $120\nLate Member Tickets – $25\nLate Non-Member Tickets – $30\nScroll down for In-Person Registration*\n*If you are a current member or sponsor\, please log in to your account to view/select member or sponsor tickets \nFor ticket costs and to become a member\, please visit: https://smyrnabusiness.org
URL:https://theccbb.com/event/sba-monthly-luncheon-2/
LOCATION:200 Village Green Cir SE\, 200 Village Green Cir SE\, Smyrna\, GA\, 30080\, United States
CATEGORIES:Smyrna Business Association
END:VEVENT
END:VCALENDAR