BEGIN:VCALENDAR
VERSION:2.0
PRODID:-//Cobb County Business Bootcamp - ECPv6.15.18//NONSGML v1.0//EN
CALSCALE:GREGORIAN
METHOD:PUBLISH
X-WR-CALNAME:Cobb County Business Bootcamp
X-ORIGINAL-URL:https://theccbb.com
X-WR-CALDESC:Events for Cobb County Business Bootcamp
REFRESH-INTERVAL;VALUE=DURATION:PT1H
X-Robots-Tag:noindex
X-PUBLISHED-TTL:PT1H
BEGIN:VTIMEZONE
TZID:America/New_York
BEGIN:DAYLIGHT
TZOFFSETFROM:-0500
TZOFFSETTO:-0400
TZNAME:EDT
DTSTART:20250309T070000
END:DAYLIGHT
BEGIN:STANDARD
TZOFFSETFROM:-0400
TZOFFSETTO:-0500
TZNAME:EST
DTSTART:20251102T060000
END:STANDARD
BEGIN:DAYLIGHT
TZOFFSETFROM:-0500
TZOFFSETTO:-0400
TZNAME:EDT
DTSTART:20260308T070000
END:DAYLIGHT
BEGIN:STANDARD
TZOFFSETFROM:-0400
TZOFFSETTO:-0500
TZNAME:EST
DTSTART:20261101T060000
END:STANDARD
BEGIN:DAYLIGHT
TZOFFSETFROM:-0500
TZOFFSETTO:-0400
TZNAME:EDT
DTSTART:20270314T070000
END:DAYLIGHT
BEGIN:STANDARD
TZOFFSETFROM:-0400
TZOFFSETTO:-0500
TZNAME:EST
DTSTART:20271107T060000
END:STANDARD
END:VTIMEZONE
BEGIN:VEVENT
DTSTART;TZID=America/New_York:20260317T180000
DTEND;TZID=America/New_York:20260317T210000
DTSTAMP:20260419T214120
CREATED:20260108T191433Z
LAST-MODIFIED:20260108T191433Z
UID:10005514-1773770400-1773781200@theccbb.com
SUMMARY:Real Estate Connections North Atlanta
DESCRIPTION:Featured Real Estate Office: \nKeller Williams North Atlanta \nOur Vision and Mission: \nTo facilitate a positive atmosphere where real estate professionals and real estate related industries can join forces to network and share ideas and strategies. \nADMISSION IS $20.00 PER PERSON | $25 AT THE DOOR \nRealtors Get In Free With A Business Card \nBUSINESS ATTIRE \nBest Regards\, \nPeter Pasternack \nPhone: 404 275-8087 \nEmail: Peter@RealEstateConnectionsGroup.com
URL:https://theccbb.com/event/real-estate-connections-north-atlanta-3/
LOCATION:Brimstone Restaurant & Tavern\, 10595 Old Alabama Rd. Connector\, Alpharetta\, Georgia\, 30022
END:VEVENT
BEGIN:VEVENT
DTSTART;TZID=America/New_York:20260217T180000
DTEND;TZID=America/New_York:20260217T210000
DTSTAMP:20260419T214120
CREATED:20260108T191308Z
LAST-MODIFIED:20260122T050356Z
UID:10005513-1771351200-1771362000@theccbb.com
SUMMARY:Real Estate Connections North Atlanta
DESCRIPTION:Featured Real Estate Office: \nKeller Williams North Atlanta \nOur Vision and Mission: \nTo facilitate a positive atmosphere where real estate professionals and real estate related industries can join forces to network and share ideas and strategies. \nADMISSION IS $20.00 PER PERSON | $25 AT THE DOOR \nRealtors Get In Free With A Business Card \nBUSINESS ATTIRE \nBest Regards\, \nPeter Pasternack \nPhone: 404 275-8087 \nEmail: Peter@RealEstateConnectionsGroup.com \n  \nATLANTA’S MOST PRESTIGIOUS REAL ESTATE NETWORKING EVENT \nOur Vision and Mission:\nTo facilitate a positive atmosphere where real estate professionals and real estate related industries can join forces to network and share ideas and strategies. \nADMISSION IS $20.00 PER PERSON | $25 AT THE DOOR \nRealtors Get In Free With A Business Card \nBUSINESS ATTIRE \nContact:\nPeter Pasternack\nPhone: 404 275-8087\nEmail: Peter@RealEstateConnectionsGroup.com
URL:https://theccbb.com/event/real-estate-connections-north-atlanta-2/
LOCATION:Brimstone Restaurant & Tavern\, 10595 Old Alabama Rd. Connector\, Alpharetta\, Georgia\, 30022
END:VEVENT
BEGIN:VEVENT
DTSTART;TZID=America/New_York:20260120T180000
DTEND;TZID=America/New_York:20260120T210000
DTSTAMP:20260419T214120
CREATED:20260108T190141Z
LAST-MODIFIED:20260108T190305Z
UID:10005512-1768932000-1768942800@theccbb.com
SUMMARY:Real Estate Connections North Atlanta
DESCRIPTION:Featured Real Estate Office: \nKeller Williams North Atlanta \nOur Vision and Mission: \nTo facilitate a positive atmosphere where real estate professionals and real estate related industries can join forces to network and share ideas and strategies. \nADMISSION IS $20.00 PER PERSON | $25 AT THE DOOR \nRealtors Get In Free With A Business Card \nBUSINESS ATTIRE \nBest Regards\, \nPeter Pasternack \nPhone: 404 275-8087 \nEmail: Peter@RealEstateConnectionsGroup.com
URL:https://theccbb.com/event/real-estate-connections-north-atlanta/
LOCATION:Brimstone Restaurant & Tavern\, 10595 Old Alabama Rd. Connector\, Alpharetta\, Georgia\, 30022
END:VEVENT
END:VCALENDAR