BEGIN:VCALENDAR
VERSION:2.0
PRODID:-//Cobb County Business Bootcamp - ECPv6.15.18//NONSGML v1.0//EN
CALSCALE:GREGORIAN
METHOD:PUBLISH
X-WR-CALNAME:Cobb County Business Bootcamp
X-ORIGINAL-URL:https://theccbb.com
X-WR-CALDESC:Events for Cobb County Business Bootcamp
REFRESH-INTERVAL;VALUE=DURATION:PT1H
X-Robots-Tag:noindex
X-PUBLISHED-TTL:PT1H
BEGIN:VTIMEZONE
TZID:America/New_York
BEGIN:DAYLIGHT
TZOFFSETFROM:-0500
TZOFFSETTO:-0400
TZNAME:EDT
DTSTART:20250309T070000
END:DAYLIGHT
BEGIN:STANDARD
TZOFFSETFROM:-0400
TZOFFSETTO:-0500
TZNAME:EST
DTSTART:20251102T060000
END:STANDARD
BEGIN:DAYLIGHT
TZOFFSETFROM:-0500
TZOFFSETTO:-0400
TZNAME:EDT
DTSTART:20260308T070000
END:DAYLIGHT
BEGIN:STANDARD
TZOFFSETFROM:-0400
TZOFFSETTO:-0500
TZNAME:EST
DTSTART:20261101T060000
END:STANDARD
BEGIN:DAYLIGHT
TZOFFSETFROM:-0500
TZOFFSETTO:-0400
TZNAME:EDT
DTSTART:20270314T070000
END:DAYLIGHT
BEGIN:STANDARD
TZOFFSETFROM:-0400
TZOFFSETTO:-0500
TZNAME:EST
DTSTART:20271107T060000
END:STANDARD
END:VTIMEZONE
BEGIN:VEVENT
DTSTART;TZID=America/New_York:20260421T180000
DTEND;TZID=America/New_York:20260421T210000
DTSTAMP:20260419T195907
CREATED:20260108T191539Z
LAST-MODIFIED:20260108T191539Z
UID:10005515-1776794400-1776805200@theccbb.com
SUMMARY:Real Estate Connections North Atlanta
DESCRIPTION:Featured Real Estate Office: \nKeller Williams North Atlanta \nOur Vision and Mission: \nTo facilitate a positive atmosphere where real estate professionals and real estate related industries can join forces to network and share ideas and strategies. \nADMISSION IS $20.00 PER PERSON | $25 AT THE DOOR \nRealtors Get In Free With A Business Card \nBUSINESS ATTIRE \nBest Regards\, \nPeter Pasternack \nPhone: 404 275-8087 \nEmail: Peter@RealEstateConnectionsGroup.com
URL:https://theccbb.com/event/real-estate-connections-north-atlanta-4/
LOCATION:Brimstone Restaurant & Tavern\, 10595 Old Alabama Rd. Connector\, Alpharetta\, Georgia\, 30022
END:VEVENT
BEGIN:VEVENT
DTSTART;TZID=America/New_York:20260519T180000
DTEND;TZID=America/New_York:20260519T210000
DTSTAMP:20260419T195907
CREATED:20260108T191933Z
LAST-MODIFIED:20260108T191933Z
UID:10005516-1779213600-1779224400@theccbb.com
SUMMARY:Real Estate Connections North Atlanta
DESCRIPTION:Featured Real Estate Office: \nKeller Williams North Atlanta \nOur Vision and Mission: \nTo facilitate a positive atmosphere where real estate professionals and real estate related industries can join forces to network and share ideas and strategies. \nADMISSION IS $20.00 PER PERSON | $25 AT THE DOOR \nRealtors Get In Free With A Business Card \nBUSINESS ATTIRE \nBest Regards\, \nPeter Pasternack \nPhone: 404 275-8087 \nEmail: Peter@RealEstateConnectionsGroup.com
URL:https://theccbb.com/event/real-estate-connections-north-atlanta-5/
LOCATION:Brimstone Restaurant & Tavern\, 10595 Old Alabama Rd. Connector\, Alpharetta\, Georgia\, 30022
END:VEVENT
BEGIN:VEVENT
DTSTART;TZID=America/New_York:20260616T180000
DTEND;TZID=America/New_York:20260616T210000
DTSTAMP:20260419T195907
CREATED:20260108T192049Z
LAST-MODIFIED:20260108T192049Z
UID:10005517-1781632800-1781643600@theccbb.com
SUMMARY:Real Estate Connections North Atlanta
DESCRIPTION:Featured Real Estate Office: \nKeller Williams North Atlanta \nOur Vision and Mission: \nTo facilitate a positive atmosphere where real estate professionals and real estate related industries can join forces to network and share ideas and strategies. \nADMISSION IS $20.00 PER PERSON | $25 AT THE DOOR \nRealtors Get In Free With A Business Card \nBUSINESS ATTIRE \nBest Regards\, \nPeter Pasternack \nPhone: 404 275-8087 \nEmail: Peter@RealEstateConnectionsGroup.com
URL:https://theccbb.com/event/real-estate-connections-north-atlanta-6/
LOCATION:Brimstone Restaurant & Tavern\, 10595 Old Alabama Rd. Connector\, Alpharetta\, Georgia\, 30022
END:VEVENT
END:VCALENDAR