BEGIN:VCALENDAR
VERSION:2.0
PRODID:-//Cobb County Business Bootcamp - ECPv6.15.18//NONSGML v1.0//EN
CALSCALE:GREGORIAN
METHOD:PUBLISH
X-ORIGINAL-URL:https://theccbb.com
X-WR-CALDESC:Events for Cobb County Business Bootcamp
REFRESH-INTERVAL;VALUE=DURATION:PT1H
X-Robots-Tag:noindex
X-PUBLISHED-TTL:PT1H
BEGIN:VTIMEZONE
TZID:America/New_York
BEGIN:DAYLIGHT
TZOFFSETFROM:-0500
TZOFFSETTO:-0400
TZNAME:EDT
DTSTART:20250309T070000
END:DAYLIGHT
BEGIN:STANDARD
TZOFFSETFROM:-0400
TZOFFSETTO:-0500
TZNAME:EST
DTSTART:20251102T060000
END:STANDARD
BEGIN:DAYLIGHT
TZOFFSETFROM:-0500
TZOFFSETTO:-0400
TZNAME:EDT
DTSTART:20260308T070000
END:DAYLIGHT
BEGIN:STANDARD
TZOFFSETFROM:-0400
TZOFFSETTO:-0500
TZNAME:EST
DTSTART:20261101T060000
END:STANDARD
BEGIN:DAYLIGHT
TZOFFSETFROM:-0500
TZOFFSETTO:-0400
TZNAME:EDT
DTSTART:20270314T070000
END:DAYLIGHT
BEGIN:STANDARD
TZOFFSETFROM:-0400
TZOFFSETTO:-0500
TZNAME:EST
DTSTART:20271107T060000
END:STANDARD
BEGIN:DAYLIGHT
TZOFFSETFROM:-0500
TZOFFSETTO:-0400
TZNAME:EDT
DTSTART:20280312T070000
END:DAYLIGHT
BEGIN:STANDARD
TZOFFSETFROM:-0400
TZOFFSETTO:-0500
TZNAME:EST
DTSTART:20281105T060000
END:STANDARD
BEGIN:DAYLIGHT
TZOFFSETFROM:-0500
TZOFFSETTO:-0400
TZNAME:EDT
DTSTART:20290311T070000
END:DAYLIGHT
BEGIN:STANDARD
TZOFFSETFROM:-0400
TZOFFSETTO:-0500
TZNAME:EST
DTSTART:20291104T060000
END:STANDARD
END:VTIMEZONE
BEGIN:VEVENT
DTSTART;TZID=America/New_York:20260511T110000
DTEND;TZID=America/New_York:20260511T130000
DTSTAMP:20260419T093420
CREATED:20240806T182358Z
LAST-MODIFIED:20241104T031824Z
UID:10000786-1778497200-1778504400@theccbb.com
SUMMARY:CC: Marquee Monday
DESCRIPTION:Enjoy lunch with more than 300 of Cobb’s business elite at Marquee Monday. \nFor the featured speaker\, ticket costs and to become a member\, please visit: https://cobbchamber.org
URL:https://theccbb.com/event/cc-marquee-monday/2026-05-11/
LOCATION:Coca-Cola Roxy\, 800 Battery Ave SE #500\, Atlanta\, GA\, 30339\, United States
CATEGORIES:Cobb Chamber
END:VEVENT
BEGIN:VEVENT
DTSTART;TZID=America/New_York:20260511T110000
DTEND;TZID=America/New_York:20260511T133000
DTSTAMP:20260419T093420
CREATED:20260117T162726Z
LAST-MODIFIED:20260117T162726Z
UID:10005694-1778497200-1778506200@theccbb.com
SUMMARY:CC: Marquee Monday
DESCRIPTION:Monday\, May 11\, 2026 11:15 AM – 1:15 PM EST\n\n\nCoca Cola Roxy Theatre – Truist Park Battery\n800 Battery Ave.\, Suite 500\nAtlanta\, GA 30339\n\n\n\n\n\n\n\n\n2026 Small Business of the Year Awards  \nOur 2026 Small Business of the Year Awards Luncheon celebrates the outstanding achievements and contributions of Cobb’s top small businesses. We want you to a be a part of it! Join us on May 11th at the Coca-Cola Roxy Theatre as we name our big winners. \nDuring the program\, we will recognize the: \n\n2026 Small Business of the Year- announced at the event!\n2026 Hall of Fame Inductee\, 1885 Grill\nTop 25 Small Businesses of the Year\nBusiness to Watch Winner\,\nWoman-Owned Business Award Winner\,\nMinority-Owned Business Award Winner\,\nVeteran-Owned Business Award Winner\,\nCommunity Service of Excellence Award Winner\,\n\nAgenda: \nCheck-in & Lunch: 11:15 AM\nProgram- 12 Noon\nConclusion- 1:15 PM \nRegistration closes and refunds will no longebe r available after May 6\, 2026.
URL:https://theccbb.com/event/cc-marquee-monday-8/
LOCATION:Coca-Cola Roxy\, 800 Battery Ave SE #500\, Atlanta\, GA\, 30339\, United States
CATEGORIES:Cobb Chamber
END:VEVENT
BEGIN:VEVENT
DTSTART;TZID=America/New_York:20260608T110000
DTEND;TZID=America/New_York:20260608T130000
DTSTAMP:20260419T093420
CREATED:20240806T182358Z
LAST-MODIFIED:20241104T031824Z
UID:10000787-1780916400-1780923600@theccbb.com
SUMMARY:CC: Marquee Monday
DESCRIPTION:Enjoy lunch with more than 300 of Cobb’s business elite at Marquee Monday. \nFor the featured speaker\, ticket costs and to become a member\, please visit: https://cobbchamber.org
URL:https://theccbb.com/event/cc-marquee-monday/2026-06-08/
LOCATION:Coca-Cola Roxy\, 800 Battery Ave SE #500\, Atlanta\, GA\, 30339\, United States
CATEGORIES:Cobb Chamber
END:VEVENT
BEGIN:VEVENT
DTSTART;TZID=America/New_York:20260608T120000
DTEND;TZID=America/New_York:20260608T130000
DTSTAMP:20260419T093420
CREATED:20260117T162914Z
LAST-MODIFIED:20260117T162914Z
UID:10005695-1780920000-1780923600@theccbb.com
SUMMARY:CC: Marquee Monday
DESCRIPTION:Monday\, June 8\, 2026 12:00 Noon – 1:00 PM EST\n\n\nCoca Cola Roxy Theatre – Truist Park Battery\n800 Battery Ave.\, Suite 500\nAtlanta\, GA 30339\n\n\n\n\n\n\n\n\nMarquee Monday Presented by Superior Plumbing \nPlease check back for further details. \nAgenda: \nCheck-in & Lunch: 11:15 AM\nProgram- 12:00 Noon\nConclusion- 1:00 PM \nRegistration closes and refunds will no longer be available after June 3\, 2026.
URL:https://theccbb.com/event/cc-marquee-monday-9/
LOCATION:Coca-Cola Roxy\, 800 Battery Ave SE #500\, Atlanta\, GA\, 30339\, United States
CATEGORIES:Cobb Chamber
END:VEVENT
BEGIN:VEVENT
DTSTART;TZID=America/New_York:20260713T110000
DTEND;TZID=America/New_York:20260713T130000
DTSTAMP:20260419T093420
CREATED:20240806T182358Z
LAST-MODIFIED:20241104T031824Z
UID:10000788-1783940400-1783947600@theccbb.com
SUMMARY:CC: Marquee Monday
DESCRIPTION:Enjoy lunch with more than 300 of Cobb’s business elite at Marquee Monday. \nFor the featured speaker\, ticket costs and to become a member\, please visit: https://cobbchamber.org
URL:https://theccbb.com/event/cc-marquee-monday/2026-07-13/
LOCATION:Coca-Cola Roxy\, 800 Battery Ave SE #500\, Atlanta\, GA\, 30339\, United States
CATEGORIES:Cobb Chamber
END:VEVENT
BEGIN:VEVENT
DTSTART;TZID=America/New_York:20260810T110000
DTEND;TZID=America/New_York:20260810T130000
DTSTAMP:20260419T093420
CREATED:20240806T182358Z
LAST-MODIFIED:20241104T031824Z
UID:10000789-1786359600-1786366800@theccbb.com
SUMMARY:CC: Marquee Monday
DESCRIPTION:Enjoy lunch with more than 300 of Cobb’s business elite at Marquee Monday. \nFor the featured speaker\, ticket costs and to become a member\, please visit: https://cobbchamber.org
URL:https://theccbb.com/event/cc-marquee-monday/2026-08-10/
LOCATION:Coca-Cola Roxy\, 800 Battery Ave SE #500\, Atlanta\, GA\, 30339\, United States
CATEGORIES:Cobb Chamber
END:VEVENT
BEGIN:VEVENT
DTSTART;TZID=America/New_York:20260914T110000
DTEND;TZID=America/New_York:20260914T130000
DTSTAMP:20260419T093420
CREATED:20240806T182358Z
LAST-MODIFIED:20241104T031824Z
UID:10000790-1789383600-1789390800@theccbb.com
SUMMARY:CC: Marquee Monday
DESCRIPTION:Enjoy lunch with more than 300 of Cobb’s business elite at Marquee Monday. \nFor the featured speaker\, ticket costs and to become a member\, please visit: https://cobbchamber.org
URL:https://theccbb.com/event/cc-marquee-monday/2026-09-14/
LOCATION:Coca-Cola Roxy\, 800 Battery Ave SE #500\, Atlanta\, GA\, 30339\, United States
CATEGORIES:Cobb Chamber
END:VEVENT
BEGIN:VEVENT
DTSTART;TZID=America/New_York:20261012T110000
DTEND;TZID=America/New_York:20261012T130000
DTSTAMP:20260419T093420
CREATED:20240806T182358Z
LAST-MODIFIED:20241104T031824Z
UID:10000791-1791802800-1791810000@theccbb.com
SUMMARY:CC: Marquee Monday
DESCRIPTION:Enjoy lunch with more than 300 of Cobb’s business elite at Marquee Monday. \nFor the featured speaker\, ticket costs and to become a member\, please visit: https://cobbchamber.org
URL:https://theccbb.com/event/cc-marquee-monday/2026-10-12/
LOCATION:Coca-Cola Roxy\, 800 Battery Ave SE #500\, Atlanta\, GA\, 30339\, United States
CATEGORIES:Cobb Chamber
END:VEVENT
BEGIN:VEVENT
DTSTART;TZID=America/New_York:20261109T110000
DTEND;TZID=America/New_York:20261109T130000
DTSTAMP:20260419T093420
CREATED:20240806T182358Z
LAST-MODIFIED:20241104T031824Z
UID:10000792-1794222000-1794229200@theccbb.com
SUMMARY:CC: Marquee Monday
DESCRIPTION:Enjoy lunch with more than 300 of Cobb’s business elite at Marquee Monday. \nFor the featured speaker\, ticket costs and to become a member\, please visit: https://cobbchamber.org
URL:https://theccbb.com/event/cc-marquee-monday/2026-11-09/
LOCATION:Coca-Cola Roxy\, 800 Battery Ave SE #500\, Atlanta\, GA\, 30339\, United States
CATEGORIES:Cobb Chamber
END:VEVENT
BEGIN:VEVENT
DTSTART;TZID=America/New_York:20261214T110000
DTEND;TZID=America/New_York:20261214T130000
DTSTAMP:20260419T093420
CREATED:20240806T182358Z
LAST-MODIFIED:20241104T031824Z
UID:10000793-1797246000-1797253200@theccbb.com
SUMMARY:CC: Marquee Monday
DESCRIPTION:Enjoy lunch with more than 300 of Cobb’s business elite at Marquee Monday. \nFor the featured speaker\, ticket costs and to become a member\, please visit: https://cobbchamber.org
URL:https://theccbb.com/event/cc-marquee-monday/2026-12-14/
LOCATION:Coca-Cola Roxy\, 800 Battery Ave SE #500\, Atlanta\, GA\, 30339\, United States
CATEGORIES:Cobb Chamber
END:VEVENT
BEGIN:VEVENT
DTSTART;TZID=America/New_York:20270111T110000
DTEND;TZID=America/New_York:20270111T130000
DTSTAMP:20260419T093420
CREATED:20240806T182358Z
LAST-MODIFIED:20241104T031824Z
UID:10000794-1799665200-1799672400@theccbb.com
SUMMARY:CC: Marquee Monday
DESCRIPTION:Enjoy lunch with more than 300 of Cobb’s business elite at Marquee Monday. \nFor the featured speaker\, ticket costs and to become a member\, please visit: https://cobbchamber.org
URL:https://theccbb.com/event/cc-marquee-monday/2027-01-11/
LOCATION:Coca-Cola Roxy\, 800 Battery Ave SE #500\, Atlanta\, GA\, 30339\, United States
CATEGORIES:Cobb Chamber
END:VEVENT
BEGIN:VEVENT
DTSTART;TZID=America/New_York:20270208T110000
DTEND;TZID=America/New_York:20270208T130000
DTSTAMP:20260419T093420
CREATED:20240806T182358Z
LAST-MODIFIED:20241104T031824Z
UID:10000795-1802084400-1802091600@theccbb.com
SUMMARY:CC: Marquee Monday
DESCRIPTION:Enjoy lunch with more than 300 of Cobb’s business elite at Marquee Monday. \nFor the featured speaker\, ticket costs and to become a member\, please visit: https://cobbchamber.org
URL:https://theccbb.com/event/cc-marquee-monday/2027-02-08/
LOCATION:Coca-Cola Roxy\, 800 Battery Ave SE #500\, Atlanta\, GA\, 30339\, United States
CATEGORIES:Cobb Chamber
END:VEVENT
BEGIN:VEVENT
DTSTART;TZID=America/New_York:20270308T110000
DTEND;TZID=America/New_York:20270308T130000
DTSTAMP:20260419T093420
CREATED:20240806T182358Z
LAST-MODIFIED:20241104T031824Z
UID:10000796-1804503600-1804510800@theccbb.com
SUMMARY:CC: Marquee Monday
DESCRIPTION:Enjoy lunch with more than 300 of Cobb’s business elite at Marquee Monday. \nFor the featured speaker\, ticket costs and to become a member\, please visit: https://cobbchamber.org
URL:https://theccbb.com/event/cc-marquee-monday/2027-03-08/
LOCATION:Coca-Cola Roxy\, 800 Battery Ave SE #500\, Atlanta\, GA\, 30339\, United States
CATEGORIES:Cobb Chamber
END:VEVENT
BEGIN:VEVENT
DTSTART;TZID=America/New_York:20270412T110000
DTEND;TZID=America/New_York:20270412T130000
DTSTAMP:20260419T093420
CREATED:20240806T182358Z
LAST-MODIFIED:20241104T031824Z
UID:10000797-1807527600-1807534800@theccbb.com
SUMMARY:CC: Marquee Monday
DESCRIPTION:Enjoy lunch with more than 300 of Cobb’s business elite at Marquee Monday. \nFor the featured speaker\, ticket costs and to become a member\, please visit: https://cobbchamber.org
URL:https://theccbb.com/event/cc-marquee-monday/2027-04-12/
LOCATION:Coca-Cola Roxy\, 800 Battery Ave SE #500\, Atlanta\, GA\, 30339\, United States
CATEGORIES:Cobb Chamber
END:VEVENT
BEGIN:VEVENT
DTSTART;TZID=America/New_York:20270510T110000
DTEND;TZID=America/New_York:20270510T130000
DTSTAMP:20260419T093420
CREATED:20240806T182358Z
LAST-MODIFIED:20241104T031824Z
UID:10000798-1809946800-1809954000@theccbb.com
SUMMARY:CC: Marquee Monday
DESCRIPTION:Enjoy lunch with more than 300 of Cobb’s business elite at Marquee Monday. \nFor the featured speaker\, ticket costs and to become a member\, please visit: https://cobbchamber.org
URL:https://theccbb.com/event/cc-marquee-monday/2027-05-10/
LOCATION:Coca-Cola Roxy\, 800 Battery Ave SE #500\, Atlanta\, GA\, 30339\, United States
CATEGORIES:Cobb Chamber
END:VEVENT
BEGIN:VEVENT
DTSTART;TZID=America/New_York:20270614T110000
DTEND;TZID=America/New_York:20270614T130000
DTSTAMP:20260419T093420
CREATED:20240806T182358Z
LAST-MODIFIED:20241104T031824Z
UID:10000799-1812970800-1812978000@theccbb.com
SUMMARY:CC: Marquee Monday
DESCRIPTION:Enjoy lunch with more than 300 of Cobb’s business elite at Marquee Monday. \nFor the featured speaker\, ticket costs and to become a member\, please visit: https://cobbchamber.org
URL:https://theccbb.com/event/cc-marquee-monday/2027-06-14/
LOCATION:Coca-Cola Roxy\, 800 Battery Ave SE #500\, Atlanta\, GA\, 30339\, United States
CATEGORIES:Cobb Chamber
END:VEVENT
BEGIN:VEVENT
DTSTART;TZID=America/New_York:20270712T110000
DTEND;TZID=America/New_York:20270712T130000
DTSTAMP:20260419T093420
CREATED:20240806T182358Z
LAST-MODIFIED:20241104T031824Z
UID:10000800-1815390000-1815397200@theccbb.com
SUMMARY:CC: Marquee Monday
DESCRIPTION:Enjoy lunch with more than 300 of Cobb’s business elite at Marquee Monday. \nFor the featured speaker\, ticket costs and to become a member\, please visit: https://cobbchamber.org
URL:https://theccbb.com/event/cc-marquee-monday/2027-07-12/
LOCATION:Coca-Cola Roxy\, 800 Battery Ave SE #500\, Atlanta\, GA\, 30339\, United States
CATEGORIES:Cobb Chamber
END:VEVENT
BEGIN:VEVENT
DTSTART;TZID=America/New_York:20270809T110000
DTEND;TZID=America/New_York:20270809T130000
DTSTAMP:20260419T093420
CREATED:20240806T182358Z
LAST-MODIFIED:20241104T031824Z
UID:10000801-1817809200-1817816400@theccbb.com
SUMMARY:CC: Marquee Monday
DESCRIPTION:Enjoy lunch with more than 300 of Cobb’s business elite at Marquee Monday. \nFor the featured speaker\, ticket costs and to become a member\, please visit: https://cobbchamber.org
URL:https://theccbb.com/event/cc-marquee-monday/2027-08-09/
LOCATION:Coca-Cola Roxy\, 800 Battery Ave SE #500\, Atlanta\, GA\, 30339\, United States
CATEGORIES:Cobb Chamber
END:VEVENT
BEGIN:VEVENT
DTSTART;TZID=America/New_York:20270913T110000
DTEND;TZID=America/New_York:20270913T130000
DTSTAMP:20260419T093420
CREATED:20240806T182358Z
LAST-MODIFIED:20241104T031824Z
UID:10000802-1820833200-1820840400@theccbb.com
SUMMARY:CC: Marquee Monday
DESCRIPTION:Enjoy lunch with more than 300 of Cobb’s business elite at Marquee Monday. \nFor the featured speaker\, ticket costs and to become a member\, please visit: https://cobbchamber.org
URL:https://theccbb.com/event/cc-marquee-monday/2027-09-13/
LOCATION:Coca-Cola Roxy\, 800 Battery Ave SE #500\, Atlanta\, GA\, 30339\, United States
CATEGORIES:Cobb Chamber
END:VEVENT
BEGIN:VEVENT
DTSTART;TZID=America/New_York:20271011T110000
DTEND;TZID=America/New_York:20271011T130000
DTSTAMP:20260419T093420
CREATED:20240806T182358Z
LAST-MODIFIED:20241104T031824Z
UID:10000803-1823252400-1823259600@theccbb.com
SUMMARY:CC: Marquee Monday
DESCRIPTION:Enjoy lunch with more than 300 of Cobb’s business elite at Marquee Monday. \nFor the featured speaker\, ticket costs and to become a member\, please visit: https://cobbchamber.org
URL:https://theccbb.com/event/cc-marquee-monday/2027-10-11/
LOCATION:Coca-Cola Roxy\, 800 Battery Ave SE #500\, Atlanta\, GA\, 30339\, United States
CATEGORIES:Cobb Chamber
END:VEVENT
BEGIN:VEVENT
DTSTART;TZID=America/New_York:20271108T110000
DTEND;TZID=America/New_York:20271108T130000
DTSTAMP:20260419T093420
CREATED:20240806T182358Z
LAST-MODIFIED:20241104T031824Z
UID:10000804-1825671600-1825678800@theccbb.com
SUMMARY:CC: Marquee Monday
DESCRIPTION:Enjoy lunch with more than 300 of Cobb’s business elite at Marquee Monday. \nFor the featured speaker\, ticket costs and to become a member\, please visit: https://cobbchamber.org
URL:https://theccbb.com/event/cc-marquee-monday/2027-11-08/
LOCATION:Coca-Cola Roxy\, 800 Battery Ave SE #500\, Atlanta\, GA\, 30339\, United States
CATEGORIES:Cobb Chamber
END:VEVENT
BEGIN:VEVENT
DTSTART;TZID=America/New_York:20271213T110000
DTEND;TZID=America/New_York:20271213T130000
DTSTAMP:20260419T093420
CREATED:20240806T182358Z
LAST-MODIFIED:20241104T031824Z
UID:10000805-1828695600-1828702800@theccbb.com
SUMMARY:CC: Marquee Monday
DESCRIPTION:Enjoy lunch with more than 300 of Cobb’s business elite at Marquee Monday. \nFor the featured speaker\, ticket costs and to become a member\, please visit: https://cobbchamber.org
URL:https://theccbb.com/event/cc-marquee-monday/2027-12-13/
LOCATION:Coca-Cola Roxy\, 800 Battery Ave SE #500\, Atlanta\, GA\, 30339\, United States
CATEGORIES:Cobb Chamber
END:VEVENT
BEGIN:VEVENT
DTSTART;TZID=America/New_York:20280110T110000
DTEND;TZID=America/New_York:20280110T130000
DTSTAMP:20260419T093420
CREATED:20240806T182358Z
LAST-MODIFIED:20241104T031824Z
UID:10000806-1831114800-1831122000@theccbb.com
SUMMARY:CC: Marquee Monday
DESCRIPTION:Enjoy lunch with more than 300 of Cobb’s business elite at Marquee Monday. \nFor the featured speaker\, ticket costs and to become a member\, please visit: https://cobbchamber.org
URL:https://theccbb.com/event/cc-marquee-monday/2028-01-10/
LOCATION:Coca-Cola Roxy\, 800 Battery Ave SE #500\, Atlanta\, GA\, 30339\, United States
CATEGORIES:Cobb Chamber
END:VEVENT
BEGIN:VEVENT
DTSTART;TZID=America/New_York:20280214T110000
DTEND;TZID=America/New_York:20280214T130000
DTSTAMP:20260419T093420
CREATED:20240806T182358Z
LAST-MODIFIED:20241104T031824Z
UID:10000807-1834138800-1834146000@theccbb.com
SUMMARY:CC: Marquee Monday
DESCRIPTION:Enjoy lunch with more than 300 of Cobb’s business elite at Marquee Monday. \nFor the featured speaker\, ticket costs and to become a member\, please visit: https://cobbchamber.org
URL:https://theccbb.com/event/cc-marquee-monday/2028-02-14/
LOCATION:Coca-Cola Roxy\, 800 Battery Ave SE #500\, Atlanta\, GA\, 30339\, United States
CATEGORIES:Cobb Chamber
END:VEVENT
BEGIN:VEVENT
DTSTART;TZID=America/New_York:20280313T110000
DTEND;TZID=America/New_York:20280313T130000
DTSTAMP:20260419T093420
CREATED:20240806T182358Z
LAST-MODIFIED:20241104T031824Z
UID:10000808-1836558000-1836565200@theccbb.com
SUMMARY:CC: Marquee Monday
DESCRIPTION:Enjoy lunch with more than 300 of Cobb’s business elite at Marquee Monday. \nFor the featured speaker\, ticket costs and to become a member\, please visit: https://cobbchamber.org
URL:https://theccbb.com/event/cc-marquee-monday/2028-03-13/
LOCATION:Coca-Cola Roxy\, 800 Battery Ave SE #500\, Atlanta\, GA\, 30339\, United States
CATEGORIES:Cobb Chamber
END:VEVENT
BEGIN:VEVENT
DTSTART;TZID=America/New_York:20280410T110000
DTEND;TZID=America/New_York:20280410T130000
DTSTAMP:20260419T093420
CREATED:20240806T182358Z
LAST-MODIFIED:20241104T031824Z
UID:10000809-1838977200-1838984400@theccbb.com
SUMMARY:CC: Marquee Monday
DESCRIPTION:Enjoy lunch with more than 300 of Cobb’s business elite at Marquee Monday. \nFor the featured speaker\, ticket costs and to become a member\, please visit: https://cobbchamber.org
URL:https://theccbb.com/event/cc-marquee-monday/2028-04-10/
LOCATION:Coca-Cola Roxy\, 800 Battery Ave SE #500\, Atlanta\, GA\, 30339\, United States
CATEGORIES:Cobb Chamber
END:VEVENT
BEGIN:VEVENT
DTSTART;TZID=America/New_York:20280508T110000
DTEND;TZID=America/New_York:20280508T130000
DTSTAMP:20260419T093420
CREATED:20240806T182358Z
LAST-MODIFIED:20241104T031824Z
UID:10000810-1841396400-1841403600@theccbb.com
SUMMARY:CC: Marquee Monday
DESCRIPTION:Enjoy lunch with more than 300 of Cobb’s business elite at Marquee Monday. \nFor the featured speaker\, ticket costs and to become a member\, please visit: https://cobbchamber.org
URL:https://theccbb.com/event/cc-marquee-monday/2028-05-08/
LOCATION:Coca-Cola Roxy\, 800 Battery Ave SE #500\, Atlanta\, GA\, 30339\, United States
CATEGORIES:Cobb Chamber
END:VEVENT
BEGIN:VEVENT
DTSTART;TZID=America/New_York:20280612T110000
DTEND;TZID=America/New_York:20280612T130000
DTSTAMP:20260419T093420
CREATED:20240806T182358Z
LAST-MODIFIED:20241104T031824Z
UID:10000811-1844420400-1844427600@theccbb.com
SUMMARY:CC: Marquee Monday
DESCRIPTION:Enjoy lunch with more than 300 of Cobb’s business elite at Marquee Monday. \nFor the featured speaker\, ticket costs and to become a member\, please visit: https://cobbchamber.org
URL:https://theccbb.com/event/cc-marquee-monday/2028-06-12/
LOCATION:Coca-Cola Roxy\, 800 Battery Ave SE #500\, Atlanta\, GA\, 30339\, United States
CATEGORIES:Cobb Chamber
END:VEVENT
BEGIN:VEVENT
DTSTART;TZID=America/New_York:20280710T110000
DTEND;TZID=America/New_York:20280710T130000
DTSTAMP:20260419T093420
CREATED:20240806T182358Z
LAST-MODIFIED:20241104T031824Z
UID:10000812-1846839600-1846846800@theccbb.com
SUMMARY:CC: Marquee Monday
DESCRIPTION:Enjoy lunch with more than 300 of Cobb’s business elite at Marquee Monday. \nFor the featured speaker\, ticket costs and to become a member\, please visit: https://cobbchamber.org
URL:https://theccbb.com/event/cc-marquee-monday/2028-07-10/
LOCATION:Coca-Cola Roxy\, 800 Battery Ave SE #500\, Atlanta\, GA\, 30339\, United States
CATEGORIES:Cobb Chamber
END:VEVENT
BEGIN:VEVENT
DTSTART;TZID=America/New_York:20280814T110000
DTEND;TZID=America/New_York:20280814T130000
DTSTAMP:20260419T093420
CREATED:20240806T182358Z
LAST-MODIFIED:20241104T031824Z
UID:10000813-1849863600-1849870800@theccbb.com
SUMMARY:CC: Marquee Monday
DESCRIPTION:Enjoy lunch with more than 300 of Cobb’s business elite at Marquee Monday. \nFor the featured speaker\, ticket costs and to become a member\, please visit: https://cobbchamber.org
URL:https://theccbb.com/event/cc-marquee-monday/2028-08-14/
LOCATION:Coca-Cola Roxy\, 800 Battery Ave SE #500\, Atlanta\, GA\, 30339\, United States
CATEGORIES:Cobb Chamber
END:VEVENT
END:VCALENDAR