BEGIN:VCALENDAR
VERSION:2.0
PRODID:-//Cobb County Business Bootcamp - ECPv6.15.18//NONSGML v1.0//EN
CALSCALE:GREGORIAN
METHOD:PUBLISH
X-WR-CALNAME:Cobb County Business Bootcamp
X-ORIGINAL-URL:https://theccbb.com
X-WR-CALDESC:Events for Cobb County Business Bootcamp
REFRESH-INTERVAL;VALUE=DURATION:PT1H
X-Robots-Tag:noindex
X-PUBLISHED-TTL:PT1H
BEGIN:VTIMEZONE
TZID:America/New_York
BEGIN:DAYLIGHT
TZOFFSETFROM:-0500
TZOFFSETTO:-0400
TZNAME:EDT
DTSTART:20260308T070000
END:DAYLIGHT
BEGIN:STANDARD
TZOFFSETFROM:-0400
TZOFFSETTO:-0500
TZNAME:EST
DTSTART:20261101T060000
END:STANDARD
BEGIN:DAYLIGHT
TZOFFSETFROM:-0500
TZOFFSETTO:-0400
TZNAME:EDT
DTSTART:20270314T070000
END:DAYLIGHT
BEGIN:STANDARD
TZOFFSETFROM:-0400
TZOFFSETTO:-0500
TZNAME:EST
DTSTART:20271107T060000
END:STANDARD
BEGIN:DAYLIGHT
TZOFFSETFROM:-0500
TZOFFSETTO:-0400
TZNAME:EDT
DTSTART:20280312T070000
END:DAYLIGHT
BEGIN:STANDARD
TZOFFSETFROM:-0400
TZOFFSETTO:-0500
TZNAME:EST
DTSTART:20281105T060000
END:STANDARD
END:VTIMEZONE
BEGIN:VEVENT
DTSTART;TZID=America/New_York:20270312T073000
DTEND;TZID=America/New_York:20270312T083000
DTSTAMP:20260424T150517
CREATED:20240806T175616Z
LAST-MODIFIED:20250519T210149Z
UID:10004228-1804836600-1804840200@theccbb.com
SUMMARY:ECBA: ECON Open Networking
DESCRIPTION:
URL:https://theccbb.com/event/ecba-econ-open-networking/2027-03-12/
LOCATION:IHOP\, 3130 Johnson Ferry Rd.\, Marietta\, GA\, 30062\, United States
CATEGORIES:East Cobb Business Association
END:VEVENT
BEGIN:VEVENT
DTSTART;TZID=America/New_York:20270319T073000
DTEND;TZID=America/New_York:20270319T083000
DTSTAMP:20260424T150517
CREATED:20240806T175616Z
LAST-MODIFIED:20250519T210149Z
UID:10004229-1805441400-1805445000@theccbb.com
SUMMARY:ECBA: ECON Open Networking
DESCRIPTION:
URL:https://theccbb.com/event/ecba-econ-open-networking/2027-03-19/
LOCATION:IHOP\, 3130 Johnson Ferry Rd.\, Marietta\, GA\, 30062\, United States
CATEGORIES:East Cobb Business Association
END:VEVENT
BEGIN:VEVENT
DTSTART;TZID=America/New_York:20270326T073000
DTEND;TZID=America/New_York:20270326T083000
DTSTAMP:20260424T150517
CREATED:20240806T175616Z
LAST-MODIFIED:20250519T210149Z
UID:10004230-1806046200-1806049800@theccbb.com
SUMMARY:ECBA: ECON Open Networking
DESCRIPTION:
URL:https://theccbb.com/event/ecba-econ-open-networking/2027-03-26/
LOCATION:IHOP\, 3130 Johnson Ferry Rd.\, Marietta\, GA\, 30062\, United States
CATEGORIES:East Cobb Business Association
END:VEVENT
BEGIN:VEVENT
DTSTART;TZID=America/New_York:20270402T073000
DTEND;TZID=America/New_York:20270402T083000
DTSTAMP:20260424T150517
CREATED:20240806T175616Z
LAST-MODIFIED:20250519T210149Z
UID:10004231-1806651000-1806654600@theccbb.com
SUMMARY:ECBA: ECON Open Networking
DESCRIPTION:
URL:https://theccbb.com/event/ecba-econ-open-networking/2027-04-02/
LOCATION:IHOP\, 3130 Johnson Ferry Rd.\, Marietta\, GA\, 30062\, United States
CATEGORIES:East Cobb Business Association
END:VEVENT
BEGIN:VEVENT
DTSTART;TZID=America/New_York:20270409T073000
DTEND;TZID=America/New_York:20270409T083000
DTSTAMP:20260424T150517
CREATED:20240806T175616Z
LAST-MODIFIED:20250519T210149Z
UID:10004232-1807255800-1807259400@theccbb.com
SUMMARY:ECBA: ECON Open Networking
DESCRIPTION:
URL:https://theccbb.com/event/ecba-econ-open-networking/2027-04-09/
LOCATION:IHOP\, 3130 Johnson Ferry Rd.\, Marietta\, GA\, 30062\, United States
CATEGORIES:East Cobb Business Association
END:VEVENT
BEGIN:VEVENT
DTSTART;TZID=America/New_York:20270416T073000
DTEND;TZID=America/New_York:20270416T083000
DTSTAMP:20260424T150517
CREATED:20240806T175616Z
LAST-MODIFIED:20250519T210149Z
UID:10004233-1807860600-1807864200@theccbb.com
SUMMARY:ECBA: ECON Open Networking
DESCRIPTION:
URL:https://theccbb.com/event/ecba-econ-open-networking/2027-04-16/
LOCATION:IHOP\, 3130 Johnson Ferry Rd.\, Marietta\, GA\, 30062\, United States
CATEGORIES:East Cobb Business Association
END:VEVENT
BEGIN:VEVENT
DTSTART;TZID=America/New_York:20270423T073000
DTEND;TZID=America/New_York:20270423T083000
DTSTAMP:20260424T150517
CREATED:20240806T175616Z
LAST-MODIFIED:20250519T210149Z
UID:10004234-1808465400-1808469000@theccbb.com
SUMMARY:ECBA: ECON Open Networking
DESCRIPTION:
URL:https://theccbb.com/event/ecba-econ-open-networking/2027-04-23/
LOCATION:IHOP\, 3130 Johnson Ferry Rd.\, Marietta\, GA\, 30062\, United States
CATEGORIES:East Cobb Business Association
END:VEVENT
BEGIN:VEVENT
DTSTART;TZID=America/New_York:20270430T073000
DTEND;TZID=America/New_York:20270430T083000
DTSTAMP:20260424T150517
CREATED:20240806T175616Z
LAST-MODIFIED:20250519T210149Z
UID:10004235-1809070200-1809073800@theccbb.com
SUMMARY:ECBA: ECON Open Networking
DESCRIPTION:
URL:https://theccbb.com/event/ecba-econ-open-networking/2027-04-30/
LOCATION:IHOP\, 3130 Johnson Ferry Rd.\, Marietta\, GA\, 30062\, United States
CATEGORIES:East Cobb Business Association
END:VEVENT
BEGIN:VEVENT
DTSTART;TZID=America/New_York:20270507T073000
DTEND;TZID=America/New_York:20270507T083000
DTSTAMP:20260424T150517
CREATED:20240806T175616Z
LAST-MODIFIED:20250519T210149Z
UID:10004236-1809675000-1809678600@theccbb.com
SUMMARY:ECBA: ECON Open Networking
DESCRIPTION:
URL:https://theccbb.com/event/ecba-econ-open-networking/2027-05-07/
LOCATION:IHOP\, 3130 Johnson Ferry Rd.\, Marietta\, GA\, 30062\, United States
CATEGORIES:East Cobb Business Association
END:VEVENT
BEGIN:VEVENT
DTSTART;TZID=America/New_York:20270514T073000
DTEND;TZID=America/New_York:20270514T083000
DTSTAMP:20260424T150517
CREATED:20240806T175616Z
LAST-MODIFIED:20250519T210149Z
UID:10004237-1810279800-1810283400@theccbb.com
SUMMARY:ECBA: ECON Open Networking
DESCRIPTION:
URL:https://theccbb.com/event/ecba-econ-open-networking/2027-05-14/
LOCATION:IHOP\, 3130 Johnson Ferry Rd.\, Marietta\, GA\, 30062\, United States
CATEGORIES:East Cobb Business Association
END:VEVENT
BEGIN:VEVENT
DTSTART;TZID=America/New_York:20270521T073000
DTEND;TZID=America/New_York:20270521T083000
DTSTAMP:20260424T150517
CREATED:20240806T175616Z
LAST-MODIFIED:20250519T210149Z
UID:10004238-1810884600-1810888200@theccbb.com
SUMMARY:ECBA: ECON Open Networking
DESCRIPTION:
URL:https://theccbb.com/event/ecba-econ-open-networking/2027-05-21/
LOCATION:IHOP\, 3130 Johnson Ferry Rd.\, Marietta\, GA\, 30062\, United States
CATEGORIES:East Cobb Business Association
END:VEVENT
BEGIN:VEVENT
DTSTART;TZID=America/New_York:20270528T073000
DTEND;TZID=America/New_York:20270528T083000
DTSTAMP:20260424T150517
CREATED:20240806T175616Z
LAST-MODIFIED:20250519T210149Z
UID:10004239-1811489400-1811493000@theccbb.com
SUMMARY:ECBA: ECON Open Networking
DESCRIPTION:
URL:https://theccbb.com/event/ecba-econ-open-networking/2027-05-28/
LOCATION:IHOP\, 3130 Johnson Ferry Rd.\, Marietta\, GA\, 30062\, United States
CATEGORIES:East Cobb Business Association
END:VEVENT
BEGIN:VEVENT
DTSTART;TZID=America/New_York:20270604T073000
DTEND;TZID=America/New_York:20270604T083000
DTSTAMP:20260424T150517
CREATED:20240806T175616Z
LAST-MODIFIED:20250519T210149Z
UID:10004240-1812094200-1812097800@theccbb.com
SUMMARY:ECBA: ECON Open Networking
DESCRIPTION:
URL:https://theccbb.com/event/ecba-econ-open-networking/2027-06-04/
LOCATION:IHOP\, 3130 Johnson Ferry Rd.\, Marietta\, GA\, 30062\, United States
CATEGORIES:East Cobb Business Association
END:VEVENT
BEGIN:VEVENT
DTSTART;TZID=America/New_York:20270611T073000
DTEND;TZID=America/New_York:20270611T083000
DTSTAMP:20260424T150517
CREATED:20240806T175616Z
LAST-MODIFIED:20250519T210149Z
UID:10004241-1812699000-1812702600@theccbb.com
SUMMARY:ECBA: ECON Open Networking
DESCRIPTION:
URL:https://theccbb.com/event/ecba-econ-open-networking/2027-06-11/
LOCATION:IHOP\, 3130 Johnson Ferry Rd.\, Marietta\, GA\, 30062\, United States
CATEGORIES:East Cobb Business Association
END:VEVENT
BEGIN:VEVENT
DTSTART;TZID=America/New_York:20270618T073000
DTEND;TZID=America/New_York:20270618T083000
DTSTAMP:20260424T150517
CREATED:20240806T175616Z
LAST-MODIFIED:20250519T210149Z
UID:10004242-1813303800-1813307400@theccbb.com
SUMMARY:ECBA: ECON Open Networking
DESCRIPTION:
URL:https://theccbb.com/event/ecba-econ-open-networking/2027-06-18/
LOCATION:IHOP\, 3130 Johnson Ferry Rd.\, Marietta\, GA\, 30062\, United States
CATEGORIES:East Cobb Business Association
END:VEVENT
BEGIN:VEVENT
DTSTART;TZID=America/New_York:20270625T073000
DTEND;TZID=America/New_York:20270625T083000
DTSTAMP:20260424T150517
CREATED:20240806T175616Z
LAST-MODIFIED:20250519T210149Z
UID:10004243-1813908600-1813912200@theccbb.com
SUMMARY:ECBA: ECON Open Networking
DESCRIPTION:
URL:https://theccbb.com/event/ecba-econ-open-networking/2027-06-25/
LOCATION:IHOP\, 3130 Johnson Ferry Rd.\, Marietta\, GA\, 30062\, United States
CATEGORIES:East Cobb Business Association
END:VEVENT
BEGIN:VEVENT
DTSTART;TZID=America/New_York:20270702T073000
DTEND;TZID=America/New_York:20270702T083000
DTSTAMP:20260424T150517
CREATED:20240806T175616Z
LAST-MODIFIED:20250519T210149Z
UID:10004244-1814513400-1814517000@theccbb.com
SUMMARY:ECBA: ECON Open Networking
DESCRIPTION:
URL:https://theccbb.com/event/ecba-econ-open-networking/2027-07-02/
LOCATION:IHOP\, 3130 Johnson Ferry Rd.\, Marietta\, GA\, 30062\, United States
CATEGORIES:East Cobb Business Association
END:VEVENT
BEGIN:VEVENT
DTSTART;TZID=America/New_York:20270709T073000
DTEND;TZID=America/New_York:20270709T083000
DTSTAMP:20260424T150517
CREATED:20240806T175616Z
LAST-MODIFIED:20250519T210149Z
UID:10004245-1815118200-1815121800@theccbb.com
SUMMARY:ECBA: ECON Open Networking
DESCRIPTION:
URL:https://theccbb.com/event/ecba-econ-open-networking/2027-07-09/
LOCATION:IHOP\, 3130 Johnson Ferry Rd.\, Marietta\, GA\, 30062\, United States
CATEGORIES:East Cobb Business Association
END:VEVENT
BEGIN:VEVENT
DTSTART;TZID=America/New_York:20270716T073000
DTEND;TZID=America/New_York:20270716T083000
DTSTAMP:20260424T150517
CREATED:20240806T175616Z
LAST-MODIFIED:20250519T210149Z
UID:10004246-1815723000-1815726600@theccbb.com
SUMMARY:ECBA: ECON Open Networking
DESCRIPTION:
URL:https://theccbb.com/event/ecba-econ-open-networking/2027-07-16/
LOCATION:IHOP\, 3130 Johnson Ferry Rd.\, Marietta\, GA\, 30062\, United States
CATEGORIES:East Cobb Business Association
END:VEVENT
BEGIN:VEVENT
DTSTART;TZID=America/New_York:20270723T073000
DTEND;TZID=America/New_York:20270723T083000
DTSTAMP:20260424T150517
CREATED:20240806T175616Z
LAST-MODIFIED:20250519T210149Z
UID:10004247-1816327800-1816331400@theccbb.com
SUMMARY:ECBA: ECON Open Networking
DESCRIPTION:
URL:https://theccbb.com/event/ecba-econ-open-networking/2027-07-23/
LOCATION:IHOP\, 3130 Johnson Ferry Rd.\, Marietta\, GA\, 30062\, United States
CATEGORIES:East Cobb Business Association
END:VEVENT
BEGIN:VEVENT
DTSTART;TZID=America/New_York:20270730T073000
DTEND;TZID=America/New_York:20270730T083000
DTSTAMP:20260424T150517
CREATED:20240806T175616Z
LAST-MODIFIED:20250519T210149Z
UID:10004248-1816932600-1816936200@theccbb.com
SUMMARY:ECBA: ECON Open Networking
DESCRIPTION:
URL:https://theccbb.com/event/ecba-econ-open-networking/2027-07-30/
LOCATION:IHOP\, 3130 Johnson Ferry Rd.\, Marietta\, GA\, 30062\, United States
CATEGORIES:East Cobb Business Association
END:VEVENT
BEGIN:VEVENT
DTSTART;TZID=America/New_York:20270806T073000
DTEND;TZID=America/New_York:20270806T083000
DTSTAMP:20260424T150517
CREATED:20240806T175616Z
LAST-MODIFIED:20250519T210149Z
UID:10004249-1817537400-1817541000@theccbb.com
SUMMARY:ECBA: ECON Open Networking
DESCRIPTION:
URL:https://theccbb.com/event/ecba-econ-open-networking/2027-08-06/
LOCATION:IHOP\, 3130 Johnson Ferry Rd.\, Marietta\, GA\, 30062\, United States
CATEGORIES:East Cobb Business Association
END:VEVENT
BEGIN:VEVENT
DTSTART;TZID=America/New_York:20270813T073000
DTEND;TZID=America/New_York:20270813T083000
DTSTAMP:20260424T150517
CREATED:20240806T175616Z
LAST-MODIFIED:20250519T210149Z
UID:10004250-1818142200-1818145800@theccbb.com
SUMMARY:ECBA: ECON Open Networking
DESCRIPTION:
URL:https://theccbb.com/event/ecba-econ-open-networking/2027-08-13/
LOCATION:IHOP\, 3130 Johnson Ferry Rd.\, Marietta\, GA\, 30062\, United States
CATEGORIES:East Cobb Business Association
END:VEVENT
BEGIN:VEVENT
DTSTART;TZID=America/New_York:20270820T073000
DTEND;TZID=America/New_York:20270820T083000
DTSTAMP:20260424T150517
CREATED:20240806T175616Z
LAST-MODIFIED:20250519T210149Z
UID:10004251-1818747000-1818750600@theccbb.com
SUMMARY:ECBA: ECON Open Networking
DESCRIPTION:
URL:https://theccbb.com/event/ecba-econ-open-networking/2027-08-20/
LOCATION:IHOP\, 3130 Johnson Ferry Rd.\, Marietta\, GA\, 30062\, United States
CATEGORIES:East Cobb Business Association
END:VEVENT
BEGIN:VEVENT
DTSTART;TZID=America/New_York:20270827T073000
DTEND;TZID=America/New_York:20270827T083000
DTSTAMP:20260424T150517
CREATED:20240806T175616Z
LAST-MODIFIED:20250519T210149Z
UID:10004252-1819351800-1819355400@theccbb.com
SUMMARY:ECBA: ECON Open Networking
DESCRIPTION:
URL:https://theccbb.com/event/ecba-econ-open-networking/2027-08-27/
LOCATION:IHOP\, 3130 Johnson Ferry Rd.\, Marietta\, GA\, 30062\, United States
CATEGORIES:East Cobb Business Association
END:VEVENT
BEGIN:VEVENT
DTSTART;TZID=America/New_York:20270903T073000
DTEND;TZID=America/New_York:20270903T083000
DTSTAMP:20260424T150517
CREATED:20240806T175616Z
LAST-MODIFIED:20250519T210149Z
UID:10004253-1819956600-1819960200@theccbb.com
SUMMARY:ECBA: ECON Open Networking
DESCRIPTION:
URL:https://theccbb.com/event/ecba-econ-open-networking/2027-09-03/
LOCATION:IHOP\, 3130 Johnson Ferry Rd.\, Marietta\, GA\, 30062\, United States
CATEGORIES:East Cobb Business Association
END:VEVENT
BEGIN:VEVENT
DTSTART;TZID=America/New_York:20270910T073000
DTEND;TZID=America/New_York:20270910T083000
DTSTAMP:20260424T150517
CREATED:20240806T175616Z
LAST-MODIFIED:20250519T210149Z
UID:10004254-1820561400-1820565000@theccbb.com
SUMMARY:ECBA: ECON Open Networking
DESCRIPTION:
URL:https://theccbb.com/event/ecba-econ-open-networking/2027-09-10/
LOCATION:IHOP\, 3130 Johnson Ferry Rd.\, Marietta\, GA\, 30062\, United States
CATEGORIES:East Cobb Business Association
END:VEVENT
BEGIN:VEVENT
DTSTART;TZID=America/New_York:20270917T073000
DTEND;TZID=America/New_York:20270917T083000
DTSTAMP:20260424T150517
CREATED:20240806T175616Z
LAST-MODIFIED:20250519T210149Z
UID:10004255-1821166200-1821169800@theccbb.com
SUMMARY:ECBA: ECON Open Networking
DESCRIPTION:
URL:https://theccbb.com/event/ecba-econ-open-networking/2027-09-17/
LOCATION:IHOP\, 3130 Johnson Ferry Rd.\, Marietta\, GA\, 30062\, United States
CATEGORIES:East Cobb Business Association
END:VEVENT
BEGIN:VEVENT
DTSTART;TZID=America/New_York:20270924T073000
DTEND;TZID=America/New_York:20270924T083000
DTSTAMP:20260424T150517
CREATED:20240806T175616Z
LAST-MODIFIED:20250519T210149Z
UID:10004256-1821771000-1821774600@theccbb.com
SUMMARY:ECBA: ECON Open Networking
DESCRIPTION:
URL:https://theccbb.com/event/ecba-econ-open-networking/2027-09-24/
LOCATION:IHOP\, 3130 Johnson Ferry Rd.\, Marietta\, GA\, 30062\, United States
CATEGORIES:East Cobb Business Association
END:VEVENT
BEGIN:VEVENT
DTSTART;TZID=America/New_York:20271001T073000
DTEND;TZID=America/New_York:20271001T083000
DTSTAMP:20260424T150517
CREATED:20240806T175616Z
LAST-MODIFIED:20250519T210149Z
UID:10004257-1822375800-1822379400@theccbb.com
SUMMARY:ECBA: ECON Open Networking
DESCRIPTION:
URL:https://theccbb.com/event/ecba-econ-open-networking/2027-10-01/
LOCATION:IHOP\, 3130 Johnson Ferry Rd.\, Marietta\, GA\, 30062\, United States
CATEGORIES:East Cobb Business Association
END:VEVENT
END:VCALENDAR