BEGIN:VCALENDAR
VERSION:2.0
PRODID:-//Cobb County Business Bootcamp - ECPv6.15.18//NONSGML v1.0//EN
CALSCALE:GREGORIAN
METHOD:PUBLISH
X-WR-CALNAME:Cobb County Business Bootcamp
X-ORIGINAL-URL:https://theccbb.com
X-WR-CALDESC:Events for Cobb County Business Bootcamp
REFRESH-INTERVAL;VALUE=DURATION:PT1H
X-Robots-Tag:noindex
X-PUBLISHED-TTL:PT1H
BEGIN:VTIMEZONE
TZID:America/New_York
BEGIN:DAYLIGHT
TZOFFSETFROM:-0500
TZOFFSETTO:-0400
TZNAME:EDT
DTSTART:20260308T070000
END:DAYLIGHT
BEGIN:STANDARD
TZOFFSETFROM:-0400
TZOFFSETTO:-0500
TZNAME:EST
DTSTART:20261101T060000
END:STANDARD
BEGIN:DAYLIGHT
TZOFFSETFROM:-0500
TZOFFSETTO:-0400
TZNAME:EDT
DTSTART:20270314T070000
END:DAYLIGHT
BEGIN:STANDARD
TZOFFSETFROM:-0400
TZOFFSETTO:-0500
TZNAME:EST
DTSTART:20271107T060000
END:STANDARD
BEGIN:DAYLIGHT
TZOFFSETFROM:-0500
TZOFFSETTO:-0400
TZNAME:EDT
DTSTART:20280312T070000
END:DAYLIGHT
BEGIN:STANDARD
TZOFFSETFROM:-0400
TZOFFSETTO:-0500
TZNAME:EST
DTSTART:20281105T060000
END:STANDARD
BEGIN:DAYLIGHT
TZOFFSETFROM:-0500
TZOFFSETTO:-0400
TZNAME:EDT
DTSTART:20290311T070000
END:DAYLIGHT
BEGIN:STANDARD
TZOFFSETFROM:-0400
TZOFFSETTO:-0500
TZNAME:EST
DTSTART:20291104T060000
END:STANDARD
END:VTIMEZONE
BEGIN:VEVENT
DTSTART;TZID=America/New_York:20271008T073000
DTEND;TZID=America/New_York:20271008T083000
DTSTAMP:20260424T203205
CREATED:20240806T175616Z
LAST-MODIFIED:20250519T210149Z
UID:10004258-1822980600-1822984200@theccbb.com
SUMMARY:ECBA: ECON Open Networking
DESCRIPTION:
URL:https://theccbb.com/event/ecba-econ-open-networking/2027-10-08/
LOCATION:IHOP\, 3130 Johnson Ferry Rd.\, Marietta\, GA\, 30062\, United States
CATEGORIES:East Cobb Business Association
END:VEVENT
BEGIN:VEVENT
DTSTART;TZID=America/New_York:20271015T073000
DTEND;TZID=America/New_York:20271015T083000
DTSTAMP:20260424T203205
CREATED:20240806T175616Z
LAST-MODIFIED:20250519T210149Z
UID:10004259-1823585400-1823589000@theccbb.com
SUMMARY:ECBA: ECON Open Networking
DESCRIPTION:
URL:https://theccbb.com/event/ecba-econ-open-networking/2027-10-15/
LOCATION:IHOP\, 3130 Johnson Ferry Rd.\, Marietta\, GA\, 30062\, United States
CATEGORIES:East Cobb Business Association
END:VEVENT
BEGIN:VEVENT
DTSTART;TZID=America/New_York:20271022T073000
DTEND;TZID=America/New_York:20271022T083000
DTSTAMP:20260424T203205
CREATED:20240806T175616Z
LAST-MODIFIED:20250519T210149Z
UID:10004260-1824190200-1824193800@theccbb.com
SUMMARY:ECBA: ECON Open Networking
DESCRIPTION:
URL:https://theccbb.com/event/ecba-econ-open-networking/2027-10-22/
LOCATION:IHOP\, 3130 Johnson Ferry Rd.\, Marietta\, GA\, 30062\, United States
CATEGORIES:East Cobb Business Association
END:VEVENT
BEGIN:VEVENT
DTSTART;TZID=America/New_York:20271029T073000
DTEND;TZID=America/New_York:20271029T083000
DTSTAMP:20260424T203205
CREATED:20240806T175616Z
LAST-MODIFIED:20250519T210149Z
UID:10004261-1824795000-1824798600@theccbb.com
SUMMARY:ECBA: ECON Open Networking
DESCRIPTION:
URL:https://theccbb.com/event/ecba-econ-open-networking/2027-10-29/
LOCATION:IHOP\, 3130 Johnson Ferry Rd.\, Marietta\, GA\, 30062\, United States
CATEGORIES:East Cobb Business Association
END:VEVENT
BEGIN:VEVENT
DTSTART;TZID=America/New_York:20271105T073000
DTEND;TZID=America/New_York:20271105T083000
DTSTAMP:20260424T203205
CREATED:20240806T175616Z
LAST-MODIFIED:20250519T210149Z
UID:10004262-1825399800-1825403400@theccbb.com
SUMMARY:ECBA: ECON Open Networking
DESCRIPTION:
URL:https://theccbb.com/event/ecba-econ-open-networking/2027-11-05/
LOCATION:IHOP\, 3130 Johnson Ferry Rd.\, Marietta\, GA\, 30062\, United States
CATEGORIES:East Cobb Business Association
END:VEVENT
BEGIN:VEVENT
DTSTART;TZID=America/New_York:20271112T073000
DTEND;TZID=America/New_York:20271112T083000
DTSTAMP:20260424T203205
CREATED:20240806T175616Z
LAST-MODIFIED:20250519T210149Z
UID:10004263-1826004600-1826008200@theccbb.com
SUMMARY:ECBA: ECON Open Networking
DESCRIPTION:
URL:https://theccbb.com/event/ecba-econ-open-networking/2027-11-12/
LOCATION:IHOP\, 3130 Johnson Ferry Rd.\, Marietta\, GA\, 30062\, United States
CATEGORIES:East Cobb Business Association
END:VEVENT
BEGIN:VEVENT
DTSTART;TZID=America/New_York:20271119T073000
DTEND;TZID=America/New_York:20271119T083000
DTSTAMP:20260424T203205
CREATED:20240806T175616Z
LAST-MODIFIED:20250519T210149Z
UID:10004264-1826609400-1826613000@theccbb.com
SUMMARY:ECBA: ECON Open Networking
DESCRIPTION:
URL:https://theccbb.com/event/ecba-econ-open-networking/2027-11-19/
LOCATION:IHOP\, 3130 Johnson Ferry Rd.\, Marietta\, GA\, 30062\, United States
CATEGORIES:East Cobb Business Association
END:VEVENT
BEGIN:VEVENT
DTSTART;TZID=America/New_York:20271126T073000
DTEND;TZID=America/New_York:20271126T083000
DTSTAMP:20260424T203205
CREATED:20240806T175616Z
LAST-MODIFIED:20250519T210149Z
UID:10004265-1827214200-1827217800@theccbb.com
SUMMARY:ECBA: ECON Open Networking
DESCRIPTION:
URL:https://theccbb.com/event/ecba-econ-open-networking/2027-11-26/
LOCATION:IHOP\, 3130 Johnson Ferry Rd.\, Marietta\, GA\, 30062\, United States
CATEGORIES:East Cobb Business Association
END:VEVENT
BEGIN:VEVENT
DTSTART;TZID=America/New_York:20271203T073000
DTEND;TZID=America/New_York:20271203T083000
DTSTAMP:20260424T203205
CREATED:20240806T175616Z
LAST-MODIFIED:20250519T210149Z
UID:10004266-1827819000-1827822600@theccbb.com
SUMMARY:ECBA: ECON Open Networking
DESCRIPTION:
URL:https://theccbb.com/event/ecba-econ-open-networking/2027-12-03/
LOCATION:IHOP\, 3130 Johnson Ferry Rd.\, Marietta\, GA\, 30062\, United States
CATEGORIES:East Cobb Business Association
END:VEVENT
BEGIN:VEVENT
DTSTART;TZID=America/New_York:20271210T073000
DTEND;TZID=America/New_York:20271210T083000
DTSTAMP:20260424T203205
CREATED:20240806T175616Z
LAST-MODIFIED:20250519T210149Z
UID:10004267-1828423800-1828427400@theccbb.com
SUMMARY:ECBA: ECON Open Networking
DESCRIPTION:
URL:https://theccbb.com/event/ecba-econ-open-networking/2027-12-10/
LOCATION:IHOP\, 3130 Johnson Ferry Rd.\, Marietta\, GA\, 30062\, United States
CATEGORIES:East Cobb Business Association
END:VEVENT
BEGIN:VEVENT
DTSTART;TZID=America/New_York:20271217T073000
DTEND;TZID=America/New_York:20271217T083000
DTSTAMP:20260424T203205
CREATED:20240806T175616Z
LAST-MODIFIED:20250519T210149Z
UID:10004268-1829028600-1829032200@theccbb.com
SUMMARY:ECBA: ECON Open Networking
DESCRIPTION:
URL:https://theccbb.com/event/ecba-econ-open-networking/2027-12-17/
LOCATION:IHOP\, 3130 Johnson Ferry Rd.\, Marietta\, GA\, 30062\, United States
CATEGORIES:East Cobb Business Association
END:VEVENT
BEGIN:VEVENT
DTSTART;TZID=America/New_York:20271224T073000
DTEND;TZID=America/New_York:20271224T083000
DTSTAMP:20260424T203205
CREATED:20240806T175616Z
LAST-MODIFIED:20250519T210149Z
UID:10004269-1829633400-1829637000@theccbb.com
SUMMARY:ECBA: ECON Open Networking
DESCRIPTION:
URL:https://theccbb.com/event/ecba-econ-open-networking/2027-12-24/
LOCATION:IHOP\, 3130 Johnson Ferry Rd.\, Marietta\, GA\, 30062\, United States
CATEGORIES:East Cobb Business Association
END:VEVENT
BEGIN:VEVENT
DTSTART;TZID=America/New_York:20271231T073000
DTEND;TZID=America/New_York:20271231T083000
DTSTAMP:20260424T203205
CREATED:20240806T175616Z
LAST-MODIFIED:20250519T210149Z
UID:10004270-1830238200-1830241800@theccbb.com
SUMMARY:ECBA: ECON Open Networking
DESCRIPTION:
URL:https://theccbb.com/event/ecba-econ-open-networking/2027-12-31/
LOCATION:IHOP\, 3130 Johnson Ferry Rd.\, Marietta\, GA\, 30062\, United States
CATEGORIES:East Cobb Business Association
END:VEVENT
BEGIN:VEVENT
DTSTART;TZID=America/New_York:20280107T073000
DTEND;TZID=America/New_York:20280107T083000
DTSTAMP:20260424T203205
CREATED:20240806T175616Z
LAST-MODIFIED:20250519T210149Z
UID:10004271-1830843000-1830846600@theccbb.com
SUMMARY:ECBA: ECON Open Networking
DESCRIPTION:
URL:https://theccbb.com/event/ecba-econ-open-networking/2028-01-07/
LOCATION:IHOP\, 3130 Johnson Ferry Rd.\, Marietta\, GA\, 30062\, United States
CATEGORIES:East Cobb Business Association
END:VEVENT
BEGIN:VEVENT
DTSTART;TZID=America/New_York:20280114T073000
DTEND;TZID=America/New_York:20280114T083000
DTSTAMP:20260424T203205
CREATED:20240806T175616Z
LAST-MODIFIED:20250519T210149Z
UID:10004272-1831447800-1831451400@theccbb.com
SUMMARY:ECBA: ECON Open Networking
DESCRIPTION:
URL:https://theccbb.com/event/ecba-econ-open-networking/2028-01-14/
LOCATION:IHOP\, 3130 Johnson Ferry Rd.\, Marietta\, GA\, 30062\, United States
CATEGORIES:East Cobb Business Association
END:VEVENT
BEGIN:VEVENT
DTSTART;TZID=America/New_York:20280121T073000
DTEND;TZID=America/New_York:20280121T083000
DTSTAMP:20260424T203205
CREATED:20240806T175616Z
LAST-MODIFIED:20250519T210149Z
UID:10004273-1832052600-1832056200@theccbb.com
SUMMARY:ECBA: ECON Open Networking
DESCRIPTION:
URL:https://theccbb.com/event/ecba-econ-open-networking/2028-01-21/
LOCATION:IHOP\, 3130 Johnson Ferry Rd.\, Marietta\, GA\, 30062\, United States
CATEGORIES:East Cobb Business Association
END:VEVENT
BEGIN:VEVENT
DTSTART;TZID=America/New_York:20280128T073000
DTEND;TZID=America/New_York:20280128T083000
DTSTAMP:20260424T203205
CREATED:20240806T175616Z
LAST-MODIFIED:20250519T210149Z
UID:10004274-1832657400-1832661000@theccbb.com
SUMMARY:ECBA: ECON Open Networking
DESCRIPTION:
URL:https://theccbb.com/event/ecba-econ-open-networking/2028-01-28/
LOCATION:IHOP\, 3130 Johnson Ferry Rd.\, Marietta\, GA\, 30062\, United States
CATEGORIES:East Cobb Business Association
END:VEVENT
BEGIN:VEVENT
DTSTART;TZID=America/New_York:20280204T073000
DTEND;TZID=America/New_York:20280204T083000
DTSTAMP:20260424T203205
CREATED:20240806T175616Z
LAST-MODIFIED:20250519T210149Z
UID:10004275-1833262200-1833265800@theccbb.com
SUMMARY:ECBA: ECON Open Networking
DESCRIPTION:
URL:https://theccbb.com/event/ecba-econ-open-networking/2028-02-04/
LOCATION:IHOP\, 3130 Johnson Ferry Rd.\, Marietta\, GA\, 30062\, United States
CATEGORIES:East Cobb Business Association
END:VEVENT
BEGIN:VEVENT
DTSTART;TZID=America/New_York:20280211T073000
DTEND;TZID=America/New_York:20280211T083000
DTSTAMP:20260424T203205
CREATED:20240806T175616Z
LAST-MODIFIED:20250519T210149Z
UID:10004276-1833867000-1833870600@theccbb.com
SUMMARY:ECBA: ECON Open Networking
DESCRIPTION:
URL:https://theccbb.com/event/ecba-econ-open-networking/2028-02-11/
LOCATION:IHOP\, 3130 Johnson Ferry Rd.\, Marietta\, GA\, 30062\, United States
CATEGORIES:East Cobb Business Association
END:VEVENT
BEGIN:VEVENT
DTSTART;TZID=America/New_York:20280218T073000
DTEND;TZID=America/New_York:20280218T083000
DTSTAMP:20260424T203205
CREATED:20240806T175616Z
LAST-MODIFIED:20250519T210149Z
UID:10004277-1834471800-1834475400@theccbb.com
SUMMARY:ECBA: ECON Open Networking
DESCRIPTION:
URL:https://theccbb.com/event/ecba-econ-open-networking/2028-02-18/
LOCATION:IHOP\, 3130 Johnson Ferry Rd.\, Marietta\, GA\, 30062\, United States
CATEGORIES:East Cobb Business Association
END:VEVENT
BEGIN:VEVENT
DTSTART;TZID=America/New_York:20280225T073000
DTEND;TZID=America/New_York:20280225T083000
DTSTAMP:20260424T203205
CREATED:20240806T175616Z
LAST-MODIFIED:20250519T210149Z
UID:10004278-1835076600-1835080200@theccbb.com
SUMMARY:ECBA: ECON Open Networking
DESCRIPTION:
URL:https://theccbb.com/event/ecba-econ-open-networking/2028-02-25/
LOCATION:IHOP\, 3130 Johnson Ferry Rd.\, Marietta\, GA\, 30062\, United States
CATEGORIES:East Cobb Business Association
END:VEVENT
BEGIN:VEVENT
DTSTART;TZID=America/New_York:20280303T073000
DTEND;TZID=America/New_York:20280303T083000
DTSTAMP:20260424T203205
CREATED:20240806T175616Z
LAST-MODIFIED:20250519T210149Z
UID:10004279-1835681400-1835685000@theccbb.com
SUMMARY:ECBA: ECON Open Networking
DESCRIPTION:
URL:https://theccbb.com/event/ecba-econ-open-networking/2028-03-03/
LOCATION:IHOP\, 3130 Johnson Ferry Rd.\, Marietta\, GA\, 30062\, United States
CATEGORIES:East Cobb Business Association
END:VEVENT
BEGIN:VEVENT
DTSTART;TZID=America/New_York:20280310T073000
DTEND;TZID=America/New_York:20280310T083000
DTSTAMP:20260424T203205
CREATED:20240806T175616Z
LAST-MODIFIED:20250519T210149Z
UID:10004280-1836286200-1836289800@theccbb.com
SUMMARY:ECBA: ECON Open Networking
DESCRIPTION:
URL:https://theccbb.com/event/ecba-econ-open-networking/2028-03-10/
LOCATION:IHOP\, 3130 Johnson Ferry Rd.\, Marietta\, GA\, 30062\, United States
CATEGORIES:East Cobb Business Association
END:VEVENT
BEGIN:VEVENT
DTSTART;TZID=America/New_York:20280317T073000
DTEND;TZID=America/New_York:20280317T083000
DTSTAMP:20260424T203205
CREATED:20240806T175616Z
LAST-MODIFIED:20250519T210149Z
UID:10004281-1836891000-1836894600@theccbb.com
SUMMARY:ECBA: ECON Open Networking
DESCRIPTION:
URL:https://theccbb.com/event/ecba-econ-open-networking/2028-03-17/
LOCATION:IHOP\, 3130 Johnson Ferry Rd.\, Marietta\, GA\, 30062\, United States
CATEGORIES:East Cobb Business Association
END:VEVENT
BEGIN:VEVENT
DTSTART;TZID=America/New_York:20280324T073000
DTEND;TZID=America/New_York:20280324T083000
DTSTAMP:20260424T203205
CREATED:20240806T175616Z
LAST-MODIFIED:20250519T210149Z
UID:10004282-1837495800-1837499400@theccbb.com
SUMMARY:ECBA: ECON Open Networking
DESCRIPTION:
URL:https://theccbb.com/event/ecba-econ-open-networking/2028-03-24/
LOCATION:IHOP\, 3130 Johnson Ferry Rd.\, Marietta\, GA\, 30062\, United States
CATEGORIES:East Cobb Business Association
END:VEVENT
BEGIN:VEVENT
DTSTART;TZID=America/New_York:20280331T073000
DTEND;TZID=America/New_York:20280331T083000
DTSTAMP:20260424T203205
CREATED:20240806T175616Z
LAST-MODIFIED:20250519T210149Z
UID:10004283-1838100600-1838104200@theccbb.com
SUMMARY:ECBA: ECON Open Networking
DESCRIPTION:
URL:https://theccbb.com/event/ecba-econ-open-networking/2028-03-31/
LOCATION:IHOP\, 3130 Johnson Ferry Rd.\, Marietta\, GA\, 30062\, United States
CATEGORIES:East Cobb Business Association
END:VEVENT
BEGIN:VEVENT
DTSTART;TZID=America/New_York:20280407T073000
DTEND;TZID=America/New_York:20280407T083000
DTSTAMP:20260424T203205
CREATED:20240806T175616Z
LAST-MODIFIED:20250519T210149Z
UID:10004284-1838705400-1838709000@theccbb.com
SUMMARY:ECBA: ECON Open Networking
DESCRIPTION:
URL:https://theccbb.com/event/ecba-econ-open-networking/2028-04-07/
LOCATION:IHOP\, 3130 Johnson Ferry Rd.\, Marietta\, GA\, 30062\, United States
CATEGORIES:East Cobb Business Association
END:VEVENT
BEGIN:VEVENT
DTSTART;TZID=America/New_York:20280414T073000
DTEND;TZID=America/New_York:20280414T083000
DTSTAMP:20260424T203205
CREATED:20240806T175616Z
LAST-MODIFIED:20250519T210149Z
UID:10004285-1839310200-1839313800@theccbb.com
SUMMARY:ECBA: ECON Open Networking
DESCRIPTION:
URL:https://theccbb.com/event/ecba-econ-open-networking/2028-04-14/
LOCATION:IHOP\, 3130 Johnson Ferry Rd.\, Marietta\, GA\, 30062\, United States
CATEGORIES:East Cobb Business Association
END:VEVENT
BEGIN:VEVENT
DTSTART;TZID=America/New_York:20280421T073000
DTEND;TZID=America/New_York:20280421T083000
DTSTAMP:20260424T203205
CREATED:20240806T175616Z
LAST-MODIFIED:20250519T210149Z
UID:10004286-1839915000-1839918600@theccbb.com
SUMMARY:ECBA: ECON Open Networking
DESCRIPTION:
URL:https://theccbb.com/event/ecba-econ-open-networking/2028-04-21/
LOCATION:IHOP\, 3130 Johnson Ferry Rd.\, Marietta\, GA\, 30062\, United States
CATEGORIES:East Cobb Business Association
END:VEVENT
BEGIN:VEVENT
DTSTART;TZID=America/New_York:20280428T073000
DTEND;TZID=America/New_York:20280428T083000
DTSTAMP:20260424T203205
CREATED:20240806T175616Z
LAST-MODIFIED:20250519T210149Z
UID:10004287-1840519800-1840523400@theccbb.com
SUMMARY:ECBA: ECON Open Networking
DESCRIPTION:
URL:https://theccbb.com/event/ecba-econ-open-networking/2028-04-28/
LOCATION:IHOP\, 3130 Johnson Ferry Rd.\, Marietta\, GA\, 30062\, United States
CATEGORIES:East Cobb Business Association
END:VEVENT
END:VCALENDAR