BEGIN:VCALENDAR
VERSION:2.0
PRODID:-//Cobb County Business Bootcamp - ECPv6.15.18//NONSGML v1.0//EN
CALSCALE:GREGORIAN
METHOD:PUBLISH
X-WR-CALNAME:Cobb County Business Bootcamp
X-ORIGINAL-URL:https://theccbb.com
X-WR-CALDESC:Events for Cobb County Business Bootcamp
REFRESH-INTERVAL;VALUE=DURATION:PT1H
X-Robots-Tag:noindex
X-PUBLISHED-TTL:PT1H
BEGIN:VTIMEZONE
TZID:America/New_York
BEGIN:DAYLIGHT
TZOFFSETFROM:-0500
TZOFFSETTO:-0400
TZNAME:EDT
DTSTART:20250309T070000
END:DAYLIGHT
BEGIN:STANDARD
TZOFFSETFROM:-0400
TZOFFSETTO:-0500
TZNAME:EST
DTSTART:20251102T060000
END:STANDARD
BEGIN:DAYLIGHT
TZOFFSETFROM:-0500
TZOFFSETTO:-0400
TZNAME:EDT
DTSTART:20260308T070000
END:DAYLIGHT
BEGIN:STANDARD
TZOFFSETFROM:-0400
TZOFFSETTO:-0500
TZNAME:EST
DTSTART:20261101T060000
END:STANDARD
BEGIN:DAYLIGHT
TZOFFSETFROM:-0500
TZOFFSETTO:-0400
TZNAME:EDT
DTSTART:20270314T070000
END:DAYLIGHT
BEGIN:STANDARD
TZOFFSETFROM:-0400
TZOFFSETTO:-0500
TZNAME:EST
DTSTART:20271107T060000
END:STANDARD
BEGIN:DAYLIGHT
TZOFFSETFROM:-0500
TZOFFSETTO:-0400
TZNAME:EDT
DTSTART:20280312T070000
END:DAYLIGHT
BEGIN:STANDARD
TZOFFSETFROM:-0400
TZOFFSETTO:-0500
TZNAME:EST
DTSTART:20281105T060000
END:STANDARD
END:VTIMEZONE
BEGIN:VEVENT
DTSTART;TZID=America/New_York:20260806T071500
DTEND;TZID=America/New_York:20260806T080000
DTSTAMP:20260422T184311
CREATED:20241127T112839Z
LAST-MODIFIED:20241127T115032Z
UID:10002487-1786000500-1786003200@theccbb.com
SUMMARY:North Cobb County\, Georgia (Rotary Club)
DESCRIPTION:Email: northcobb@rotary6900.org\nPhone: +1 678-800-2176\nWebsite: https://www.northcobbrotary.org/ \nCopeland’s Restaurant\nWHERE (In-Person): 1142 Ernest W Barrett Pkwy NW\, Kennesaw\, 30144-4541\, United States\, Georgia
URL:https://theccbb.com/event/north-cobb-county-georgia-united-states-rotary-club/2026-08-06/
LOCATION:North Cobb County – (Rotary Club)\, 1142 Ernest W Barrett Pkwy NW\, Kennesaw\, Georgia\, 30144
CATEGORIES:Rotary Club
END:VEVENT
BEGIN:VEVENT
DTSTART;TZID=America/New_York:20260813T071500
DTEND;TZID=America/New_York:20260813T080000
DTSTAMP:20260422T184312
CREATED:20241127T112839Z
LAST-MODIFIED:20241127T115032Z
UID:10002488-1786605300-1786608000@theccbb.com
SUMMARY:North Cobb County\, Georgia (Rotary Club)
DESCRIPTION:Email: northcobb@rotary6900.org\nPhone: +1 678-800-2176\nWebsite: https://www.northcobbrotary.org/ \nCopeland’s Restaurant\nWHERE (In-Person): 1142 Ernest W Barrett Pkwy NW\, Kennesaw\, 30144-4541\, United States\, Georgia
URL:https://theccbb.com/event/north-cobb-county-georgia-united-states-rotary-club/2026-08-13/
LOCATION:North Cobb County – (Rotary Club)\, 1142 Ernest W Barrett Pkwy NW\, Kennesaw\, Georgia\, 30144
CATEGORIES:Rotary Club
END:VEVENT
BEGIN:VEVENT
DTSTART;TZID=America/New_York:20260820T071500
DTEND;TZID=America/New_York:20260820T080000
DTSTAMP:20260422T184312
CREATED:20241127T112839Z
LAST-MODIFIED:20241127T115032Z
UID:10002489-1787210100-1787212800@theccbb.com
SUMMARY:North Cobb County\, Georgia (Rotary Club)
DESCRIPTION:Email: northcobb@rotary6900.org\nPhone: +1 678-800-2176\nWebsite: https://www.northcobbrotary.org/ \nCopeland’s Restaurant\nWHERE (In-Person): 1142 Ernest W Barrett Pkwy NW\, Kennesaw\, 30144-4541\, United States\, Georgia
URL:https://theccbb.com/event/north-cobb-county-georgia-united-states-rotary-club/2026-08-20/
LOCATION:North Cobb County – (Rotary Club)\, 1142 Ernest W Barrett Pkwy NW\, Kennesaw\, Georgia\, 30144
CATEGORIES:Rotary Club
END:VEVENT
BEGIN:VEVENT
DTSTART;TZID=America/New_York:20260827T071500
DTEND;TZID=America/New_York:20260827T080000
DTSTAMP:20260422T184312
CREATED:20241127T112839Z
LAST-MODIFIED:20241127T115032Z
UID:10002490-1787814900-1787817600@theccbb.com
SUMMARY:North Cobb County\, Georgia (Rotary Club)
DESCRIPTION:Email: northcobb@rotary6900.org\nPhone: +1 678-800-2176\nWebsite: https://www.northcobbrotary.org/ \nCopeland’s Restaurant\nWHERE (In-Person): 1142 Ernest W Barrett Pkwy NW\, Kennesaw\, 30144-4541\, United States\, Georgia
URL:https://theccbb.com/event/north-cobb-county-georgia-united-states-rotary-club/2026-08-27/
LOCATION:North Cobb County – (Rotary Club)\, 1142 Ernest W Barrett Pkwy NW\, Kennesaw\, Georgia\, 30144
CATEGORIES:Rotary Club
END:VEVENT
BEGIN:VEVENT
DTSTART;TZID=America/New_York:20260903T071500
DTEND;TZID=America/New_York:20260903T080000
DTSTAMP:20260422T184312
CREATED:20241127T112839Z
LAST-MODIFIED:20241127T115032Z
UID:10002491-1788419700-1788422400@theccbb.com
SUMMARY:North Cobb County\, Georgia (Rotary Club)
DESCRIPTION:Email: northcobb@rotary6900.org\nPhone: +1 678-800-2176\nWebsite: https://www.northcobbrotary.org/ \nCopeland’s Restaurant\nWHERE (In-Person): 1142 Ernest W Barrett Pkwy NW\, Kennesaw\, 30144-4541\, United States\, Georgia
URL:https://theccbb.com/event/north-cobb-county-georgia-united-states-rotary-club/2026-09-03/
LOCATION:North Cobb County – (Rotary Club)\, 1142 Ernest W Barrett Pkwy NW\, Kennesaw\, Georgia\, 30144
CATEGORIES:Rotary Club
END:VEVENT
BEGIN:VEVENT
DTSTART;TZID=America/New_York:20260910T071500
DTEND;TZID=America/New_York:20260910T080000
DTSTAMP:20260422T184312
CREATED:20241127T112839Z
LAST-MODIFIED:20241127T115032Z
UID:10002492-1789024500-1789027200@theccbb.com
SUMMARY:North Cobb County\, Georgia (Rotary Club)
DESCRIPTION:Email: northcobb@rotary6900.org\nPhone: +1 678-800-2176\nWebsite: https://www.northcobbrotary.org/ \nCopeland’s Restaurant\nWHERE (In-Person): 1142 Ernest W Barrett Pkwy NW\, Kennesaw\, 30144-4541\, United States\, Georgia
URL:https://theccbb.com/event/north-cobb-county-georgia-united-states-rotary-club/2026-09-10/
LOCATION:North Cobb County – (Rotary Club)\, 1142 Ernest W Barrett Pkwy NW\, Kennesaw\, Georgia\, 30144
CATEGORIES:Rotary Club
END:VEVENT
BEGIN:VEVENT
DTSTART;TZID=America/New_York:20260917T071500
DTEND;TZID=America/New_York:20260917T080000
DTSTAMP:20260422T184312
CREATED:20241127T112839Z
LAST-MODIFIED:20241127T115032Z
UID:10002493-1789629300-1789632000@theccbb.com
SUMMARY:North Cobb County\, Georgia (Rotary Club)
DESCRIPTION:Email: northcobb@rotary6900.org\nPhone: +1 678-800-2176\nWebsite: https://www.northcobbrotary.org/ \nCopeland’s Restaurant\nWHERE (In-Person): 1142 Ernest W Barrett Pkwy NW\, Kennesaw\, 30144-4541\, United States\, Georgia
URL:https://theccbb.com/event/north-cobb-county-georgia-united-states-rotary-club/2026-09-17/
LOCATION:North Cobb County – (Rotary Club)\, 1142 Ernest W Barrett Pkwy NW\, Kennesaw\, Georgia\, 30144
CATEGORIES:Rotary Club
END:VEVENT
BEGIN:VEVENT
DTSTART;TZID=America/New_York:20260924T071500
DTEND;TZID=America/New_York:20260924T080000
DTSTAMP:20260422T184312
CREATED:20241127T112839Z
LAST-MODIFIED:20241127T115032Z
UID:10002494-1790234100-1790236800@theccbb.com
SUMMARY:North Cobb County\, Georgia (Rotary Club)
DESCRIPTION:Email: northcobb@rotary6900.org\nPhone: +1 678-800-2176\nWebsite: https://www.northcobbrotary.org/ \nCopeland’s Restaurant\nWHERE (In-Person): 1142 Ernest W Barrett Pkwy NW\, Kennesaw\, 30144-4541\, United States\, Georgia
URL:https://theccbb.com/event/north-cobb-county-georgia-united-states-rotary-club/2026-09-24/
LOCATION:North Cobb County – (Rotary Club)\, 1142 Ernest W Barrett Pkwy NW\, Kennesaw\, Georgia\, 30144
CATEGORIES:Rotary Club
END:VEVENT
BEGIN:VEVENT
DTSTART;TZID=America/New_York:20261001T071500
DTEND;TZID=America/New_York:20261001T080000
DTSTAMP:20260422T184312
CREATED:20241127T112839Z
LAST-MODIFIED:20241127T115032Z
UID:10002495-1790838900-1790841600@theccbb.com
SUMMARY:North Cobb County\, Georgia (Rotary Club)
DESCRIPTION:Email: northcobb@rotary6900.org\nPhone: +1 678-800-2176\nWebsite: https://www.northcobbrotary.org/ \nCopeland’s Restaurant\nWHERE (In-Person): 1142 Ernest W Barrett Pkwy NW\, Kennesaw\, 30144-4541\, United States\, Georgia
URL:https://theccbb.com/event/north-cobb-county-georgia-united-states-rotary-club/2026-10-01/
LOCATION:North Cobb County – (Rotary Club)\, 1142 Ernest W Barrett Pkwy NW\, Kennesaw\, Georgia\, 30144
CATEGORIES:Rotary Club
END:VEVENT
BEGIN:VEVENT
DTSTART;TZID=America/New_York:20261008T071500
DTEND;TZID=America/New_York:20261008T080000
DTSTAMP:20260422T184312
CREATED:20241127T112839Z
LAST-MODIFIED:20241127T115032Z
UID:10002496-1791443700-1791446400@theccbb.com
SUMMARY:North Cobb County\, Georgia (Rotary Club)
DESCRIPTION:Email: northcobb@rotary6900.org\nPhone: +1 678-800-2176\nWebsite: https://www.northcobbrotary.org/ \nCopeland’s Restaurant\nWHERE (In-Person): 1142 Ernest W Barrett Pkwy NW\, Kennesaw\, 30144-4541\, United States\, Georgia
URL:https://theccbb.com/event/north-cobb-county-georgia-united-states-rotary-club/2026-10-08/
LOCATION:North Cobb County – (Rotary Club)\, 1142 Ernest W Barrett Pkwy NW\, Kennesaw\, Georgia\, 30144
CATEGORIES:Rotary Club
END:VEVENT
BEGIN:VEVENT
DTSTART;TZID=America/New_York:20261015T071500
DTEND;TZID=America/New_York:20261015T080000
DTSTAMP:20260422T184312
CREATED:20241127T112839Z
LAST-MODIFIED:20241127T115032Z
UID:10002497-1792048500-1792051200@theccbb.com
SUMMARY:North Cobb County\, Georgia (Rotary Club)
DESCRIPTION:Email: northcobb@rotary6900.org\nPhone: +1 678-800-2176\nWebsite: https://www.northcobbrotary.org/ \nCopeland’s Restaurant\nWHERE (In-Person): 1142 Ernest W Barrett Pkwy NW\, Kennesaw\, 30144-4541\, United States\, Georgia
URL:https://theccbb.com/event/north-cobb-county-georgia-united-states-rotary-club/2026-10-15/
LOCATION:North Cobb County – (Rotary Club)\, 1142 Ernest W Barrett Pkwy NW\, Kennesaw\, Georgia\, 30144
CATEGORIES:Rotary Club
END:VEVENT
BEGIN:VEVENT
DTSTART;TZID=America/New_York:20261022T071500
DTEND;TZID=America/New_York:20261022T080000
DTSTAMP:20260422T184312
CREATED:20241127T112839Z
LAST-MODIFIED:20241127T115032Z
UID:10002498-1792653300-1792656000@theccbb.com
SUMMARY:North Cobb County\, Georgia (Rotary Club)
DESCRIPTION:Email: northcobb@rotary6900.org\nPhone: +1 678-800-2176\nWebsite: https://www.northcobbrotary.org/ \nCopeland’s Restaurant\nWHERE (In-Person): 1142 Ernest W Barrett Pkwy NW\, Kennesaw\, 30144-4541\, United States\, Georgia
URL:https://theccbb.com/event/north-cobb-county-georgia-united-states-rotary-club/2026-10-22/
LOCATION:North Cobb County – (Rotary Club)\, 1142 Ernest W Barrett Pkwy NW\, Kennesaw\, Georgia\, 30144
CATEGORIES:Rotary Club
END:VEVENT
BEGIN:VEVENT
DTSTART;TZID=America/New_York:20261029T071500
DTEND;TZID=America/New_York:20261029T080000
DTSTAMP:20260422T184312
CREATED:20241127T112839Z
LAST-MODIFIED:20241127T115032Z
UID:10002499-1793258100-1793260800@theccbb.com
SUMMARY:North Cobb County\, Georgia (Rotary Club)
DESCRIPTION:Email: northcobb@rotary6900.org\nPhone: +1 678-800-2176\nWebsite: https://www.northcobbrotary.org/ \nCopeland’s Restaurant\nWHERE (In-Person): 1142 Ernest W Barrett Pkwy NW\, Kennesaw\, 30144-4541\, United States\, Georgia
URL:https://theccbb.com/event/north-cobb-county-georgia-united-states-rotary-club/2026-10-29/
LOCATION:North Cobb County – (Rotary Club)\, 1142 Ernest W Barrett Pkwy NW\, Kennesaw\, Georgia\, 30144
CATEGORIES:Rotary Club
END:VEVENT
BEGIN:VEVENT
DTSTART;TZID=America/New_York:20261105T071500
DTEND;TZID=America/New_York:20261105T080000
DTSTAMP:20260422T184312
CREATED:20241127T112839Z
LAST-MODIFIED:20241127T115032Z
UID:10002500-1793862900-1793865600@theccbb.com
SUMMARY:North Cobb County\, Georgia (Rotary Club)
DESCRIPTION:Email: northcobb@rotary6900.org\nPhone: +1 678-800-2176\nWebsite: https://www.northcobbrotary.org/ \nCopeland’s Restaurant\nWHERE (In-Person): 1142 Ernest W Barrett Pkwy NW\, Kennesaw\, 30144-4541\, United States\, Georgia
URL:https://theccbb.com/event/north-cobb-county-georgia-united-states-rotary-club/2026-11-05/
LOCATION:North Cobb County – (Rotary Club)\, 1142 Ernest W Barrett Pkwy NW\, Kennesaw\, Georgia\, 30144
CATEGORIES:Rotary Club
END:VEVENT
BEGIN:VEVENT
DTSTART;TZID=America/New_York:20261112T071500
DTEND;TZID=America/New_York:20261112T080000
DTSTAMP:20260422T184312
CREATED:20241127T112839Z
LAST-MODIFIED:20241127T115032Z
UID:10002501-1794467700-1794470400@theccbb.com
SUMMARY:North Cobb County\, Georgia (Rotary Club)
DESCRIPTION:Email: northcobb@rotary6900.org\nPhone: +1 678-800-2176\nWebsite: https://www.northcobbrotary.org/ \nCopeland’s Restaurant\nWHERE (In-Person): 1142 Ernest W Barrett Pkwy NW\, Kennesaw\, 30144-4541\, United States\, Georgia
URL:https://theccbb.com/event/north-cobb-county-georgia-united-states-rotary-club/2026-11-12/
LOCATION:North Cobb County – (Rotary Club)\, 1142 Ernest W Barrett Pkwy NW\, Kennesaw\, Georgia\, 30144
CATEGORIES:Rotary Club
END:VEVENT
BEGIN:VEVENT
DTSTART;TZID=America/New_York:20261119T071500
DTEND;TZID=America/New_York:20261119T080000
DTSTAMP:20260422T184312
CREATED:20241127T112839Z
LAST-MODIFIED:20241127T115032Z
UID:10002502-1795072500-1795075200@theccbb.com
SUMMARY:North Cobb County\, Georgia (Rotary Club)
DESCRIPTION:Email: northcobb@rotary6900.org\nPhone: +1 678-800-2176\nWebsite: https://www.northcobbrotary.org/ \nCopeland’s Restaurant\nWHERE (In-Person): 1142 Ernest W Barrett Pkwy NW\, Kennesaw\, 30144-4541\, United States\, Georgia
URL:https://theccbb.com/event/north-cobb-county-georgia-united-states-rotary-club/2026-11-19/
LOCATION:North Cobb County – (Rotary Club)\, 1142 Ernest W Barrett Pkwy NW\, Kennesaw\, Georgia\, 30144
CATEGORIES:Rotary Club
END:VEVENT
BEGIN:VEVENT
DTSTART;TZID=America/New_York:20261126T071500
DTEND;TZID=America/New_York:20261126T080000
DTSTAMP:20260422T184312
CREATED:20241127T112839Z
LAST-MODIFIED:20241127T115032Z
UID:10002503-1795677300-1795680000@theccbb.com
SUMMARY:North Cobb County\, Georgia (Rotary Club)
DESCRIPTION:Email: northcobb@rotary6900.org\nPhone: +1 678-800-2176\nWebsite: https://www.northcobbrotary.org/ \nCopeland’s Restaurant\nWHERE (In-Person): 1142 Ernest W Barrett Pkwy NW\, Kennesaw\, 30144-4541\, United States\, Georgia
URL:https://theccbb.com/event/north-cobb-county-georgia-united-states-rotary-club/2026-11-26/
LOCATION:North Cobb County – (Rotary Club)\, 1142 Ernest W Barrett Pkwy NW\, Kennesaw\, Georgia\, 30144
CATEGORIES:Rotary Club
END:VEVENT
BEGIN:VEVENT
DTSTART;TZID=America/New_York:20261203T071500
DTEND;TZID=America/New_York:20261203T080000
DTSTAMP:20260422T184312
CREATED:20241127T112839Z
LAST-MODIFIED:20241127T115032Z
UID:10002504-1796282100-1796284800@theccbb.com
SUMMARY:North Cobb County\, Georgia (Rotary Club)
DESCRIPTION:Email: northcobb@rotary6900.org\nPhone: +1 678-800-2176\nWebsite: https://www.northcobbrotary.org/ \nCopeland’s Restaurant\nWHERE (In-Person): 1142 Ernest W Barrett Pkwy NW\, Kennesaw\, 30144-4541\, United States\, Georgia
URL:https://theccbb.com/event/north-cobb-county-georgia-united-states-rotary-club/2026-12-03/
LOCATION:North Cobb County – (Rotary Club)\, 1142 Ernest W Barrett Pkwy NW\, Kennesaw\, Georgia\, 30144
CATEGORIES:Rotary Club
END:VEVENT
BEGIN:VEVENT
DTSTART;TZID=America/New_York:20261210T071500
DTEND;TZID=America/New_York:20261210T080000
DTSTAMP:20260422T184312
CREATED:20241127T112839Z
LAST-MODIFIED:20241127T115032Z
UID:10002505-1796886900-1796889600@theccbb.com
SUMMARY:North Cobb County\, Georgia (Rotary Club)
DESCRIPTION:Email: northcobb@rotary6900.org\nPhone: +1 678-800-2176\nWebsite: https://www.northcobbrotary.org/ \nCopeland’s Restaurant\nWHERE (In-Person): 1142 Ernest W Barrett Pkwy NW\, Kennesaw\, 30144-4541\, United States\, Georgia
URL:https://theccbb.com/event/north-cobb-county-georgia-united-states-rotary-club/2026-12-10/
LOCATION:North Cobb County – (Rotary Club)\, 1142 Ernest W Barrett Pkwy NW\, Kennesaw\, Georgia\, 30144
CATEGORIES:Rotary Club
END:VEVENT
BEGIN:VEVENT
DTSTART;TZID=America/New_York:20261217T071500
DTEND;TZID=America/New_York:20261217T080000
DTSTAMP:20260422T184312
CREATED:20241127T112839Z
LAST-MODIFIED:20241127T115032Z
UID:10002506-1797491700-1797494400@theccbb.com
SUMMARY:North Cobb County\, Georgia (Rotary Club)
DESCRIPTION:Email: northcobb@rotary6900.org\nPhone: +1 678-800-2176\nWebsite: https://www.northcobbrotary.org/ \nCopeland’s Restaurant\nWHERE (In-Person): 1142 Ernest W Barrett Pkwy NW\, Kennesaw\, 30144-4541\, United States\, Georgia
URL:https://theccbb.com/event/north-cobb-county-georgia-united-states-rotary-club/2026-12-17/
LOCATION:North Cobb County – (Rotary Club)\, 1142 Ernest W Barrett Pkwy NW\, Kennesaw\, Georgia\, 30144
CATEGORIES:Rotary Club
END:VEVENT
BEGIN:VEVENT
DTSTART;TZID=America/New_York:20261224T071500
DTEND;TZID=America/New_York:20261224T080000
DTSTAMP:20260422T184312
CREATED:20241127T112839Z
LAST-MODIFIED:20241127T115032Z
UID:10002507-1798096500-1798099200@theccbb.com
SUMMARY:North Cobb County\, Georgia (Rotary Club)
DESCRIPTION:Email: northcobb@rotary6900.org\nPhone: +1 678-800-2176\nWebsite: https://www.northcobbrotary.org/ \nCopeland’s Restaurant\nWHERE (In-Person): 1142 Ernest W Barrett Pkwy NW\, Kennesaw\, 30144-4541\, United States\, Georgia
URL:https://theccbb.com/event/north-cobb-county-georgia-united-states-rotary-club/2026-12-24/
LOCATION:North Cobb County – (Rotary Club)\, 1142 Ernest W Barrett Pkwy NW\, Kennesaw\, Georgia\, 30144
CATEGORIES:Rotary Club
END:VEVENT
BEGIN:VEVENT
DTSTART;TZID=America/New_York:20261231T071500
DTEND;TZID=America/New_York:20261231T080000
DTSTAMP:20260422T184312
CREATED:20241127T112839Z
LAST-MODIFIED:20241127T115032Z
UID:10002508-1798701300-1798704000@theccbb.com
SUMMARY:North Cobb County\, Georgia (Rotary Club)
DESCRIPTION:Email: northcobb@rotary6900.org\nPhone: +1 678-800-2176\nWebsite: https://www.northcobbrotary.org/ \nCopeland’s Restaurant\nWHERE (In-Person): 1142 Ernest W Barrett Pkwy NW\, Kennesaw\, 30144-4541\, United States\, Georgia
URL:https://theccbb.com/event/north-cobb-county-georgia-united-states-rotary-club/2026-12-31/
LOCATION:North Cobb County – (Rotary Club)\, 1142 Ernest W Barrett Pkwy NW\, Kennesaw\, Georgia\, 30144
CATEGORIES:Rotary Club
END:VEVENT
BEGIN:VEVENT
DTSTART;TZID=America/New_York:20270107T071500
DTEND;TZID=America/New_York:20270107T080000
DTSTAMP:20260422T184312
CREATED:20241127T112839Z
LAST-MODIFIED:20241127T115032Z
UID:10002509-1799306100-1799308800@theccbb.com
SUMMARY:North Cobb County\, Georgia (Rotary Club)
DESCRIPTION:Email: northcobb@rotary6900.org\nPhone: +1 678-800-2176\nWebsite: https://www.northcobbrotary.org/ \nCopeland’s Restaurant\nWHERE (In-Person): 1142 Ernest W Barrett Pkwy NW\, Kennesaw\, 30144-4541\, United States\, Georgia
URL:https://theccbb.com/event/north-cobb-county-georgia-united-states-rotary-club/2027-01-07/
LOCATION:North Cobb County – (Rotary Club)\, 1142 Ernest W Barrett Pkwy NW\, Kennesaw\, Georgia\, 30144
CATEGORIES:Rotary Club
END:VEVENT
BEGIN:VEVENT
DTSTART;TZID=America/New_York:20270114T071500
DTEND;TZID=America/New_York:20270114T080000
DTSTAMP:20260422T184312
CREATED:20241127T112839Z
LAST-MODIFIED:20241127T115032Z
UID:10002510-1799910900-1799913600@theccbb.com
SUMMARY:North Cobb County\, Georgia (Rotary Club)
DESCRIPTION:Email: northcobb@rotary6900.org\nPhone: +1 678-800-2176\nWebsite: https://www.northcobbrotary.org/ \nCopeland’s Restaurant\nWHERE (In-Person): 1142 Ernest W Barrett Pkwy NW\, Kennesaw\, 30144-4541\, United States\, Georgia
URL:https://theccbb.com/event/north-cobb-county-georgia-united-states-rotary-club/2027-01-14/
LOCATION:North Cobb County – (Rotary Club)\, 1142 Ernest W Barrett Pkwy NW\, Kennesaw\, Georgia\, 30144
CATEGORIES:Rotary Club
END:VEVENT
BEGIN:VEVENT
DTSTART;TZID=America/New_York:20270121T071500
DTEND;TZID=America/New_York:20270121T080000
DTSTAMP:20260422T184312
CREATED:20241127T112839Z
LAST-MODIFIED:20241127T115032Z
UID:10002511-1800515700-1800518400@theccbb.com
SUMMARY:North Cobb County\, Georgia (Rotary Club)
DESCRIPTION:Email: northcobb@rotary6900.org\nPhone: +1 678-800-2176\nWebsite: https://www.northcobbrotary.org/ \nCopeland’s Restaurant\nWHERE (In-Person): 1142 Ernest W Barrett Pkwy NW\, Kennesaw\, 30144-4541\, United States\, Georgia
URL:https://theccbb.com/event/north-cobb-county-georgia-united-states-rotary-club/2027-01-21/
LOCATION:North Cobb County – (Rotary Club)\, 1142 Ernest W Barrett Pkwy NW\, Kennesaw\, Georgia\, 30144
CATEGORIES:Rotary Club
END:VEVENT
BEGIN:VEVENT
DTSTART;TZID=America/New_York:20270128T071500
DTEND;TZID=America/New_York:20270128T080000
DTSTAMP:20260422T184312
CREATED:20241127T112839Z
LAST-MODIFIED:20241127T115032Z
UID:10002512-1801120500-1801123200@theccbb.com
SUMMARY:North Cobb County\, Georgia (Rotary Club)
DESCRIPTION:Email: northcobb@rotary6900.org\nPhone: +1 678-800-2176\nWebsite: https://www.northcobbrotary.org/ \nCopeland’s Restaurant\nWHERE (In-Person): 1142 Ernest W Barrett Pkwy NW\, Kennesaw\, 30144-4541\, United States\, Georgia
URL:https://theccbb.com/event/north-cobb-county-georgia-united-states-rotary-club/2027-01-28/
LOCATION:North Cobb County – (Rotary Club)\, 1142 Ernest W Barrett Pkwy NW\, Kennesaw\, Georgia\, 30144
CATEGORIES:Rotary Club
END:VEVENT
BEGIN:VEVENT
DTSTART;TZID=America/New_York:20270204T071500
DTEND;TZID=America/New_York:20270204T080000
DTSTAMP:20260422T184312
CREATED:20241127T112839Z
LAST-MODIFIED:20241127T115032Z
UID:10002513-1801725300-1801728000@theccbb.com
SUMMARY:North Cobb County\, Georgia (Rotary Club)
DESCRIPTION:Email: northcobb@rotary6900.org\nPhone: +1 678-800-2176\nWebsite: https://www.northcobbrotary.org/ \nCopeland’s Restaurant\nWHERE (In-Person): 1142 Ernest W Barrett Pkwy NW\, Kennesaw\, 30144-4541\, United States\, Georgia
URL:https://theccbb.com/event/north-cobb-county-georgia-united-states-rotary-club/2027-02-04/
LOCATION:North Cobb County – (Rotary Club)\, 1142 Ernest W Barrett Pkwy NW\, Kennesaw\, Georgia\, 30144
CATEGORIES:Rotary Club
END:VEVENT
BEGIN:VEVENT
DTSTART;TZID=America/New_York:20270211T071500
DTEND;TZID=America/New_York:20270211T080000
DTSTAMP:20260422T184312
CREATED:20241127T112839Z
LAST-MODIFIED:20241127T115032Z
UID:10002514-1802330100-1802332800@theccbb.com
SUMMARY:North Cobb County\, Georgia (Rotary Club)
DESCRIPTION:Email: northcobb@rotary6900.org\nPhone: +1 678-800-2176\nWebsite: https://www.northcobbrotary.org/ \nCopeland’s Restaurant\nWHERE (In-Person): 1142 Ernest W Barrett Pkwy NW\, Kennesaw\, 30144-4541\, United States\, Georgia
URL:https://theccbb.com/event/north-cobb-county-georgia-united-states-rotary-club/2027-02-11/
LOCATION:North Cobb County – (Rotary Club)\, 1142 Ernest W Barrett Pkwy NW\, Kennesaw\, Georgia\, 30144
CATEGORIES:Rotary Club
END:VEVENT
BEGIN:VEVENT
DTSTART;TZID=America/New_York:20270218T071500
DTEND;TZID=America/New_York:20270218T080000
DTSTAMP:20260422T184312
CREATED:20241127T112839Z
LAST-MODIFIED:20241127T115032Z
UID:10002515-1802934900-1802937600@theccbb.com
SUMMARY:North Cobb County\, Georgia (Rotary Club)
DESCRIPTION:Email: northcobb@rotary6900.org\nPhone: +1 678-800-2176\nWebsite: https://www.northcobbrotary.org/ \nCopeland’s Restaurant\nWHERE (In-Person): 1142 Ernest W Barrett Pkwy NW\, Kennesaw\, 30144-4541\, United States\, Georgia
URL:https://theccbb.com/event/north-cobb-county-georgia-united-states-rotary-club/2027-02-18/
LOCATION:North Cobb County – (Rotary Club)\, 1142 Ernest W Barrett Pkwy NW\, Kennesaw\, Georgia\, 30144
CATEGORIES:Rotary Club
END:VEVENT
BEGIN:VEVENT
DTSTART;TZID=America/New_York:20270225T071500
DTEND;TZID=America/New_York:20270225T080000
DTSTAMP:20260422T184312
CREATED:20241127T112839Z
LAST-MODIFIED:20241127T115032Z
UID:10002516-1803539700-1803542400@theccbb.com
SUMMARY:North Cobb County\, Georgia (Rotary Club)
DESCRIPTION:Email: northcobb@rotary6900.org\nPhone: +1 678-800-2176\nWebsite: https://www.northcobbrotary.org/ \nCopeland’s Restaurant\nWHERE (In-Person): 1142 Ernest W Barrett Pkwy NW\, Kennesaw\, 30144-4541\, United States\, Georgia
URL:https://theccbb.com/event/north-cobb-county-georgia-united-states-rotary-club/2027-02-25/
LOCATION:North Cobb County – (Rotary Club)\, 1142 Ernest W Barrett Pkwy NW\, Kennesaw\, Georgia\, 30144
CATEGORIES:Rotary Club
END:VEVENT
END:VCALENDAR