BEGIN:VCALENDAR
VERSION:2.0
PRODID:-//Cobb County Business Bootcamp - ECPv6.15.18//NONSGML v1.0//EN
CALSCALE:GREGORIAN
METHOD:PUBLISH
X-ORIGINAL-URL:https://theccbb.com
X-WR-CALDESC:Events for Cobb County Business Bootcamp
REFRESH-INTERVAL;VALUE=DURATION:PT1H
X-Robots-Tag:noindex
X-PUBLISHED-TTL:PT1H
BEGIN:VTIMEZONE
TZID:America/New_York
BEGIN:DAYLIGHT
TZOFFSETFROM:-0500
TZOFFSETTO:-0400
TZNAME:EDT
DTSTART:20250309T070000
END:DAYLIGHT
BEGIN:STANDARD
TZOFFSETFROM:-0400
TZOFFSETTO:-0500
TZNAME:EST
DTSTART:20251102T060000
END:STANDARD
BEGIN:DAYLIGHT
TZOFFSETFROM:-0500
TZOFFSETTO:-0400
TZNAME:EDT
DTSTART:20260308T070000
END:DAYLIGHT
BEGIN:STANDARD
TZOFFSETFROM:-0400
TZOFFSETTO:-0500
TZNAME:EST
DTSTART:20261101T060000
END:STANDARD
BEGIN:DAYLIGHT
TZOFFSETFROM:-0500
TZOFFSETTO:-0400
TZNAME:EDT
DTSTART:20270314T070000
END:DAYLIGHT
BEGIN:STANDARD
TZOFFSETFROM:-0400
TZOFFSETTO:-0500
TZNAME:EST
DTSTART:20271107T060000
END:STANDARD
END:VTIMEZONE
BEGIN:VEVENT
DTSTART;TZID=America/New_York:20260430T180000
DTEND;TZID=America/New_York:20260430T190000
DTSTAMP:20260424T062504
CREATED:20241127T121743Z
LAST-MODIFIED:20241127T121743Z
UID:10002994-1777572000-1777575600@theccbb.com
SUMMARY:Kennesaw State University\, Georgia (Rotaract Club)
DESCRIPTION:Email: KSUROTARACT@LIST.KENNESAW.EDU\nPhone: 470-578-6965\nWebsite: https://www.kennesaw.edu/ \nWHERE (In-Person): 3333 Busbee Dr NW\, Kennesaw\, GA 30144
URL:https://theccbb.com/event/kennesaw-state-university-georgia-rotaract-club/2026-04-30/
LOCATION:Rotaract Club (Kennesaw State University)\, 3333 Busbee Dr NW\, Kennesaw\, Georgia\, 30144
CATEGORIES:Rotary Club
END:VEVENT
BEGIN:VEVENT
DTSTART;TZID=America/New_York:20260507T180000
DTEND;TZID=America/New_York:20260507T190000
DTSTAMP:20260424T062504
CREATED:20241127T121743Z
LAST-MODIFIED:20241127T121743Z
UID:10002995-1778176800-1778180400@theccbb.com
SUMMARY:Kennesaw State University\, Georgia (Rotaract Club)
DESCRIPTION:Email: KSUROTARACT@LIST.KENNESAW.EDU\nPhone: 470-578-6965\nWebsite: https://www.kennesaw.edu/ \nWHERE (In-Person): 3333 Busbee Dr NW\, Kennesaw\, GA 30144
URL:https://theccbb.com/event/kennesaw-state-university-georgia-rotaract-club/2026-05-07/
LOCATION:Rotaract Club (Kennesaw State University)\, 3333 Busbee Dr NW\, Kennesaw\, Georgia\, 30144
CATEGORIES:Rotary Club
END:VEVENT
BEGIN:VEVENT
DTSTART;TZID=America/New_York:20260514T180000
DTEND;TZID=America/New_York:20260514T190000
DTSTAMP:20260424T062504
CREATED:20241127T121743Z
LAST-MODIFIED:20241127T121743Z
UID:10002996-1778781600-1778785200@theccbb.com
SUMMARY:Kennesaw State University\, Georgia (Rotaract Club)
DESCRIPTION:Email: KSUROTARACT@LIST.KENNESAW.EDU\nPhone: 470-578-6965\nWebsite: https://www.kennesaw.edu/ \nWHERE (In-Person): 3333 Busbee Dr NW\, Kennesaw\, GA 30144
URL:https://theccbb.com/event/kennesaw-state-university-georgia-rotaract-club/2026-05-14/
LOCATION:Rotaract Club (Kennesaw State University)\, 3333 Busbee Dr NW\, Kennesaw\, Georgia\, 30144
CATEGORIES:Rotary Club
END:VEVENT
BEGIN:VEVENT
DTSTART;TZID=America/New_York:20260521T180000
DTEND;TZID=America/New_York:20260521T190000
DTSTAMP:20260424T062504
CREATED:20241127T121743Z
LAST-MODIFIED:20241127T121743Z
UID:10002997-1779386400-1779390000@theccbb.com
SUMMARY:Kennesaw State University\, Georgia (Rotaract Club)
DESCRIPTION:Email: KSUROTARACT@LIST.KENNESAW.EDU\nPhone: 470-578-6965\nWebsite: https://www.kennesaw.edu/ \nWHERE (In-Person): 3333 Busbee Dr NW\, Kennesaw\, GA 30144
URL:https://theccbb.com/event/kennesaw-state-university-georgia-rotaract-club/2026-05-21/
LOCATION:Rotaract Club (Kennesaw State University)\, 3333 Busbee Dr NW\, Kennesaw\, Georgia\, 30144
CATEGORIES:Rotary Club
END:VEVENT
BEGIN:VEVENT
DTSTART;TZID=America/New_York:20260528T180000
DTEND;TZID=America/New_York:20260528T190000
DTSTAMP:20260424T062504
CREATED:20241127T121743Z
LAST-MODIFIED:20241127T121743Z
UID:10002998-1779991200-1779994800@theccbb.com
SUMMARY:Kennesaw State University\, Georgia (Rotaract Club)
DESCRIPTION:Email: KSUROTARACT@LIST.KENNESAW.EDU\nPhone: 470-578-6965\nWebsite: https://www.kennesaw.edu/ \nWHERE (In-Person): 3333 Busbee Dr NW\, Kennesaw\, GA 30144
URL:https://theccbb.com/event/kennesaw-state-university-georgia-rotaract-club/2026-05-28/
LOCATION:Rotaract Club (Kennesaw State University)\, 3333 Busbee Dr NW\, Kennesaw\, Georgia\, 30144
CATEGORIES:Rotary Club
END:VEVENT
BEGIN:VEVENT
DTSTART;TZID=America/New_York:20260604T180000
DTEND;TZID=America/New_York:20260604T190000
DTSTAMP:20260424T062504
CREATED:20241127T121743Z
LAST-MODIFIED:20241127T121743Z
UID:10002999-1780596000-1780599600@theccbb.com
SUMMARY:Kennesaw State University\, Georgia (Rotaract Club)
DESCRIPTION:Email: KSUROTARACT@LIST.KENNESAW.EDU\nPhone: 470-578-6965\nWebsite: https://www.kennesaw.edu/ \nWHERE (In-Person): 3333 Busbee Dr NW\, Kennesaw\, GA 30144
URL:https://theccbb.com/event/kennesaw-state-university-georgia-rotaract-club/2026-06-04/
LOCATION:Rotaract Club (Kennesaw State University)\, 3333 Busbee Dr NW\, Kennesaw\, Georgia\, 30144
CATEGORIES:Rotary Club
END:VEVENT
BEGIN:VEVENT
DTSTART;TZID=America/New_York:20260611T180000
DTEND;TZID=America/New_York:20260611T190000
DTSTAMP:20260424T062504
CREATED:20241127T121743Z
LAST-MODIFIED:20241127T121743Z
UID:10003000-1781200800-1781204400@theccbb.com
SUMMARY:Kennesaw State University\, Georgia (Rotaract Club)
DESCRIPTION:Email: KSUROTARACT@LIST.KENNESAW.EDU\nPhone: 470-578-6965\nWebsite: https://www.kennesaw.edu/ \nWHERE (In-Person): 3333 Busbee Dr NW\, Kennesaw\, GA 30144
URL:https://theccbb.com/event/kennesaw-state-university-georgia-rotaract-club/2026-06-11/
LOCATION:Rotaract Club (Kennesaw State University)\, 3333 Busbee Dr NW\, Kennesaw\, Georgia\, 30144
CATEGORIES:Rotary Club
END:VEVENT
BEGIN:VEVENT
DTSTART;TZID=America/New_York:20260618T180000
DTEND;TZID=America/New_York:20260618T190000
DTSTAMP:20260424T062504
CREATED:20241127T121743Z
LAST-MODIFIED:20241127T121743Z
UID:10003001-1781805600-1781809200@theccbb.com
SUMMARY:Kennesaw State University\, Georgia (Rotaract Club)
DESCRIPTION:Email: KSUROTARACT@LIST.KENNESAW.EDU\nPhone: 470-578-6965\nWebsite: https://www.kennesaw.edu/ \nWHERE (In-Person): 3333 Busbee Dr NW\, Kennesaw\, GA 30144
URL:https://theccbb.com/event/kennesaw-state-university-georgia-rotaract-club/2026-06-18/
LOCATION:Rotaract Club (Kennesaw State University)\, 3333 Busbee Dr NW\, Kennesaw\, Georgia\, 30144
CATEGORIES:Rotary Club
END:VEVENT
BEGIN:VEVENT
DTSTART;TZID=America/New_York:20260625T180000
DTEND;TZID=America/New_York:20260625T190000
DTSTAMP:20260424T062504
CREATED:20241127T121743Z
LAST-MODIFIED:20241127T121743Z
UID:10003002-1782410400-1782414000@theccbb.com
SUMMARY:Kennesaw State University\, Georgia (Rotaract Club)
DESCRIPTION:Email: KSUROTARACT@LIST.KENNESAW.EDU\nPhone: 470-578-6965\nWebsite: https://www.kennesaw.edu/ \nWHERE (In-Person): 3333 Busbee Dr NW\, Kennesaw\, GA 30144
URL:https://theccbb.com/event/kennesaw-state-university-georgia-rotaract-club/2026-06-25/
LOCATION:Rotaract Club (Kennesaw State University)\, 3333 Busbee Dr NW\, Kennesaw\, Georgia\, 30144
CATEGORIES:Rotary Club
END:VEVENT
BEGIN:VEVENT
DTSTART;TZID=America/New_York:20260702T180000
DTEND;TZID=America/New_York:20260702T190000
DTSTAMP:20260424T062504
CREATED:20241127T121743Z
LAST-MODIFIED:20241127T121743Z
UID:10003003-1783015200-1783018800@theccbb.com
SUMMARY:Kennesaw State University\, Georgia (Rotaract Club)
DESCRIPTION:Email: KSUROTARACT@LIST.KENNESAW.EDU\nPhone: 470-578-6965\nWebsite: https://www.kennesaw.edu/ \nWHERE (In-Person): 3333 Busbee Dr NW\, Kennesaw\, GA 30144
URL:https://theccbb.com/event/kennesaw-state-university-georgia-rotaract-club/2026-07-02/
LOCATION:Rotaract Club (Kennesaw State University)\, 3333 Busbee Dr NW\, Kennesaw\, Georgia\, 30144
CATEGORIES:Rotary Club
END:VEVENT
BEGIN:VEVENT
DTSTART;TZID=America/New_York:20260709T180000
DTEND;TZID=America/New_York:20260709T190000
DTSTAMP:20260424T062504
CREATED:20241127T121743Z
LAST-MODIFIED:20241127T121743Z
UID:10003004-1783620000-1783623600@theccbb.com
SUMMARY:Kennesaw State University\, Georgia (Rotaract Club)
DESCRIPTION:Email: KSUROTARACT@LIST.KENNESAW.EDU\nPhone: 470-578-6965\nWebsite: https://www.kennesaw.edu/ \nWHERE (In-Person): 3333 Busbee Dr NW\, Kennesaw\, GA 30144
URL:https://theccbb.com/event/kennesaw-state-university-georgia-rotaract-club/2026-07-09/
LOCATION:Rotaract Club (Kennesaw State University)\, 3333 Busbee Dr NW\, Kennesaw\, Georgia\, 30144
CATEGORIES:Rotary Club
END:VEVENT
BEGIN:VEVENT
DTSTART;TZID=America/New_York:20260716T180000
DTEND;TZID=America/New_York:20260716T190000
DTSTAMP:20260424T062504
CREATED:20241127T121743Z
LAST-MODIFIED:20241127T121743Z
UID:10003005-1784224800-1784228400@theccbb.com
SUMMARY:Kennesaw State University\, Georgia (Rotaract Club)
DESCRIPTION:Email: KSUROTARACT@LIST.KENNESAW.EDU\nPhone: 470-578-6965\nWebsite: https://www.kennesaw.edu/ \nWHERE (In-Person): 3333 Busbee Dr NW\, Kennesaw\, GA 30144
URL:https://theccbb.com/event/kennesaw-state-university-georgia-rotaract-club/2026-07-16/
LOCATION:Rotaract Club (Kennesaw State University)\, 3333 Busbee Dr NW\, Kennesaw\, Georgia\, 30144
CATEGORIES:Rotary Club
END:VEVENT
BEGIN:VEVENT
DTSTART;TZID=America/New_York:20260723T180000
DTEND;TZID=America/New_York:20260723T190000
DTSTAMP:20260424T062504
CREATED:20241127T121743Z
LAST-MODIFIED:20241127T121743Z
UID:10003006-1784829600-1784833200@theccbb.com
SUMMARY:Kennesaw State University\, Georgia (Rotaract Club)
DESCRIPTION:Email: KSUROTARACT@LIST.KENNESAW.EDU\nPhone: 470-578-6965\nWebsite: https://www.kennesaw.edu/ \nWHERE (In-Person): 3333 Busbee Dr NW\, Kennesaw\, GA 30144
URL:https://theccbb.com/event/kennesaw-state-university-georgia-rotaract-club/2026-07-23/
LOCATION:Rotaract Club (Kennesaw State University)\, 3333 Busbee Dr NW\, Kennesaw\, Georgia\, 30144
CATEGORIES:Rotary Club
END:VEVENT
BEGIN:VEVENT
DTSTART;TZID=America/New_York:20260730T180000
DTEND;TZID=America/New_York:20260730T190000
DTSTAMP:20260424T062504
CREATED:20241127T121743Z
LAST-MODIFIED:20241127T121743Z
UID:10003007-1785434400-1785438000@theccbb.com
SUMMARY:Kennesaw State University\, Georgia (Rotaract Club)
DESCRIPTION:Email: KSUROTARACT@LIST.KENNESAW.EDU\nPhone: 470-578-6965\nWebsite: https://www.kennesaw.edu/ \nWHERE (In-Person): 3333 Busbee Dr NW\, Kennesaw\, GA 30144
URL:https://theccbb.com/event/kennesaw-state-university-georgia-rotaract-club/2026-07-30/
LOCATION:Rotaract Club (Kennesaw State University)\, 3333 Busbee Dr NW\, Kennesaw\, Georgia\, 30144
CATEGORIES:Rotary Club
END:VEVENT
BEGIN:VEVENT
DTSTART;TZID=America/New_York:20260806T180000
DTEND;TZID=America/New_York:20260806T190000
DTSTAMP:20260424T062504
CREATED:20241127T121743Z
LAST-MODIFIED:20241127T121743Z
UID:10003008-1786039200-1786042800@theccbb.com
SUMMARY:Kennesaw State University\, Georgia (Rotaract Club)
DESCRIPTION:Email: KSUROTARACT@LIST.KENNESAW.EDU\nPhone: 470-578-6965\nWebsite: https://www.kennesaw.edu/ \nWHERE (In-Person): 3333 Busbee Dr NW\, Kennesaw\, GA 30144
URL:https://theccbb.com/event/kennesaw-state-university-georgia-rotaract-club/2026-08-06/
LOCATION:Rotaract Club (Kennesaw State University)\, 3333 Busbee Dr NW\, Kennesaw\, Georgia\, 30144
CATEGORIES:Rotary Club
END:VEVENT
BEGIN:VEVENT
DTSTART;TZID=America/New_York:20260813T180000
DTEND;TZID=America/New_York:20260813T190000
DTSTAMP:20260424T062504
CREATED:20241127T121743Z
LAST-MODIFIED:20241127T121743Z
UID:10003009-1786644000-1786647600@theccbb.com
SUMMARY:Kennesaw State University\, Georgia (Rotaract Club)
DESCRIPTION:Email: KSUROTARACT@LIST.KENNESAW.EDU\nPhone: 470-578-6965\nWebsite: https://www.kennesaw.edu/ \nWHERE (In-Person): 3333 Busbee Dr NW\, Kennesaw\, GA 30144
URL:https://theccbb.com/event/kennesaw-state-university-georgia-rotaract-club/2026-08-13/
LOCATION:Rotaract Club (Kennesaw State University)\, 3333 Busbee Dr NW\, Kennesaw\, Georgia\, 30144
CATEGORIES:Rotary Club
END:VEVENT
BEGIN:VEVENT
DTSTART;TZID=America/New_York:20260820T180000
DTEND;TZID=America/New_York:20260820T190000
DTSTAMP:20260424T062504
CREATED:20241127T121743Z
LAST-MODIFIED:20241127T121743Z
UID:10003010-1787248800-1787252400@theccbb.com
SUMMARY:Kennesaw State University\, Georgia (Rotaract Club)
DESCRIPTION:Email: KSUROTARACT@LIST.KENNESAW.EDU\nPhone: 470-578-6965\nWebsite: https://www.kennesaw.edu/ \nWHERE (In-Person): 3333 Busbee Dr NW\, Kennesaw\, GA 30144
URL:https://theccbb.com/event/kennesaw-state-university-georgia-rotaract-club/2026-08-20/
LOCATION:Rotaract Club (Kennesaw State University)\, 3333 Busbee Dr NW\, Kennesaw\, Georgia\, 30144
CATEGORIES:Rotary Club
END:VEVENT
BEGIN:VEVENT
DTSTART;TZID=America/New_York:20260827T180000
DTEND;TZID=America/New_York:20260827T190000
DTSTAMP:20260424T062504
CREATED:20241127T121743Z
LAST-MODIFIED:20241127T121743Z
UID:10003011-1787853600-1787857200@theccbb.com
SUMMARY:Kennesaw State University\, Georgia (Rotaract Club)
DESCRIPTION:Email: KSUROTARACT@LIST.KENNESAW.EDU\nPhone: 470-578-6965\nWebsite: https://www.kennesaw.edu/ \nWHERE (In-Person): 3333 Busbee Dr NW\, Kennesaw\, GA 30144
URL:https://theccbb.com/event/kennesaw-state-university-georgia-rotaract-club/2026-08-27/
LOCATION:Rotaract Club (Kennesaw State University)\, 3333 Busbee Dr NW\, Kennesaw\, Georgia\, 30144
CATEGORIES:Rotary Club
END:VEVENT
BEGIN:VEVENT
DTSTART;TZID=America/New_York:20260903T180000
DTEND;TZID=America/New_York:20260903T190000
DTSTAMP:20260424T062504
CREATED:20241127T121743Z
LAST-MODIFIED:20241127T121743Z
UID:10003012-1788458400-1788462000@theccbb.com
SUMMARY:Kennesaw State University\, Georgia (Rotaract Club)
DESCRIPTION:Email: KSUROTARACT@LIST.KENNESAW.EDU\nPhone: 470-578-6965\nWebsite: https://www.kennesaw.edu/ \nWHERE (In-Person): 3333 Busbee Dr NW\, Kennesaw\, GA 30144
URL:https://theccbb.com/event/kennesaw-state-university-georgia-rotaract-club/2026-09-03/
LOCATION:Rotaract Club (Kennesaw State University)\, 3333 Busbee Dr NW\, Kennesaw\, Georgia\, 30144
CATEGORIES:Rotary Club
END:VEVENT
BEGIN:VEVENT
DTSTART;TZID=America/New_York:20260910T180000
DTEND;TZID=America/New_York:20260910T190000
DTSTAMP:20260424T062504
CREATED:20241127T121743Z
LAST-MODIFIED:20241127T121743Z
UID:10003013-1789063200-1789066800@theccbb.com
SUMMARY:Kennesaw State University\, Georgia (Rotaract Club)
DESCRIPTION:Email: KSUROTARACT@LIST.KENNESAW.EDU\nPhone: 470-578-6965\nWebsite: https://www.kennesaw.edu/ \nWHERE (In-Person): 3333 Busbee Dr NW\, Kennesaw\, GA 30144
URL:https://theccbb.com/event/kennesaw-state-university-georgia-rotaract-club/2026-09-10/
LOCATION:Rotaract Club (Kennesaw State University)\, 3333 Busbee Dr NW\, Kennesaw\, Georgia\, 30144
CATEGORIES:Rotary Club
END:VEVENT
BEGIN:VEVENT
DTSTART;TZID=America/New_York:20260917T180000
DTEND;TZID=America/New_York:20260917T190000
DTSTAMP:20260424T062504
CREATED:20241127T121743Z
LAST-MODIFIED:20241127T121743Z
UID:10003014-1789668000-1789671600@theccbb.com
SUMMARY:Kennesaw State University\, Georgia (Rotaract Club)
DESCRIPTION:Email: KSUROTARACT@LIST.KENNESAW.EDU\nPhone: 470-578-6965\nWebsite: https://www.kennesaw.edu/ \nWHERE (In-Person): 3333 Busbee Dr NW\, Kennesaw\, GA 30144
URL:https://theccbb.com/event/kennesaw-state-university-georgia-rotaract-club/2026-09-17/
LOCATION:Rotaract Club (Kennesaw State University)\, 3333 Busbee Dr NW\, Kennesaw\, Georgia\, 30144
CATEGORIES:Rotary Club
END:VEVENT
BEGIN:VEVENT
DTSTART;TZID=America/New_York:20260924T180000
DTEND;TZID=America/New_York:20260924T190000
DTSTAMP:20260424T062504
CREATED:20241127T121743Z
LAST-MODIFIED:20241127T121743Z
UID:10003015-1790272800-1790276400@theccbb.com
SUMMARY:Kennesaw State University\, Georgia (Rotaract Club)
DESCRIPTION:Email: KSUROTARACT@LIST.KENNESAW.EDU\nPhone: 470-578-6965\nWebsite: https://www.kennesaw.edu/ \nWHERE (In-Person): 3333 Busbee Dr NW\, Kennesaw\, GA 30144
URL:https://theccbb.com/event/kennesaw-state-university-georgia-rotaract-club/2026-09-24/
LOCATION:Rotaract Club (Kennesaw State University)\, 3333 Busbee Dr NW\, Kennesaw\, Georgia\, 30144
CATEGORIES:Rotary Club
END:VEVENT
BEGIN:VEVENT
DTSTART;TZID=America/New_York:20261001T180000
DTEND;TZID=America/New_York:20261001T190000
DTSTAMP:20260424T062504
CREATED:20241127T121743Z
LAST-MODIFIED:20241127T121743Z
UID:10003016-1790877600-1790881200@theccbb.com
SUMMARY:Kennesaw State University\, Georgia (Rotaract Club)
DESCRIPTION:Email: KSUROTARACT@LIST.KENNESAW.EDU\nPhone: 470-578-6965\nWebsite: https://www.kennesaw.edu/ \nWHERE (In-Person): 3333 Busbee Dr NW\, Kennesaw\, GA 30144
URL:https://theccbb.com/event/kennesaw-state-university-georgia-rotaract-club/2026-10-01/
LOCATION:Rotaract Club (Kennesaw State University)\, 3333 Busbee Dr NW\, Kennesaw\, Georgia\, 30144
CATEGORIES:Rotary Club
END:VEVENT
BEGIN:VEVENT
DTSTART;TZID=America/New_York:20261008T180000
DTEND;TZID=America/New_York:20261008T190000
DTSTAMP:20260424T062504
CREATED:20241127T121743Z
LAST-MODIFIED:20241127T121743Z
UID:10003017-1791482400-1791486000@theccbb.com
SUMMARY:Kennesaw State University\, Georgia (Rotaract Club)
DESCRIPTION:Email: KSUROTARACT@LIST.KENNESAW.EDU\nPhone: 470-578-6965\nWebsite: https://www.kennesaw.edu/ \nWHERE (In-Person): 3333 Busbee Dr NW\, Kennesaw\, GA 30144
URL:https://theccbb.com/event/kennesaw-state-university-georgia-rotaract-club/2026-10-08/
LOCATION:Rotaract Club (Kennesaw State University)\, 3333 Busbee Dr NW\, Kennesaw\, Georgia\, 30144
CATEGORIES:Rotary Club
END:VEVENT
BEGIN:VEVENT
DTSTART;TZID=America/New_York:20261015T180000
DTEND;TZID=America/New_York:20261015T190000
DTSTAMP:20260424T062504
CREATED:20241127T121743Z
LAST-MODIFIED:20241127T121743Z
UID:10003018-1792087200-1792090800@theccbb.com
SUMMARY:Kennesaw State University\, Georgia (Rotaract Club)
DESCRIPTION:Email: KSUROTARACT@LIST.KENNESAW.EDU\nPhone: 470-578-6965\nWebsite: https://www.kennesaw.edu/ \nWHERE (In-Person): 3333 Busbee Dr NW\, Kennesaw\, GA 30144
URL:https://theccbb.com/event/kennesaw-state-university-georgia-rotaract-club/2026-10-15/
LOCATION:Rotaract Club (Kennesaw State University)\, 3333 Busbee Dr NW\, Kennesaw\, Georgia\, 30144
CATEGORIES:Rotary Club
END:VEVENT
BEGIN:VEVENT
DTSTART;TZID=America/New_York:20261022T180000
DTEND;TZID=America/New_York:20261022T190000
DTSTAMP:20260424T062504
CREATED:20241127T121743Z
LAST-MODIFIED:20241127T121743Z
UID:10003019-1792692000-1792695600@theccbb.com
SUMMARY:Kennesaw State University\, Georgia (Rotaract Club)
DESCRIPTION:Email: KSUROTARACT@LIST.KENNESAW.EDU\nPhone: 470-578-6965\nWebsite: https://www.kennesaw.edu/ \nWHERE (In-Person): 3333 Busbee Dr NW\, Kennesaw\, GA 30144
URL:https://theccbb.com/event/kennesaw-state-university-georgia-rotaract-club/2026-10-22/
LOCATION:Rotaract Club (Kennesaw State University)\, 3333 Busbee Dr NW\, Kennesaw\, Georgia\, 30144
CATEGORIES:Rotary Club
END:VEVENT
BEGIN:VEVENT
DTSTART;TZID=America/New_York:20261029T180000
DTEND;TZID=America/New_York:20261029T190000
DTSTAMP:20260424T062504
CREATED:20241127T121743Z
LAST-MODIFIED:20241127T121743Z
UID:10003020-1793296800-1793300400@theccbb.com
SUMMARY:Kennesaw State University\, Georgia (Rotaract Club)
DESCRIPTION:Email: KSUROTARACT@LIST.KENNESAW.EDU\nPhone: 470-578-6965\nWebsite: https://www.kennesaw.edu/ \nWHERE (In-Person): 3333 Busbee Dr NW\, Kennesaw\, GA 30144
URL:https://theccbb.com/event/kennesaw-state-university-georgia-rotaract-club/2026-10-29/
LOCATION:Rotaract Club (Kennesaw State University)\, 3333 Busbee Dr NW\, Kennesaw\, Georgia\, 30144
CATEGORIES:Rotary Club
END:VEVENT
BEGIN:VEVENT
DTSTART;TZID=America/New_York:20261105T180000
DTEND;TZID=America/New_York:20261105T190000
DTSTAMP:20260424T062504
CREATED:20241127T121743Z
LAST-MODIFIED:20241127T121743Z
UID:10003021-1793901600-1793905200@theccbb.com
SUMMARY:Kennesaw State University\, Georgia (Rotaract Club)
DESCRIPTION:Email: KSUROTARACT@LIST.KENNESAW.EDU\nPhone: 470-578-6965\nWebsite: https://www.kennesaw.edu/ \nWHERE (In-Person): 3333 Busbee Dr NW\, Kennesaw\, GA 30144
URL:https://theccbb.com/event/kennesaw-state-university-georgia-rotaract-club/2026-11-05/
LOCATION:Rotaract Club (Kennesaw State University)\, 3333 Busbee Dr NW\, Kennesaw\, Georgia\, 30144
CATEGORIES:Rotary Club
END:VEVENT
BEGIN:VEVENT
DTSTART;TZID=America/New_York:20261112T180000
DTEND;TZID=America/New_York:20261112T190000
DTSTAMP:20260424T062504
CREATED:20241127T121743Z
LAST-MODIFIED:20241127T121743Z
UID:10003022-1794506400-1794510000@theccbb.com
SUMMARY:Kennesaw State University\, Georgia (Rotaract Club)
DESCRIPTION:Email: KSUROTARACT@LIST.KENNESAW.EDU\nPhone: 470-578-6965\nWebsite: https://www.kennesaw.edu/ \nWHERE (In-Person): 3333 Busbee Dr NW\, Kennesaw\, GA 30144
URL:https://theccbb.com/event/kennesaw-state-university-georgia-rotaract-club/2026-11-12/
LOCATION:Rotaract Club (Kennesaw State University)\, 3333 Busbee Dr NW\, Kennesaw\, Georgia\, 30144
CATEGORIES:Rotary Club
END:VEVENT
BEGIN:VEVENT
DTSTART;TZID=America/New_York:20261119T180000
DTEND;TZID=America/New_York:20261119T190000
DTSTAMP:20260424T062504
CREATED:20241127T121743Z
LAST-MODIFIED:20241127T121743Z
UID:10003023-1795111200-1795114800@theccbb.com
SUMMARY:Kennesaw State University\, Georgia (Rotaract Club)
DESCRIPTION:Email: KSUROTARACT@LIST.KENNESAW.EDU\nPhone: 470-578-6965\nWebsite: https://www.kennesaw.edu/ \nWHERE (In-Person): 3333 Busbee Dr NW\, Kennesaw\, GA 30144
URL:https://theccbb.com/event/kennesaw-state-university-georgia-rotaract-club/2026-11-19/
LOCATION:Rotaract Club (Kennesaw State University)\, 3333 Busbee Dr NW\, Kennesaw\, Georgia\, 30144
CATEGORIES:Rotary Club
END:VEVENT
END:VCALENDAR