BEGIN:VCALENDAR
VERSION:2.0
PRODID:-//Cobb County Business Bootcamp - ECPv6.15.18//NONSGML v1.0//EN
CALSCALE:GREGORIAN
METHOD:PUBLISH
X-WR-CALNAME:Cobb County Business Bootcamp
X-ORIGINAL-URL:https://theccbb.com
X-WR-CALDESC:Events for Cobb County Business Bootcamp
REFRESH-INTERVAL;VALUE=DURATION:PT1H
X-Robots-Tag:noindex
X-PUBLISHED-TTL:PT1H
BEGIN:VTIMEZONE
TZID:America/New_York
BEGIN:DAYLIGHT
TZOFFSETFROM:-0500
TZOFFSETTO:-0400
TZNAME:EDT
DTSTART:20250309T070000
END:DAYLIGHT
BEGIN:STANDARD
TZOFFSETFROM:-0400
TZOFFSETTO:-0500
TZNAME:EST
DTSTART:20251102T060000
END:STANDARD
BEGIN:DAYLIGHT
TZOFFSETFROM:-0500
TZOFFSETTO:-0400
TZNAME:EDT
DTSTART:20260308T070000
END:DAYLIGHT
BEGIN:STANDARD
TZOFFSETFROM:-0400
TZOFFSETTO:-0500
TZNAME:EST
DTSTART:20261101T060000
END:STANDARD
BEGIN:DAYLIGHT
TZOFFSETFROM:-0500
TZOFFSETTO:-0400
TZNAME:EDT
DTSTART:20270314T070000
END:DAYLIGHT
BEGIN:STANDARD
TZOFFSETFROM:-0400
TZOFFSETTO:-0500
TZNAME:EST
DTSTART:20271107T060000
END:STANDARD
END:VTIMEZONE
BEGIN:VEVENT
DTSTART;TZID=America/New_York:20260428T121500
DTEND;TZID=America/New_York:20260428T133000
DTSTAMP:20260425T174630
CREATED:20241127T115848Z
LAST-MODIFIED:20241127T115848Z
UID:10002732-1777378500-1777383000@theccbb.com
SUMMARY:Smyrna\, Georgia (Rotary Club)
DESCRIPTION:Email: smyrnarotaryga@gmail.com\nWebsite: https://smyrnarotary.org/ \nSmyrna Rotary Club\nWHERE (In-Person): 3180 Atlanta Rd SE\, Smyrna\, 30080-8256\, United States\, Georgia
URL:https://theccbb.com/event/smyrna-georgia-rotary-club/2026-04-28/
LOCATION:Rotary Club (Smyrna)\, 3180 Atlanta Rd SE\, Smyrna\, Georgia\, 30080
CATEGORIES:Rotary Club
END:VEVENT
BEGIN:VEVENT
DTSTART;TZID=America/New_York:20260505T121500
DTEND;TZID=America/New_York:20260505T133000
DTSTAMP:20260425T174630
CREATED:20241127T115848Z
LAST-MODIFIED:20241127T115848Z
UID:10002733-1777983300-1777987800@theccbb.com
SUMMARY:Smyrna\, Georgia (Rotary Club)
DESCRIPTION:Email: smyrnarotaryga@gmail.com\nWebsite: https://smyrnarotary.org/ \nSmyrna Rotary Club\nWHERE (In-Person): 3180 Atlanta Rd SE\, Smyrna\, 30080-8256\, United States\, Georgia
URL:https://theccbb.com/event/smyrna-georgia-rotary-club/2026-05-05/
LOCATION:Rotary Club (Smyrna)\, 3180 Atlanta Rd SE\, Smyrna\, Georgia\, 30080
CATEGORIES:Rotary Club
END:VEVENT
BEGIN:VEVENT
DTSTART;TZID=America/New_York:20260512T121500
DTEND;TZID=America/New_York:20260512T133000
DTSTAMP:20260425T174630
CREATED:20241127T115848Z
LAST-MODIFIED:20241127T115848Z
UID:10002734-1778588100-1778592600@theccbb.com
SUMMARY:Smyrna\, Georgia (Rotary Club)
DESCRIPTION:Email: smyrnarotaryga@gmail.com\nWebsite: https://smyrnarotary.org/ \nSmyrna Rotary Club\nWHERE (In-Person): 3180 Atlanta Rd SE\, Smyrna\, 30080-8256\, United States\, Georgia
URL:https://theccbb.com/event/smyrna-georgia-rotary-club/2026-05-12/
LOCATION:Rotary Club (Smyrna)\, 3180 Atlanta Rd SE\, Smyrna\, Georgia\, 30080
CATEGORIES:Rotary Club
END:VEVENT
BEGIN:VEVENT
DTSTART;TZID=America/New_York:20260519T121500
DTEND;TZID=America/New_York:20260519T133000
DTSTAMP:20260425T174630
CREATED:20241127T115848Z
LAST-MODIFIED:20241127T115848Z
UID:10002735-1779192900-1779197400@theccbb.com
SUMMARY:Smyrna\, Georgia (Rotary Club)
DESCRIPTION:Email: smyrnarotaryga@gmail.com\nWebsite: https://smyrnarotary.org/ \nSmyrna Rotary Club\nWHERE (In-Person): 3180 Atlanta Rd SE\, Smyrna\, 30080-8256\, United States\, Georgia
URL:https://theccbb.com/event/smyrna-georgia-rotary-club/2026-05-19/
LOCATION:Rotary Club (Smyrna)\, 3180 Atlanta Rd SE\, Smyrna\, Georgia\, 30080
CATEGORIES:Rotary Club
END:VEVENT
BEGIN:VEVENT
DTSTART;TZID=America/New_York:20260526T121500
DTEND;TZID=America/New_York:20260526T133000
DTSTAMP:20260425T174630
CREATED:20241127T115848Z
LAST-MODIFIED:20241127T115848Z
UID:10002736-1779797700-1779802200@theccbb.com
SUMMARY:Smyrna\, Georgia (Rotary Club)
DESCRIPTION:Email: smyrnarotaryga@gmail.com\nWebsite: https://smyrnarotary.org/ \nSmyrna Rotary Club\nWHERE (In-Person): 3180 Atlanta Rd SE\, Smyrna\, 30080-8256\, United States\, Georgia
URL:https://theccbb.com/event/smyrna-georgia-rotary-club/2026-05-26/
LOCATION:Rotary Club (Smyrna)\, 3180 Atlanta Rd SE\, Smyrna\, Georgia\, 30080
CATEGORIES:Rotary Club
END:VEVENT
BEGIN:VEVENT
DTSTART;TZID=America/New_York:20260602T121500
DTEND;TZID=America/New_York:20260602T133000
DTSTAMP:20260425T174630
CREATED:20241127T115848Z
LAST-MODIFIED:20241127T115848Z
UID:10002737-1780402500-1780407000@theccbb.com
SUMMARY:Smyrna\, Georgia (Rotary Club)
DESCRIPTION:Email: smyrnarotaryga@gmail.com\nWebsite: https://smyrnarotary.org/ \nSmyrna Rotary Club\nWHERE (In-Person): 3180 Atlanta Rd SE\, Smyrna\, 30080-8256\, United States\, Georgia
URL:https://theccbb.com/event/smyrna-georgia-rotary-club/2026-06-02/
LOCATION:Rotary Club (Smyrna)\, 3180 Atlanta Rd SE\, Smyrna\, Georgia\, 30080
CATEGORIES:Rotary Club
END:VEVENT
BEGIN:VEVENT
DTSTART;TZID=America/New_York:20260609T121500
DTEND;TZID=America/New_York:20260609T133000
DTSTAMP:20260425T174630
CREATED:20241127T115848Z
LAST-MODIFIED:20241127T115848Z
UID:10002738-1781007300-1781011800@theccbb.com
SUMMARY:Smyrna\, Georgia (Rotary Club)
DESCRIPTION:Email: smyrnarotaryga@gmail.com\nWebsite: https://smyrnarotary.org/ \nSmyrna Rotary Club\nWHERE (In-Person): 3180 Atlanta Rd SE\, Smyrna\, 30080-8256\, United States\, Georgia
URL:https://theccbb.com/event/smyrna-georgia-rotary-club/2026-06-09/
LOCATION:Rotary Club (Smyrna)\, 3180 Atlanta Rd SE\, Smyrna\, Georgia\, 30080
CATEGORIES:Rotary Club
END:VEVENT
BEGIN:VEVENT
DTSTART;TZID=America/New_York:20260616T121500
DTEND;TZID=America/New_York:20260616T133000
DTSTAMP:20260425T174630
CREATED:20241127T115848Z
LAST-MODIFIED:20241127T115848Z
UID:10002739-1781612100-1781616600@theccbb.com
SUMMARY:Smyrna\, Georgia (Rotary Club)
DESCRIPTION:Email: smyrnarotaryga@gmail.com\nWebsite: https://smyrnarotary.org/ \nSmyrna Rotary Club\nWHERE (In-Person): 3180 Atlanta Rd SE\, Smyrna\, 30080-8256\, United States\, Georgia
URL:https://theccbb.com/event/smyrna-georgia-rotary-club/2026-06-16/
LOCATION:Rotary Club (Smyrna)\, 3180 Atlanta Rd SE\, Smyrna\, Georgia\, 30080
CATEGORIES:Rotary Club
END:VEVENT
BEGIN:VEVENT
DTSTART;TZID=America/New_York:20260623T121500
DTEND;TZID=America/New_York:20260623T133000
DTSTAMP:20260425T174630
CREATED:20241127T115848Z
LAST-MODIFIED:20241127T115848Z
UID:10002740-1782216900-1782221400@theccbb.com
SUMMARY:Smyrna\, Georgia (Rotary Club)
DESCRIPTION:Email: smyrnarotaryga@gmail.com\nWebsite: https://smyrnarotary.org/ \nSmyrna Rotary Club\nWHERE (In-Person): 3180 Atlanta Rd SE\, Smyrna\, 30080-8256\, United States\, Georgia
URL:https://theccbb.com/event/smyrna-georgia-rotary-club/2026-06-23/
LOCATION:Rotary Club (Smyrna)\, 3180 Atlanta Rd SE\, Smyrna\, Georgia\, 30080
CATEGORIES:Rotary Club
END:VEVENT
BEGIN:VEVENT
DTSTART;TZID=America/New_York:20260630T121500
DTEND;TZID=America/New_York:20260630T133000
DTSTAMP:20260425T174630
CREATED:20241127T115848Z
LAST-MODIFIED:20241127T115848Z
UID:10002741-1782821700-1782826200@theccbb.com
SUMMARY:Smyrna\, Georgia (Rotary Club)
DESCRIPTION:Email: smyrnarotaryga@gmail.com\nWebsite: https://smyrnarotary.org/ \nSmyrna Rotary Club\nWHERE (In-Person): 3180 Atlanta Rd SE\, Smyrna\, 30080-8256\, United States\, Georgia
URL:https://theccbb.com/event/smyrna-georgia-rotary-club/2026-06-30/
LOCATION:Rotary Club (Smyrna)\, 3180 Atlanta Rd SE\, Smyrna\, Georgia\, 30080
CATEGORIES:Rotary Club
END:VEVENT
BEGIN:VEVENT
DTSTART;TZID=America/New_York:20260707T121500
DTEND;TZID=America/New_York:20260707T133000
DTSTAMP:20260425T174630
CREATED:20241127T115848Z
LAST-MODIFIED:20241127T115848Z
UID:10002742-1783426500-1783431000@theccbb.com
SUMMARY:Smyrna\, Georgia (Rotary Club)
DESCRIPTION:Email: smyrnarotaryga@gmail.com\nWebsite: https://smyrnarotary.org/ \nSmyrna Rotary Club\nWHERE (In-Person): 3180 Atlanta Rd SE\, Smyrna\, 30080-8256\, United States\, Georgia
URL:https://theccbb.com/event/smyrna-georgia-rotary-club/2026-07-07/
LOCATION:Rotary Club (Smyrna)\, 3180 Atlanta Rd SE\, Smyrna\, Georgia\, 30080
CATEGORIES:Rotary Club
END:VEVENT
BEGIN:VEVENT
DTSTART;TZID=America/New_York:20260714T121500
DTEND;TZID=America/New_York:20260714T133000
DTSTAMP:20260425T174630
CREATED:20241127T115848Z
LAST-MODIFIED:20241127T115848Z
UID:10002743-1784031300-1784035800@theccbb.com
SUMMARY:Smyrna\, Georgia (Rotary Club)
DESCRIPTION:Email: smyrnarotaryga@gmail.com\nWebsite: https://smyrnarotary.org/ \nSmyrna Rotary Club\nWHERE (In-Person): 3180 Atlanta Rd SE\, Smyrna\, 30080-8256\, United States\, Georgia
URL:https://theccbb.com/event/smyrna-georgia-rotary-club/2026-07-14/
LOCATION:Rotary Club (Smyrna)\, 3180 Atlanta Rd SE\, Smyrna\, Georgia\, 30080
CATEGORIES:Rotary Club
END:VEVENT
BEGIN:VEVENT
DTSTART;TZID=America/New_York:20260721T121500
DTEND;TZID=America/New_York:20260721T133000
DTSTAMP:20260425T174630
CREATED:20241127T115848Z
LAST-MODIFIED:20241127T115848Z
UID:10002744-1784636100-1784640600@theccbb.com
SUMMARY:Smyrna\, Georgia (Rotary Club)
DESCRIPTION:Email: smyrnarotaryga@gmail.com\nWebsite: https://smyrnarotary.org/ \nSmyrna Rotary Club\nWHERE (In-Person): 3180 Atlanta Rd SE\, Smyrna\, 30080-8256\, United States\, Georgia
URL:https://theccbb.com/event/smyrna-georgia-rotary-club/2026-07-21/
LOCATION:Rotary Club (Smyrna)\, 3180 Atlanta Rd SE\, Smyrna\, Georgia\, 30080
CATEGORIES:Rotary Club
END:VEVENT
BEGIN:VEVENT
DTSTART;TZID=America/New_York:20260728T121500
DTEND;TZID=America/New_York:20260728T133000
DTSTAMP:20260425T174630
CREATED:20241127T115848Z
LAST-MODIFIED:20241127T115848Z
UID:10002745-1785240900-1785245400@theccbb.com
SUMMARY:Smyrna\, Georgia (Rotary Club)
DESCRIPTION:Email: smyrnarotaryga@gmail.com\nWebsite: https://smyrnarotary.org/ \nSmyrna Rotary Club\nWHERE (In-Person): 3180 Atlanta Rd SE\, Smyrna\, 30080-8256\, United States\, Georgia
URL:https://theccbb.com/event/smyrna-georgia-rotary-club/2026-07-28/
LOCATION:Rotary Club (Smyrna)\, 3180 Atlanta Rd SE\, Smyrna\, Georgia\, 30080
CATEGORIES:Rotary Club
END:VEVENT
BEGIN:VEVENT
DTSTART;TZID=America/New_York:20260804T121500
DTEND;TZID=America/New_York:20260804T133000
DTSTAMP:20260425T174630
CREATED:20241127T115848Z
LAST-MODIFIED:20241127T115848Z
UID:10002746-1785845700-1785850200@theccbb.com
SUMMARY:Smyrna\, Georgia (Rotary Club)
DESCRIPTION:Email: smyrnarotaryga@gmail.com\nWebsite: https://smyrnarotary.org/ \nSmyrna Rotary Club\nWHERE (In-Person): 3180 Atlanta Rd SE\, Smyrna\, 30080-8256\, United States\, Georgia
URL:https://theccbb.com/event/smyrna-georgia-rotary-club/2026-08-04/
LOCATION:Rotary Club (Smyrna)\, 3180 Atlanta Rd SE\, Smyrna\, Georgia\, 30080
CATEGORIES:Rotary Club
END:VEVENT
BEGIN:VEVENT
DTSTART;TZID=America/New_York:20260811T121500
DTEND;TZID=America/New_York:20260811T133000
DTSTAMP:20260425T174630
CREATED:20241127T115848Z
LAST-MODIFIED:20241127T115848Z
UID:10002747-1786450500-1786455000@theccbb.com
SUMMARY:Smyrna\, Georgia (Rotary Club)
DESCRIPTION:Email: smyrnarotaryga@gmail.com\nWebsite: https://smyrnarotary.org/ \nSmyrna Rotary Club\nWHERE (In-Person): 3180 Atlanta Rd SE\, Smyrna\, 30080-8256\, United States\, Georgia
URL:https://theccbb.com/event/smyrna-georgia-rotary-club/2026-08-11/
LOCATION:Rotary Club (Smyrna)\, 3180 Atlanta Rd SE\, Smyrna\, Georgia\, 30080
CATEGORIES:Rotary Club
END:VEVENT
BEGIN:VEVENT
DTSTART;TZID=America/New_York:20260818T121500
DTEND;TZID=America/New_York:20260818T133000
DTSTAMP:20260425T174630
CREATED:20241127T115848Z
LAST-MODIFIED:20241127T115848Z
UID:10002748-1787055300-1787059800@theccbb.com
SUMMARY:Smyrna\, Georgia (Rotary Club)
DESCRIPTION:Email: smyrnarotaryga@gmail.com\nWebsite: https://smyrnarotary.org/ \nSmyrna Rotary Club\nWHERE (In-Person): 3180 Atlanta Rd SE\, Smyrna\, 30080-8256\, United States\, Georgia
URL:https://theccbb.com/event/smyrna-georgia-rotary-club/2026-08-18/
LOCATION:Rotary Club (Smyrna)\, 3180 Atlanta Rd SE\, Smyrna\, Georgia\, 30080
CATEGORIES:Rotary Club
END:VEVENT
BEGIN:VEVENT
DTSTART;TZID=America/New_York:20260825T121500
DTEND;TZID=America/New_York:20260825T133000
DTSTAMP:20260425T174630
CREATED:20241127T115848Z
LAST-MODIFIED:20241127T115848Z
UID:10002749-1787660100-1787664600@theccbb.com
SUMMARY:Smyrna\, Georgia (Rotary Club)
DESCRIPTION:Email: smyrnarotaryga@gmail.com\nWebsite: https://smyrnarotary.org/ \nSmyrna Rotary Club\nWHERE (In-Person): 3180 Atlanta Rd SE\, Smyrna\, 30080-8256\, United States\, Georgia
URL:https://theccbb.com/event/smyrna-georgia-rotary-club/2026-08-25/
LOCATION:Rotary Club (Smyrna)\, 3180 Atlanta Rd SE\, Smyrna\, Georgia\, 30080
CATEGORIES:Rotary Club
END:VEVENT
BEGIN:VEVENT
DTSTART;TZID=America/New_York:20260901T121500
DTEND;TZID=America/New_York:20260901T133000
DTSTAMP:20260425T174630
CREATED:20241127T115848Z
LAST-MODIFIED:20241127T115848Z
UID:10002750-1788264900-1788269400@theccbb.com
SUMMARY:Smyrna\, Georgia (Rotary Club)
DESCRIPTION:Email: smyrnarotaryga@gmail.com\nWebsite: https://smyrnarotary.org/ \nSmyrna Rotary Club\nWHERE (In-Person): 3180 Atlanta Rd SE\, Smyrna\, 30080-8256\, United States\, Georgia
URL:https://theccbb.com/event/smyrna-georgia-rotary-club/2026-09-01/
LOCATION:Rotary Club (Smyrna)\, 3180 Atlanta Rd SE\, Smyrna\, Georgia\, 30080
CATEGORIES:Rotary Club
END:VEVENT
BEGIN:VEVENT
DTSTART;TZID=America/New_York:20260908T121500
DTEND;TZID=America/New_York:20260908T133000
DTSTAMP:20260425T174630
CREATED:20241127T115848Z
LAST-MODIFIED:20241127T115848Z
UID:10002751-1788869700-1788874200@theccbb.com
SUMMARY:Smyrna\, Georgia (Rotary Club)
DESCRIPTION:Email: smyrnarotaryga@gmail.com\nWebsite: https://smyrnarotary.org/ \nSmyrna Rotary Club\nWHERE (In-Person): 3180 Atlanta Rd SE\, Smyrna\, 30080-8256\, United States\, Georgia
URL:https://theccbb.com/event/smyrna-georgia-rotary-club/2026-09-08/
LOCATION:Rotary Club (Smyrna)\, 3180 Atlanta Rd SE\, Smyrna\, Georgia\, 30080
CATEGORIES:Rotary Club
END:VEVENT
BEGIN:VEVENT
DTSTART;TZID=America/New_York:20260915T121500
DTEND;TZID=America/New_York:20260915T133000
DTSTAMP:20260425T174630
CREATED:20241127T115848Z
LAST-MODIFIED:20241127T115848Z
UID:10002752-1789474500-1789479000@theccbb.com
SUMMARY:Smyrna\, Georgia (Rotary Club)
DESCRIPTION:Email: smyrnarotaryga@gmail.com\nWebsite: https://smyrnarotary.org/ \nSmyrna Rotary Club\nWHERE (In-Person): 3180 Atlanta Rd SE\, Smyrna\, 30080-8256\, United States\, Georgia
URL:https://theccbb.com/event/smyrna-georgia-rotary-club/2026-09-15/
LOCATION:Rotary Club (Smyrna)\, 3180 Atlanta Rd SE\, Smyrna\, Georgia\, 30080
CATEGORIES:Rotary Club
END:VEVENT
BEGIN:VEVENT
DTSTART;TZID=America/New_York:20260922T121500
DTEND;TZID=America/New_York:20260922T133000
DTSTAMP:20260425T174630
CREATED:20241127T115848Z
LAST-MODIFIED:20241127T115848Z
UID:10002753-1790079300-1790083800@theccbb.com
SUMMARY:Smyrna\, Georgia (Rotary Club)
DESCRIPTION:Email: smyrnarotaryga@gmail.com\nWebsite: https://smyrnarotary.org/ \nSmyrna Rotary Club\nWHERE (In-Person): 3180 Atlanta Rd SE\, Smyrna\, 30080-8256\, United States\, Georgia
URL:https://theccbb.com/event/smyrna-georgia-rotary-club/2026-09-22/
LOCATION:Rotary Club (Smyrna)\, 3180 Atlanta Rd SE\, Smyrna\, Georgia\, 30080
CATEGORIES:Rotary Club
END:VEVENT
BEGIN:VEVENT
DTSTART;TZID=America/New_York:20260929T121500
DTEND;TZID=America/New_York:20260929T133000
DTSTAMP:20260425T174630
CREATED:20241127T115848Z
LAST-MODIFIED:20241127T115848Z
UID:10002754-1790684100-1790688600@theccbb.com
SUMMARY:Smyrna\, Georgia (Rotary Club)
DESCRIPTION:Email: smyrnarotaryga@gmail.com\nWebsite: https://smyrnarotary.org/ \nSmyrna Rotary Club\nWHERE (In-Person): 3180 Atlanta Rd SE\, Smyrna\, 30080-8256\, United States\, Georgia
URL:https://theccbb.com/event/smyrna-georgia-rotary-club/2026-09-29/
LOCATION:Rotary Club (Smyrna)\, 3180 Atlanta Rd SE\, Smyrna\, Georgia\, 30080
CATEGORIES:Rotary Club
END:VEVENT
BEGIN:VEVENT
DTSTART;TZID=America/New_York:20261006T121500
DTEND;TZID=America/New_York:20261006T133000
DTSTAMP:20260425T174630
CREATED:20241127T115848Z
LAST-MODIFIED:20241127T115848Z
UID:10002755-1791288900-1791293400@theccbb.com
SUMMARY:Smyrna\, Georgia (Rotary Club)
DESCRIPTION:Email: smyrnarotaryga@gmail.com\nWebsite: https://smyrnarotary.org/ \nSmyrna Rotary Club\nWHERE (In-Person): 3180 Atlanta Rd SE\, Smyrna\, 30080-8256\, United States\, Georgia
URL:https://theccbb.com/event/smyrna-georgia-rotary-club/2026-10-06/
LOCATION:Rotary Club (Smyrna)\, 3180 Atlanta Rd SE\, Smyrna\, Georgia\, 30080
CATEGORIES:Rotary Club
END:VEVENT
BEGIN:VEVENT
DTSTART;TZID=America/New_York:20261013T121500
DTEND;TZID=America/New_York:20261013T133000
DTSTAMP:20260425T174630
CREATED:20241127T115848Z
LAST-MODIFIED:20241127T115848Z
UID:10002756-1791893700-1791898200@theccbb.com
SUMMARY:Smyrna\, Georgia (Rotary Club)
DESCRIPTION:Email: smyrnarotaryga@gmail.com\nWebsite: https://smyrnarotary.org/ \nSmyrna Rotary Club\nWHERE (In-Person): 3180 Atlanta Rd SE\, Smyrna\, 30080-8256\, United States\, Georgia
URL:https://theccbb.com/event/smyrna-georgia-rotary-club/2026-10-13/
LOCATION:Rotary Club (Smyrna)\, 3180 Atlanta Rd SE\, Smyrna\, Georgia\, 30080
CATEGORIES:Rotary Club
END:VEVENT
BEGIN:VEVENT
DTSTART;TZID=America/New_York:20261020T121500
DTEND;TZID=America/New_York:20261020T133000
DTSTAMP:20260425T174630
CREATED:20241127T115848Z
LAST-MODIFIED:20241127T115848Z
UID:10002757-1792498500-1792503000@theccbb.com
SUMMARY:Smyrna\, Georgia (Rotary Club)
DESCRIPTION:Email: smyrnarotaryga@gmail.com\nWebsite: https://smyrnarotary.org/ \nSmyrna Rotary Club\nWHERE (In-Person): 3180 Atlanta Rd SE\, Smyrna\, 30080-8256\, United States\, Georgia
URL:https://theccbb.com/event/smyrna-georgia-rotary-club/2026-10-20/
LOCATION:Rotary Club (Smyrna)\, 3180 Atlanta Rd SE\, Smyrna\, Georgia\, 30080
CATEGORIES:Rotary Club
END:VEVENT
BEGIN:VEVENT
DTSTART;TZID=America/New_York:20261027T121500
DTEND;TZID=America/New_York:20261027T133000
DTSTAMP:20260425T174630
CREATED:20241127T115848Z
LAST-MODIFIED:20241127T115848Z
UID:10002758-1793103300-1793107800@theccbb.com
SUMMARY:Smyrna\, Georgia (Rotary Club)
DESCRIPTION:Email: smyrnarotaryga@gmail.com\nWebsite: https://smyrnarotary.org/ \nSmyrna Rotary Club\nWHERE (In-Person): 3180 Atlanta Rd SE\, Smyrna\, 30080-8256\, United States\, Georgia
URL:https://theccbb.com/event/smyrna-georgia-rotary-club/2026-10-27/
LOCATION:Rotary Club (Smyrna)\, 3180 Atlanta Rd SE\, Smyrna\, Georgia\, 30080
CATEGORIES:Rotary Club
END:VEVENT
BEGIN:VEVENT
DTSTART;TZID=America/New_York:20261103T121500
DTEND;TZID=America/New_York:20261103T133000
DTSTAMP:20260425T174630
CREATED:20241127T115848Z
LAST-MODIFIED:20241127T115848Z
UID:10002759-1793708100-1793712600@theccbb.com
SUMMARY:Smyrna\, Georgia (Rotary Club)
DESCRIPTION:Email: smyrnarotaryga@gmail.com\nWebsite: https://smyrnarotary.org/ \nSmyrna Rotary Club\nWHERE (In-Person): 3180 Atlanta Rd SE\, Smyrna\, 30080-8256\, United States\, Georgia
URL:https://theccbb.com/event/smyrna-georgia-rotary-club/2026-11-03/
LOCATION:Rotary Club (Smyrna)\, 3180 Atlanta Rd SE\, Smyrna\, Georgia\, 30080
CATEGORIES:Rotary Club
END:VEVENT
BEGIN:VEVENT
DTSTART;TZID=America/New_York:20261110T121500
DTEND;TZID=America/New_York:20261110T133000
DTSTAMP:20260425T174630
CREATED:20241127T115848Z
LAST-MODIFIED:20241127T115848Z
UID:10002760-1794312900-1794317400@theccbb.com
SUMMARY:Smyrna\, Georgia (Rotary Club)
DESCRIPTION:Email: smyrnarotaryga@gmail.com\nWebsite: https://smyrnarotary.org/ \nSmyrna Rotary Club\nWHERE (In-Person): 3180 Atlanta Rd SE\, Smyrna\, 30080-8256\, United States\, Georgia
URL:https://theccbb.com/event/smyrna-georgia-rotary-club/2026-11-10/
LOCATION:Rotary Club (Smyrna)\, 3180 Atlanta Rd SE\, Smyrna\, Georgia\, 30080
CATEGORIES:Rotary Club
END:VEVENT
BEGIN:VEVENT
DTSTART;TZID=America/New_York:20261117T121500
DTEND;TZID=America/New_York:20261117T133000
DTSTAMP:20260425T174630
CREATED:20241127T115848Z
LAST-MODIFIED:20241127T115848Z
UID:10002761-1794917700-1794922200@theccbb.com
SUMMARY:Smyrna\, Georgia (Rotary Club)
DESCRIPTION:Email: smyrnarotaryga@gmail.com\nWebsite: https://smyrnarotary.org/ \nSmyrna Rotary Club\nWHERE (In-Person): 3180 Atlanta Rd SE\, Smyrna\, 30080-8256\, United States\, Georgia
URL:https://theccbb.com/event/smyrna-georgia-rotary-club/2026-11-17/
LOCATION:Rotary Club (Smyrna)\, 3180 Atlanta Rd SE\, Smyrna\, Georgia\, 30080
CATEGORIES:Rotary Club
END:VEVENT
END:VCALENDAR