BEGIN:VCALENDAR
VERSION:2.0
PRODID:-//Cobb County Business Bootcamp - ECPv6.15.18//NONSGML v1.0//EN
CALSCALE:GREGORIAN
METHOD:PUBLISH
X-WR-CALNAME:Cobb County Business Bootcamp
X-ORIGINAL-URL:https://theccbb.com
X-WR-CALDESC:Events for Cobb County Business Bootcamp
REFRESH-INTERVAL;VALUE=DURATION:PT1H
X-Robots-Tag:noindex
X-PUBLISHED-TTL:PT1H
BEGIN:VTIMEZONE
TZID:America/New_York
BEGIN:DAYLIGHT
TZOFFSETFROM:-0500
TZOFFSETTO:-0400
TZNAME:EDT
DTSTART:20250309T070000
END:DAYLIGHT
BEGIN:STANDARD
TZOFFSETFROM:-0400
TZOFFSETTO:-0500
TZNAME:EST
DTSTART:20251102T060000
END:STANDARD
BEGIN:DAYLIGHT
TZOFFSETFROM:-0500
TZOFFSETTO:-0400
TZNAME:EDT
DTSTART:20260308T070000
END:DAYLIGHT
BEGIN:STANDARD
TZOFFSETFROM:-0400
TZOFFSETTO:-0500
TZNAME:EST
DTSTART:20261101T060000
END:STANDARD
BEGIN:DAYLIGHT
TZOFFSETFROM:-0500
TZOFFSETTO:-0400
TZNAME:EDT
DTSTART:20270314T070000
END:DAYLIGHT
BEGIN:STANDARD
TZOFFSETFROM:-0400
TZOFFSETTO:-0500
TZNAME:EST
DTSTART:20271107T060000
END:STANDARD
END:VTIMEZONE
BEGIN:VEVENT
DTSTART;TZID=America/New_York:20260422T120000
DTEND;TZID=America/New_York:20260422T133000
DTSTAMP:20260423T091735
CREATED:20241129T124454Z
LAST-MODIFIED:20241129T124454Z
UID:10003514-1776859200-1776864600@theccbb.com
SUMMARY:Vinings Cumberland\, Georgia (Rotary Club)
DESCRIPTION:Copeland’s of New Orleans\, Cumberland\nWebsite: https://www.viningsrotary.org \nWHERE (In-Person): 3101 Cobb Parkway\, Suite 220\, Mardi Gras Room\, Atlanta\, 30339\, Georgia
URL:https://theccbb.com/event/vinings-cumberland-georgia-rotary-club/2026-04-22/
LOCATION:Rotary Club (Vinings Cumberland)\, 3101 Cobb Parkway\, Suite 220\, Mardi Gras Room\, Atlanta\, Georgia\, 30339
END:VEVENT
BEGIN:VEVENT
DTSTART;TZID=America/New_York:20260415T120000
DTEND;TZID=America/New_York:20260415T133000
DTSTAMP:20260423T091735
CREATED:20241129T124454Z
LAST-MODIFIED:20241129T124454Z
UID:10003513-1776254400-1776259800@theccbb.com
SUMMARY:Vinings Cumberland\, Georgia (Rotary Club)
DESCRIPTION:Copeland’s of New Orleans\, Cumberland\nWebsite: https://www.viningsrotary.org \nWHERE (In-Person): 3101 Cobb Parkway\, Suite 220\, Mardi Gras Room\, Atlanta\, 30339\, Georgia
URL:https://theccbb.com/event/vinings-cumberland-georgia-rotary-club/2026-04-15/
LOCATION:Rotary Club (Vinings Cumberland)\, 3101 Cobb Parkway\, Suite 220\, Mardi Gras Room\, Atlanta\, Georgia\, 30339
END:VEVENT
BEGIN:VEVENT
DTSTART;TZID=America/New_York:20260408T120000
DTEND;TZID=America/New_York:20260408T133000
DTSTAMP:20260423T091735
CREATED:20241129T124454Z
LAST-MODIFIED:20241129T124454Z
UID:10003512-1775649600-1775655000@theccbb.com
SUMMARY:Vinings Cumberland\, Georgia (Rotary Club)
DESCRIPTION:Copeland’s of New Orleans\, Cumberland\nWebsite: https://www.viningsrotary.org \nWHERE (In-Person): 3101 Cobb Parkway\, Suite 220\, Mardi Gras Room\, Atlanta\, 30339\, Georgia
URL:https://theccbb.com/event/vinings-cumberland-georgia-rotary-club/2026-04-08/
LOCATION:Rotary Club (Vinings Cumberland)\, 3101 Cobb Parkway\, Suite 220\, Mardi Gras Room\, Atlanta\, Georgia\, 30339
END:VEVENT
BEGIN:VEVENT
DTSTART;TZID=America/New_York:20260401T120000
DTEND;TZID=America/New_York:20260401T133000
DTSTAMP:20260423T091735
CREATED:20241129T124454Z
LAST-MODIFIED:20241129T124454Z
UID:10003511-1775044800-1775050200@theccbb.com
SUMMARY:Vinings Cumberland\, Georgia (Rotary Club)
DESCRIPTION:Copeland’s of New Orleans\, Cumberland\nWebsite: https://www.viningsrotary.org \nWHERE (In-Person): 3101 Cobb Parkway\, Suite 220\, Mardi Gras Room\, Atlanta\, 30339\, Georgia
URL:https://theccbb.com/event/vinings-cumberland-georgia-rotary-club/2026-04-01/
LOCATION:Rotary Club (Vinings Cumberland)\, 3101 Cobb Parkway\, Suite 220\, Mardi Gras Room\, Atlanta\, Georgia\, 30339
END:VEVENT
BEGIN:VEVENT
DTSTART;TZID=America/New_York:20260325T120000
DTEND;TZID=America/New_York:20260325T133000
DTSTAMP:20260423T091735
CREATED:20241129T124454Z
LAST-MODIFIED:20241129T124454Z
UID:10003510-1774440000-1774445400@theccbb.com
SUMMARY:Vinings Cumberland\, Georgia (Rotary Club)
DESCRIPTION:Copeland’s of New Orleans\, Cumberland\nWebsite: https://www.viningsrotary.org \nWHERE (In-Person): 3101 Cobb Parkway\, Suite 220\, Mardi Gras Room\, Atlanta\, 30339\, Georgia
URL:https://theccbb.com/event/vinings-cumberland-georgia-rotary-club/2026-03-25/
LOCATION:Rotary Club (Vinings Cumberland)\, 3101 Cobb Parkway\, Suite 220\, Mardi Gras Room\, Atlanta\, Georgia\, 30339
END:VEVENT
BEGIN:VEVENT
DTSTART;TZID=America/New_York:20260318T120000
DTEND;TZID=America/New_York:20260318T133000
DTSTAMP:20260423T091735
CREATED:20241129T124454Z
LAST-MODIFIED:20241129T124454Z
UID:10003509-1773835200-1773840600@theccbb.com
SUMMARY:Vinings Cumberland\, Georgia (Rotary Club)
DESCRIPTION:Copeland’s of New Orleans\, Cumberland\nWebsite: https://www.viningsrotary.org \nWHERE (In-Person): 3101 Cobb Parkway\, Suite 220\, Mardi Gras Room\, Atlanta\, 30339\, Georgia
URL:https://theccbb.com/event/vinings-cumberland-georgia-rotary-club/2026-03-18/
LOCATION:Rotary Club (Vinings Cumberland)\, 3101 Cobb Parkway\, Suite 220\, Mardi Gras Room\, Atlanta\, Georgia\, 30339
END:VEVENT
BEGIN:VEVENT
DTSTART;TZID=America/New_York:20260311T120000
DTEND;TZID=America/New_York:20260311T133000
DTSTAMP:20260423T091735
CREATED:20241129T124454Z
LAST-MODIFIED:20241129T124454Z
UID:10003508-1773230400-1773235800@theccbb.com
SUMMARY:Vinings Cumberland\, Georgia (Rotary Club)
DESCRIPTION:Copeland’s of New Orleans\, Cumberland\nWebsite: https://www.viningsrotary.org \nWHERE (In-Person): 3101 Cobb Parkway\, Suite 220\, Mardi Gras Room\, Atlanta\, 30339\, Georgia
URL:https://theccbb.com/event/vinings-cumberland-georgia-rotary-club/2026-03-11/
LOCATION:Rotary Club (Vinings Cumberland)\, 3101 Cobb Parkway\, Suite 220\, Mardi Gras Room\, Atlanta\, Georgia\, 30339
END:VEVENT
BEGIN:VEVENT
DTSTART;TZID=America/New_York:20260304T120000
DTEND;TZID=America/New_York:20260304T133000
DTSTAMP:20260423T091735
CREATED:20241129T124454Z
LAST-MODIFIED:20241129T124454Z
UID:10003507-1772625600-1772631000@theccbb.com
SUMMARY:Vinings Cumberland\, Georgia (Rotary Club)
DESCRIPTION:Copeland’s of New Orleans\, Cumberland\nWebsite: https://www.viningsrotary.org \nWHERE (In-Person): 3101 Cobb Parkway\, Suite 220\, Mardi Gras Room\, Atlanta\, 30339\, Georgia
URL:https://theccbb.com/event/vinings-cumberland-georgia-rotary-club/2026-03-04/
LOCATION:Rotary Club (Vinings Cumberland)\, 3101 Cobb Parkway\, Suite 220\, Mardi Gras Room\, Atlanta\, Georgia\, 30339
END:VEVENT
BEGIN:VEVENT
DTSTART;TZID=America/New_York:20260225T120000
DTEND;TZID=America/New_York:20260225T133000
DTSTAMP:20260423T091735
CREATED:20241129T124454Z
LAST-MODIFIED:20241129T124454Z
UID:10003506-1772020800-1772026200@theccbb.com
SUMMARY:Vinings Cumberland\, Georgia (Rotary Club)
DESCRIPTION:Copeland’s of New Orleans\, Cumberland\nWebsite: https://www.viningsrotary.org \nWHERE (In-Person): 3101 Cobb Parkway\, Suite 220\, Mardi Gras Room\, Atlanta\, 30339\, Georgia
URL:https://theccbb.com/event/vinings-cumberland-georgia-rotary-club/2026-02-25/
LOCATION:Rotary Club (Vinings Cumberland)\, 3101 Cobb Parkway\, Suite 220\, Mardi Gras Room\, Atlanta\, Georgia\, 30339
END:VEVENT
BEGIN:VEVENT
DTSTART;TZID=America/New_York:20260218T120000
DTEND;TZID=America/New_York:20260218T133000
DTSTAMP:20260423T091735
CREATED:20241129T124454Z
LAST-MODIFIED:20241129T124454Z
UID:10003505-1771416000-1771421400@theccbb.com
SUMMARY:Vinings Cumberland\, Georgia (Rotary Club)
DESCRIPTION:Copeland’s of New Orleans\, Cumberland\nWebsite: https://www.viningsrotary.org \nWHERE (In-Person): 3101 Cobb Parkway\, Suite 220\, Mardi Gras Room\, Atlanta\, 30339\, Georgia
URL:https://theccbb.com/event/vinings-cumberland-georgia-rotary-club/2026-02-18/
LOCATION:Rotary Club (Vinings Cumberland)\, 3101 Cobb Parkway\, Suite 220\, Mardi Gras Room\, Atlanta\, Georgia\, 30339
END:VEVENT
BEGIN:VEVENT
DTSTART;TZID=America/New_York:20260211T120000
DTEND;TZID=America/New_York:20260211T133000
DTSTAMP:20260423T091735
CREATED:20241129T124454Z
LAST-MODIFIED:20241129T124454Z
UID:10003504-1770811200-1770816600@theccbb.com
SUMMARY:Vinings Cumberland\, Georgia (Rotary Club)
DESCRIPTION:Copeland’s of New Orleans\, Cumberland\nWebsite: https://www.viningsrotary.org \nWHERE (In-Person): 3101 Cobb Parkway\, Suite 220\, Mardi Gras Room\, Atlanta\, 30339\, Georgia
URL:https://theccbb.com/event/vinings-cumberland-georgia-rotary-club/2026-02-11/
LOCATION:Rotary Club (Vinings Cumberland)\, 3101 Cobb Parkway\, Suite 220\, Mardi Gras Room\, Atlanta\, Georgia\, 30339
END:VEVENT
BEGIN:VEVENT
DTSTART;TZID=America/New_York:20260204T120000
DTEND;TZID=America/New_York:20260204T133000
DTSTAMP:20260423T091735
CREATED:20241129T124454Z
LAST-MODIFIED:20241129T124454Z
UID:10003503-1770206400-1770211800@theccbb.com
SUMMARY:Vinings Cumberland\, Georgia (Rotary Club)
DESCRIPTION:Copeland’s of New Orleans\, Cumberland\nWebsite: https://www.viningsrotary.org \nWHERE (In-Person): 3101 Cobb Parkway\, Suite 220\, Mardi Gras Room\, Atlanta\, 30339\, Georgia
URL:https://theccbb.com/event/vinings-cumberland-georgia-rotary-club/2026-02-04/
LOCATION:Rotary Club (Vinings Cumberland)\, 3101 Cobb Parkway\, Suite 220\, Mardi Gras Room\, Atlanta\, Georgia\, 30339
END:VEVENT
BEGIN:VEVENT
DTSTART;TZID=America/New_York:20260128T120000
DTEND;TZID=America/New_York:20260128T133000
DTSTAMP:20260423T091735
CREATED:20241129T124454Z
LAST-MODIFIED:20241129T124454Z
UID:10003502-1769601600-1769607000@theccbb.com
SUMMARY:Vinings Cumberland\, Georgia (Rotary Club)
DESCRIPTION:Copeland’s of New Orleans\, Cumberland\nWebsite: https://www.viningsrotary.org \nWHERE (In-Person): 3101 Cobb Parkway\, Suite 220\, Mardi Gras Room\, Atlanta\, 30339\, Georgia
URL:https://theccbb.com/event/vinings-cumberland-georgia-rotary-club/2026-01-28/
LOCATION:Rotary Club (Vinings Cumberland)\, 3101 Cobb Parkway\, Suite 220\, Mardi Gras Room\, Atlanta\, Georgia\, 30339
END:VEVENT
END:VCALENDAR