BEGIN:VCALENDAR
VERSION:2.0
PRODID:-//Cobb County Business Bootcamp - ECPv6.15.18//NONSGML v1.0//EN
CALSCALE:GREGORIAN
METHOD:PUBLISH
X-WR-CALNAME:Cobb County Business Bootcamp
X-ORIGINAL-URL:https://theccbb.com
X-WR-CALDESC:Events for Cobb County Business Bootcamp
REFRESH-INTERVAL;VALUE=DURATION:PT1H
X-Robots-Tag:noindex
X-PUBLISHED-TTL:PT1H
BEGIN:VTIMEZONE
TZID:America/New_York
BEGIN:DAYLIGHT
TZOFFSETFROM:-0500
TZOFFSETTO:-0400
TZNAME:EDT
DTSTART:20250309T070000
END:DAYLIGHT
BEGIN:STANDARD
TZOFFSETFROM:-0400
TZOFFSETTO:-0500
TZNAME:EST
DTSTART:20251102T060000
END:STANDARD
BEGIN:DAYLIGHT
TZOFFSETFROM:-0500
TZOFFSETTO:-0400
TZNAME:EDT
DTSTART:20260308T070000
END:DAYLIGHT
BEGIN:STANDARD
TZOFFSETFROM:-0400
TZOFFSETTO:-0500
TZNAME:EST
DTSTART:20261101T060000
END:STANDARD
BEGIN:DAYLIGHT
TZOFFSETFROM:-0500
TZOFFSETTO:-0400
TZNAME:EDT
DTSTART:20270314T070000
END:DAYLIGHT
BEGIN:STANDARD
TZOFFSETFROM:-0400
TZOFFSETTO:-0500
TZNAME:EST
DTSTART:20271107T060000
END:STANDARD
BEGIN:DAYLIGHT
TZOFFSETFROM:-0500
TZOFFSETTO:-0400
TZNAME:EDT
DTSTART:20280312T070000
END:DAYLIGHT
BEGIN:STANDARD
TZOFFSETFROM:-0400
TZOFFSETTO:-0500
TZNAME:EST
DTSTART:20281105T060000
END:STANDARD
END:VTIMEZONE
BEGIN:VEVENT
DTSTART;TZID=America/New_York:20261125T120000
DTEND;TZID=America/New_York:20261125T133000
DTSTAMP:20260423T105908
CREATED:20241129T124454Z
LAST-MODIFIED:20241129T124454Z
UID:10003545-1795608000-1795613400@theccbb.com
SUMMARY:Vinings Cumberland\, Georgia (Rotary Club)
DESCRIPTION:Copeland’s of New Orleans\, Cumberland\nWebsite: https://www.viningsrotary.org \nWHERE (In-Person): 3101 Cobb Parkway\, Suite 220\, Mardi Gras Room\, Atlanta\, 30339\, Georgia
URL:https://theccbb.com/event/vinings-cumberland-georgia-rotary-club/2026-11-25/
LOCATION:Rotary Club (Vinings Cumberland)\, 3101 Cobb Parkway\, Suite 220\, Mardi Gras Room\, Atlanta\, Georgia\, 30339
END:VEVENT
BEGIN:VEVENT
DTSTART;TZID=America/New_York:20261202T120000
DTEND;TZID=America/New_York:20261202T133000
DTSTAMP:20260423T105908
CREATED:20241129T124454Z
LAST-MODIFIED:20241129T124454Z
UID:10003546-1796212800-1796218200@theccbb.com
SUMMARY:Vinings Cumberland\, Georgia (Rotary Club)
DESCRIPTION:Copeland’s of New Orleans\, Cumberland\nWebsite: https://www.viningsrotary.org \nWHERE (In-Person): 3101 Cobb Parkway\, Suite 220\, Mardi Gras Room\, Atlanta\, 30339\, Georgia
URL:https://theccbb.com/event/vinings-cumberland-georgia-rotary-club/2026-12-02/
LOCATION:Rotary Club (Vinings Cumberland)\, 3101 Cobb Parkway\, Suite 220\, Mardi Gras Room\, Atlanta\, Georgia\, 30339
END:VEVENT
BEGIN:VEVENT
DTSTART;TZID=America/New_York:20261209T120000
DTEND;TZID=America/New_York:20261209T133000
DTSTAMP:20260423T105908
CREATED:20241129T124454Z
LAST-MODIFIED:20241129T124454Z
UID:10003547-1796817600-1796823000@theccbb.com
SUMMARY:Vinings Cumberland\, Georgia (Rotary Club)
DESCRIPTION:Copeland’s of New Orleans\, Cumberland\nWebsite: https://www.viningsrotary.org \nWHERE (In-Person): 3101 Cobb Parkway\, Suite 220\, Mardi Gras Room\, Atlanta\, 30339\, Georgia
URL:https://theccbb.com/event/vinings-cumberland-georgia-rotary-club/2026-12-09/
LOCATION:Rotary Club (Vinings Cumberland)\, 3101 Cobb Parkway\, Suite 220\, Mardi Gras Room\, Atlanta\, Georgia\, 30339
END:VEVENT
BEGIN:VEVENT
DTSTART;TZID=America/New_York:20261216T120000
DTEND;TZID=America/New_York:20261216T133000
DTSTAMP:20260423T105908
CREATED:20241129T124454Z
LAST-MODIFIED:20241129T124454Z
UID:10003548-1797422400-1797427800@theccbb.com
SUMMARY:Vinings Cumberland\, Georgia (Rotary Club)
DESCRIPTION:Copeland’s of New Orleans\, Cumberland\nWebsite: https://www.viningsrotary.org \nWHERE (In-Person): 3101 Cobb Parkway\, Suite 220\, Mardi Gras Room\, Atlanta\, 30339\, Georgia
URL:https://theccbb.com/event/vinings-cumberland-georgia-rotary-club/2026-12-16/
LOCATION:Rotary Club (Vinings Cumberland)\, 3101 Cobb Parkway\, Suite 220\, Mardi Gras Room\, Atlanta\, Georgia\, 30339
END:VEVENT
BEGIN:VEVENT
DTSTART;TZID=America/New_York:20261223T120000
DTEND;TZID=America/New_York:20261223T133000
DTSTAMP:20260423T105908
CREATED:20241129T124454Z
LAST-MODIFIED:20241129T124454Z
UID:10003549-1798027200-1798032600@theccbb.com
SUMMARY:Vinings Cumberland\, Georgia (Rotary Club)
DESCRIPTION:Copeland’s of New Orleans\, Cumberland\nWebsite: https://www.viningsrotary.org \nWHERE (In-Person): 3101 Cobb Parkway\, Suite 220\, Mardi Gras Room\, Atlanta\, 30339\, Georgia
URL:https://theccbb.com/event/vinings-cumberland-georgia-rotary-club/2026-12-23/
LOCATION:Rotary Club (Vinings Cumberland)\, 3101 Cobb Parkway\, Suite 220\, Mardi Gras Room\, Atlanta\, Georgia\, 30339
END:VEVENT
BEGIN:VEVENT
DTSTART;TZID=America/New_York:20261230T120000
DTEND;TZID=America/New_York:20261230T133000
DTSTAMP:20260423T105908
CREATED:20241129T124454Z
LAST-MODIFIED:20241129T124454Z
UID:10003550-1798632000-1798637400@theccbb.com
SUMMARY:Vinings Cumberland\, Georgia (Rotary Club)
DESCRIPTION:Copeland’s of New Orleans\, Cumberland\nWebsite: https://www.viningsrotary.org \nWHERE (In-Person): 3101 Cobb Parkway\, Suite 220\, Mardi Gras Room\, Atlanta\, 30339\, Georgia
URL:https://theccbb.com/event/vinings-cumberland-georgia-rotary-club/2026-12-30/
LOCATION:Rotary Club (Vinings Cumberland)\, 3101 Cobb Parkway\, Suite 220\, Mardi Gras Room\, Atlanta\, Georgia\, 30339
END:VEVENT
BEGIN:VEVENT
DTSTART;TZID=America/New_York:20270106T120000
DTEND;TZID=America/New_York:20270106T133000
DTSTAMP:20260423T105908
CREATED:20241129T124454Z
LAST-MODIFIED:20241129T124454Z
UID:10003551-1799236800-1799242200@theccbb.com
SUMMARY:Vinings Cumberland\, Georgia (Rotary Club)
DESCRIPTION:Copeland’s of New Orleans\, Cumberland\nWebsite: https://www.viningsrotary.org \nWHERE (In-Person): 3101 Cobb Parkway\, Suite 220\, Mardi Gras Room\, Atlanta\, 30339\, Georgia
URL:https://theccbb.com/event/vinings-cumberland-georgia-rotary-club/2027-01-06/
LOCATION:Rotary Club (Vinings Cumberland)\, 3101 Cobb Parkway\, Suite 220\, Mardi Gras Room\, Atlanta\, Georgia\, 30339
END:VEVENT
BEGIN:VEVENT
DTSTART;TZID=America/New_York:20270113T120000
DTEND;TZID=America/New_York:20270113T133000
DTSTAMP:20260423T105908
CREATED:20241129T124454Z
LAST-MODIFIED:20241129T124454Z
UID:10003552-1799841600-1799847000@theccbb.com
SUMMARY:Vinings Cumberland\, Georgia (Rotary Club)
DESCRIPTION:Copeland’s of New Orleans\, Cumberland\nWebsite: https://www.viningsrotary.org \nWHERE (In-Person): 3101 Cobb Parkway\, Suite 220\, Mardi Gras Room\, Atlanta\, 30339\, Georgia
URL:https://theccbb.com/event/vinings-cumberland-georgia-rotary-club/2027-01-13/
LOCATION:Rotary Club (Vinings Cumberland)\, 3101 Cobb Parkway\, Suite 220\, Mardi Gras Room\, Atlanta\, Georgia\, 30339
END:VEVENT
BEGIN:VEVENT
DTSTART;TZID=America/New_York:20270120T120000
DTEND;TZID=America/New_York:20270120T133000
DTSTAMP:20260423T105908
CREATED:20241129T124454Z
LAST-MODIFIED:20241129T124454Z
UID:10003553-1800446400-1800451800@theccbb.com
SUMMARY:Vinings Cumberland\, Georgia (Rotary Club)
DESCRIPTION:Copeland’s of New Orleans\, Cumberland\nWebsite: https://www.viningsrotary.org \nWHERE (In-Person): 3101 Cobb Parkway\, Suite 220\, Mardi Gras Room\, Atlanta\, 30339\, Georgia
URL:https://theccbb.com/event/vinings-cumberland-georgia-rotary-club/2027-01-20/
LOCATION:Rotary Club (Vinings Cumberland)\, 3101 Cobb Parkway\, Suite 220\, Mardi Gras Room\, Atlanta\, Georgia\, 30339
END:VEVENT
BEGIN:VEVENT
DTSTART;TZID=America/New_York:20270127T120000
DTEND;TZID=America/New_York:20270127T133000
DTSTAMP:20260423T105908
CREATED:20241129T124454Z
LAST-MODIFIED:20241129T124454Z
UID:10003554-1801051200-1801056600@theccbb.com
SUMMARY:Vinings Cumberland\, Georgia (Rotary Club)
DESCRIPTION:Copeland’s of New Orleans\, Cumberland\nWebsite: https://www.viningsrotary.org \nWHERE (In-Person): 3101 Cobb Parkway\, Suite 220\, Mardi Gras Room\, Atlanta\, 30339\, Georgia
URL:https://theccbb.com/event/vinings-cumberland-georgia-rotary-club/2027-01-27/
LOCATION:Rotary Club (Vinings Cumberland)\, 3101 Cobb Parkway\, Suite 220\, Mardi Gras Room\, Atlanta\, Georgia\, 30339
END:VEVENT
BEGIN:VEVENT
DTSTART;TZID=America/New_York:20270203T120000
DTEND;TZID=America/New_York:20270203T133000
DTSTAMP:20260423T105908
CREATED:20241129T124454Z
LAST-MODIFIED:20241129T124454Z
UID:10003555-1801656000-1801661400@theccbb.com
SUMMARY:Vinings Cumberland\, Georgia (Rotary Club)
DESCRIPTION:Copeland’s of New Orleans\, Cumberland\nWebsite: https://www.viningsrotary.org \nWHERE (In-Person): 3101 Cobb Parkway\, Suite 220\, Mardi Gras Room\, Atlanta\, 30339\, Georgia
URL:https://theccbb.com/event/vinings-cumberland-georgia-rotary-club/2027-02-03/
LOCATION:Rotary Club (Vinings Cumberland)\, 3101 Cobb Parkway\, Suite 220\, Mardi Gras Room\, Atlanta\, Georgia\, 30339
END:VEVENT
BEGIN:VEVENT
DTSTART;TZID=America/New_York:20270210T120000
DTEND;TZID=America/New_York:20270210T133000
DTSTAMP:20260423T105908
CREATED:20241129T124454Z
LAST-MODIFIED:20241129T124454Z
UID:10003556-1802260800-1802266200@theccbb.com
SUMMARY:Vinings Cumberland\, Georgia (Rotary Club)
DESCRIPTION:Copeland’s of New Orleans\, Cumberland\nWebsite: https://www.viningsrotary.org \nWHERE (In-Person): 3101 Cobb Parkway\, Suite 220\, Mardi Gras Room\, Atlanta\, 30339\, Georgia
URL:https://theccbb.com/event/vinings-cumberland-georgia-rotary-club/2027-02-10/
LOCATION:Rotary Club (Vinings Cumberland)\, 3101 Cobb Parkway\, Suite 220\, Mardi Gras Room\, Atlanta\, Georgia\, 30339
END:VEVENT
BEGIN:VEVENT
DTSTART;TZID=America/New_York:20270217T120000
DTEND;TZID=America/New_York:20270217T133000
DTSTAMP:20260423T105908
CREATED:20241129T124454Z
LAST-MODIFIED:20241129T124454Z
UID:10003557-1802865600-1802871000@theccbb.com
SUMMARY:Vinings Cumberland\, Georgia (Rotary Club)
DESCRIPTION:Copeland’s of New Orleans\, Cumberland\nWebsite: https://www.viningsrotary.org \nWHERE (In-Person): 3101 Cobb Parkway\, Suite 220\, Mardi Gras Room\, Atlanta\, 30339\, Georgia
URL:https://theccbb.com/event/vinings-cumberland-georgia-rotary-club/2027-02-17/
LOCATION:Rotary Club (Vinings Cumberland)\, 3101 Cobb Parkway\, Suite 220\, Mardi Gras Room\, Atlanta\, Georgia\, 30339
END:VEVENT
BEGIN:VEVENT
DTSTART;TZID=America/New_York:20270224T120000
DTEND;TZID=America/New_York:20270224T133000
DTSTAMP:20260423T105908
CREATED:20241129T124454Z
LAST-MODIFIED:20241129T124454Z
UID:10003558-1803470400-1803475800@theccbb.com
SUMMARY:Vinings Cumberland\, Georgia (Rotary Club)
DESCRIPTION:Copeland’s of New Orleans\, Cumberland\nWebsite: https://www.viningsrotary.org \nWHERE (In-Person): 3101 Cobb Parkway\, Suite 220\, Mardi Gras Room\, Atlanta\, 30339\, Georgia
URL:https://theccbb.com/event/vinings-cumberland-georgia-rotary-club/2027-02-24/
LOCATION:Rotary Club (Vinings Cumberland)\, 3101 Cobb Parkway\, Suite 220\, Mardi Gras Room\, Atlanta\, Georgia\, 30339
END:VEVENT
BEGIN:VEVENT
DTSTART;TZID=America/New_York:20270303T120000
DTEND;TZID=America/New_York:20270303T133000
DTSTAMP:20260423T105908
CREATED:20241129T124454Z
LAST-MODIFIED:20241129T124454Z
UID:10003559-1804075200-1804080600@theccbb.com
SUMMARY:Vinings Cumberland\, Georgia (Rotary Club)
DESCRIPTION:Copeland’s of New Orleans\, Cumberland\nWebsite: https://www.viningsrotary.org \nWHERE (In-Person): 3101 Cobb Parkway\, Suite 220\, Mardi Gras Room\, Atlanta\, 30339\, Georgia
URL:https://theccbb.com/event/vinings-cumberland-georgia-rotary-club/2027-03-03/
LOCATION:Rotary Club (Vinings Cumberland)\, 3101 Cobb Parkway\, Suite 220\, Mardi Gras Room\, Atlanta\, Georgia\, 30339
END:VEVENT
BEGIN:VEVENT
DTSTART;TZID=America/New_York:20270310T120000
DTEND;TZID=America/New_York:20270310T133000
DTSTAMP:20260423T105908
CREATED:20241129T124454Z
LAST-MODIFIED:20241129T124454Z
UID:10003560-1804680000-1804685400@theccbb.com
SUMMARY:Vinings Cumberland\, Georgia (Rotary Club)
DESCRIPTION:Copeland’s of New Orleans\, Cumberland\nWebsite: https://www.viningsrotary.org \nWHERE (In-Person): 3101 Cobb Parkway\, Suite 220\, Mardi Gras Room\, Atlanta\, 30339\, Georgia
URL:https://theccbb.com/event/vinings-cumberland-georgia-rotary-club/2027-03-10/
LOCATION:Rotary Club (Vinings Cumberland)\, 3101 Cobb Parkway\, Suite 220\, Mardi Gras Room\, Atlanta\, Georgia\, 30339
END:VEVENT
BEGIN:VEVENT
DTSTART;TZID=America/New_York:20270317T120000
DTEND;TZID=America/New_York:20270317T133000
DTSTAMP:20260423T105908
CREATED:20241129T124454Z
LAST-MODIFIED:20241129T124454Z
UID:10003561-1805284800-1805290200@theccbb.com
SUMMARY:Vinings Cumberland\, Georgia (Rotary Club)
DESCRIPTION:Copeland’s of New Orleans\, Cumberland\nWebsite: https://www.viningsrotary.org \nWHERE (In-Person): 3101 Cobb Parkway\, Suite 220\, Mardi Gras Room\, Atlanta\, 30339\, Georgia
URL:https://theccbb.com/event/vinings-cumberland-georgia-rotary-club/2027-03-17/
LOCATION:Rotary Club (Vinings Cumberland)\, 3101 Cobb Parkway\, Suite 220\, Mardi Gras Room\, Atlanta\, Georgia\, 30339
END:VEVENT
BEGIN:VEVENT
DTSTART;TZID=America/New_York:20270324T120000
DTEND;TZID=America/New_York:20270324T133000
DTSTAMP:20260423T105908
CREATED:20241129T124454Z
LAST-MODIFIED:20241129T124454Z
UID:10003562-1805889600-1805895000@theccbb.com
SUMMARY:Vinings Cumberland\, Georgia (Rotary Club)
DESCRIPTION:Copeland’s of New Orleans\, Cumberland\nWebsite: https://www.viningsrotary.org \nWHERE (In-Person): 3101 Cobb Parkway\, Suite 220\, Mardi Gras Room\, Atlanta\, 30339\, Georgia
URL:https://theccbb.com/event/vinings-cumberland-georgia-rotary-club/2027-03-24/
LOCATION:Rotary Club (Vinings Cumberland)\, 3101 Cobb Parkway\, Suite 220\, Mardi Gras Room\, Atlanta\, Georgia\, 30339
END:VEVENT
BEGIN:VEVENT
DTSTART;TZID=America/New_York:20270331T120000
DTEND;TZID=America/New_York:20270331T133000
DTSTAMP:20260423T105908
CREATED:20241129T124454Z
LAST-MODIFIED:20241129T124454Z
UID:10003563-1806494400-1806499800@theccbb.com
SUMMARY:Vinings Cumberland\, Georgia (Rotary Club)
DESCRIPTION:Copeland’s of New Orleans\, Cumberland\nWebsite: https://www.viningsrotary.org \nWHERE (In-Person): 3101 Cobb Parkway\, Suite 220\, Mardi Gras Room\, Atlanta\, 30339\, Georgia
URL:https://theccbb.com/event/vinings-cumberland-georgia-rotary-club/2027-03-31/
LOCATION:Rotary Club (Vinings Cumberland)\, 3101 Cobb Parkway\, Suite 220\, Mardi Gras Room\, Atlanta\, Georgia\, 30339
END:VEVENT
BEGIN:VEVENT
DTSTART;TZID=America/New_York:20270407T120000
DTEND;TZID=America/New_York:20270407T133000
DTSTAMP:20260423T105908
CREATED:20241129T124454Z
LAST-MODIFIED:20241129T124454Z
UID:10003564-1807099200-1807104600@theccbb.com
SUMMARY:Vinings Cumberland\, Georgia (Rotary Club)
DESCRIPTION:Copeland’s of New Orleans\, Cumberland\nWebsite: https://www.viningsrotary.org \nWHERE (In-Person): 3101 Cobb Parkway\, Suite 220\, Mardi Gras Room\, Atlanta\, 30339\, Georgia
URL:https://theccbb.com/event/vinings-cumberland-georgia-rotary-club/2027-04-07/
LOCATION:Rotary Club (Vinings Cumberland)\, 3101 Cobb Parkway\, Suite 220\, Mardi Gras Room\, Atlanta\, Georgia\, 30339
END:VEVENT
BEGIN:VEVENT
DTSTART;TZID=America/New_York:20270414T120000
DTEND;TZID=America/New_York:20270414T133000
DTSTAMP:20260423T105908
CREATED:20241129T124454Z
LAST-MODIFIED:20241129T124454Z
UID:10003565-1807704000-1807709400@theccbb.com
SUMMARY:Vinings Cumberland\, Georgia (Rotary Club)
DESCRIPTION:Copeland’s of New Orleans\, Cumberland\nWebsite: https://www.viningsrotary.org \nWHERE (In-Person): 3101 Cobb Parkway\, Suite 220\, Mardi Gras Room\, Atlanta\, 30339\, Georgia
URL:https://theccbb.com/event/vinings-cumberland-georgia-rotary-club/2027-04-14/
LOCATION:Rotary Club (Vinings Cumberland)\, 3101 Cobb Parkway\, Suite 220\, Mardi Gras Room\, Atlanta\, Georgia\, 30339
END:VEVENT
BEGIN:VEVENT
DTSTART;TZID=America/New_York:20270421T120000
DTEND;TZID=America/New_York:20270421T133000
DTSTAMP:20260423T105908
CREATED:20241129T124454Z
LAST-MODIFIED:20241129T124454Z
UID:10003566-1808308800-1808314200@theccbb.com
SUMMARY:Vinings Cumberland\, Georgia (Rotary Club)
DESCRIPTION:Copeland’s of New Orleans\, Cumberland\nWebsite: https://www.viningsrotary.org \nWHERE (In-Person): 3101 Cobb Parkway\, Suite 220\, Mardi Gras Room\, Atlanta\, 30339\, Georgia
URL:https://theccbb.com/event/vinings-cumberland-georgia-rotary-club/2027-04-21/
LOCATION:Rotary Club (Vinings Cumberland)\, 3101 Cobb Parkway\, Suite 220\, Mardi Gras Room\, Atlanta\, Georgia\, 30339
END:VEVENT
BEGIN:VEVENT
DTSTART;TZID=America/New_York:20270428T120000
DTEND;TZID=America/New_York:20270428T133000
DTSTAMP:20260423T105908
CREATED:20241129T124454Z
LAST-MODIFIED:20241129T124454Z
UID:10003567-1808913600-1808919000@theccbb.com
SUMMARY:Vinings Cumberland\, Georgia (Rotary Club)
DESCRIPTION:Copeland’s of New Orleans\, Cumberland\nWebsite: https://www.viningsrotary.org \nWHERE (In-Person): 3101 Cobb Parkway\, Suite 220\, Mardi Gras Room\, Atlanta\, 30339\, Georgia
URL:https://theccbb.com/event/vinings-cumberland-georgia-rotary-club/2027-04-28/
LOCATION:Rotary Club (Vinings Cumberland)\, 3101 Cobb Parkway\, Suite 220\, Mardi Gras Room\, Atlanta\, Georgia\, 30339
END:VEVENT
BEGIN:VEVENT
DTSTART;TZID=America/New_York:20270505T120000
DTEND;TZID=America/New_York:20270505T133000
DTSTAMP:20260423T105908
CREATED:20241129T124454Z
LAST-MODIFIED:20241129T124454Z
UID:10003568-1809518400-1809523800@theccbb.com
SUMMARY:Vinings Cumberland\, Georgia (Rotary Club)
DESCRIPTION:Copeland’s of New Orleans\, Cumberland\nWebsite: https://www.viningsrotary.org \nWHERE (In-Person): 3101 Cobb Parkway\, Suite 220\, Mardi Gras Room\, Atlanta\, 30339\, Georgia
URL:https://theccbb.com/event/vinings-cumberland-georgia-rotary-club/2027-05-05/
LOCATION:Rotary Club (Vinings Cumberland)\, 3101 Cobb Parkway\, Suite 220\, Mardi Gras Room\, Atlanta\, Georgia\, 30339
END:VEVENT
BEGIN:VEVENT
DTSTART;TZID=America/New_York:20270512T120000
DTEND;TZID=America/New_York:20270512T133000
DTSTAMP:20260423T105908
CREATED:20241129T124454Z
LAST-MODIFIED:20241129T124454Z
UID:10003569-1810123200-1810128600@theccbb.com
SUMMARY:Vinings Cumberland\, Georgia (Rotary Club)
DESCRIPTION:Copeland’s of New Orleans\, Cumberland\nWebsite: https://www.viningsrotary.org \nWHERE (In-Person): 3101 Cobb Parkway\, Suite 220\, Mardi Gras Room\, Atlanta\, 30339\, Georgia
URL:https://theccbb.com/event/vinings-cumberland-georgia-rotary-club/2027-05-12/
LOCATION:Rotary Club (Vinings Cumberland)\, 3101 Cobb Parkway\, Suite 220\, Mardi Gras Room\, Atlanta\, Georgia\, 30339
END:VEVENT
BEGIN:VEVENT
DTSTART;TZID=America/New_York:20270519T120000
DTEND;TZID=America/New_York:20270519T133000
DTSTAMP:20260423T105908
CREATED:20241129T124454Z
LAST-MODIFIED:20241129T124454Z
UID:10003570-1810728000-1810733400@theccbb.com
SUMMARY:Vinings Cumberland\, Georgia (Rotary Club)
DESCRIPTION:Copeland’s of New Orleans\, Cumberland\nWebsite: https://www.viningsrotary.org \nWHERE (In-Person): 3101 Cobb Parkway\, Suite 220\, Mardi Gras Room\, Atlanta\, 30339\, Georgia
URL:https://theccbb.com/event/vinings-cumberland-georgia-rotary-club/2027-05-19/
LOCATION:Rotary Club (Vinings Cumberland)\, 3101 Cobb Parkway\, Suite 220\, Mardi Gras Room\, Atlanta\, Georgia\, 30339
END:VEVENT
BEGIN:VEVENT
DTSTART;TZID=America/New_York:20270526T120000
DTEND;TZID=America/New_York:20270526T133000
DTSTAMP:20260423T105908
CREATED:20241129T124454Z
LAST-MODIFIED:20241129T124454Z
UID:10003571-1811332800-1811338200@theccbb.com
SUMMARY:Vinings Cumberland\, Georgia (Rotary Club)
DESCRIPTION:Copeland’s of New Orleans\, Cumberland\nWebsite: https://www.viningsrotary.org \nWHERE (In-Person): 3101 Cobb Parkway\, Suite 220\, Mardi Gras Room\, Atlanta\, 30339\, Georgia
URL:https://theccbb.com/event/vinings-cumberland-georgia-rotary-club/2027-05-26/
LOCATION:Rotary Club (Vinings Cumberland)\, 3101 Cobb Parkway\, Suite 220\, Mardi Gras Room\, Atlanta\, Georgia\, 30339
END:VEVENT
BEGIN:VEVENT
DTSTART;TZID=America/New_York:20270602T120000
DTEND;TZID=America/New_York:20270602T133000
DTSTAMP:20260423T105908
CREATED:20241129T124454Z
LAST-MODIFIED:20241129T124454Z
UID:10003572-1811937600-1811943000@theccbb.com
SUMMARY:Vinings Cumberland\, Georgia (Rotary Club)
DESCRIPTION:Copeland’s of New Orleans\, Cumberland\nWebsite: https://www.viningsrotary.org \nWHERE (In-Person): 3101 Cobb Parkway\, Suite 220\, Mardi Gras Room\, Atlanta\, 30339\, Georgia
URL:https://theccbb.com/event/vinings-cumberland-georgia-rotary-club/2027-06-02/
LOCATION:Rotary Club (Vinings Cumberland)\, 3101 Cobb Parkway\, Suite 220\, Mardi Gras Room\, Atlanta\, Georgia\, 30339
END:VEVENT
BEGIN:VEVENT
DTSTART;TZID=America/New_York:20270609T120000
DTEND;TZID=America/New_York:20270609T133000
DTSTAMP:20260423T105908
CREATED:20241129T124454Z
LAST-MODIFIED:20241129T124454Z
UID:10003573-1812542400-1812547800@theccbb.com
SUMMARY:Vinings Cumberland\, Georgia (Rotary Club)
DESCRIPTION:Copeland’s of New Orleans\, Cumberland\nWebsite: https://www.viningsrotary.org \nWHERE (In-Person): 3101 Cobb Parkway\, Suite 220\, Mardi Gras Room\, Atlanta\, 30339\, Georgia
URL:https://theccbb.com/event/vinings-cumberland-georgia-rotary-club/2027-06-09/
LOCATION:Rotary Club (Vinings Cumberland)\, 3101 Cobb Parkway\, Suite 220\, Mardi Gras Room\, Atlanta\, Georgia\, 30339
END:VEVENT
BEGIN:VEVENT
DTSTART;TZID=America/New_York:20270616T120000
DTEND;TZID=America/New_York:20270616T133000
DTSTAMP:20260423T105908
CREATED:20241129T124454Z
LAST-MODIFIED:20241129T124454Z
UID:10003574-1813147200-1813152600@theccbb.com
SUMMARY:Vinings Cumberland\, Georgia (Rotary Club)
DESCRIPTION:Copeland’s of New Orleans\, Cumberland\nWebsite: https://www.viningsrotary.org \nWHERE (In-Person): 3101 Cobb Parkway\, Suite 220\, Mardi Gras Room\, Atlanta\, 30339\, Georgia
URL:https://theccbb.com/event/vinings-cumberland-georgia-rotary-club/2027-06-16/
LOCATION:Rotary Club (Vinings Cumberland)\, 3101 Cobb Parkway\, Suite 220\, Mardi Gras Room\, Atlanta\, Georgia\, 30339
END:VEVENT
END:VCALENDAR