BEGIN:VCALENDAR
VERSION:2.0
PRODID:-//Cobb County Business Bootcamp - ECPv6.15.18//NONSGML v1.0//EN
CALSCALE:GREGORIAN
METHOD:PUBLISH
X-ORIGINAL-URL:https://theccbb.com
X-WR-CALDESC:Events for Cobb County Business Bootcamp
REFRESH-INTERVAL;VALUE=DURATION:PT1H
X-Robots-Tag:noindex
X-PUBLISHED-TTL:PT1H
BEGIN:VTIMEZONE
TZID:America/New_York
BEGIN:DAYLIGHT
TZOFFSETFROM:-0500
TZOFFSETTO:-0400
TZNAME:EDT
DTSTART:20250309T070000
END:DAYLIGHT
BEGIN:STANDARD
TZOFFSETFROM:-0400
TZOFFSETTO:-0500
TZNAME:EST
DTSTART:20251102T060000
END:STANDARD
BEGIN:DAYLIGHT
TZOFFSETFROM:-0500
TZOFFSETTO:-0400
TZNAME:EDT
DTSTART:20260308T070000
END:DAYLIGHT
BEGIN:STANDARD
TZOFFSETFROM:-0400
TZOFFSETTO:-0500
TZNAME:EST
DTSTART:20261101T060000
END:STANDARD
BEGIN:DAYLIGHT
TZOFFSETFROM:-0500
TZOFFSETTO:-0400
TZNAME:EDT
DTSTART:20270314T070000
END:DAYLIGHT
BEGIN:STANDARD
TZOFFSETFROM:-0400
TZOFFSETTO:-0500
TZNAME:EST
DTSTART:20271107T060000
END:STANDARD
END:VTIMEZONE
BEGIN:VEVENT
DTSTART;TZID=America/New_York:20260421T073000
DTEND;TZID=America/New_York:20260421T083000
DTSTAMP:20260423T141951
CREATED:20241129T130726Z
LAST-MODIFIED:20241129T224241Z
UID:10003775-1776756600-1776760200@theccbb.com
SUMMARY:Woodstock\, Georgia (Rotary Club)
DESCRIPTION:IHOP Restaurant in Woodstock \nFrom Atl. I75N to I575N Exit 7\, left on HWY 92\,1/4 mile\nto right into IHOP parking lot. We meet in the back room \nPhone: 404-506-6878 \nWHERE (In-Person): 8979 Hwy. 92 Woodstock\, 30189\, Georgia
URL:https://theccbb.com/event/110345/2026-04-21/
LOCATION:Rotary Club (Woodstock)\, 8979 Hwy. 92\, Woodstock\, Georgia\, 30189
CATEGORIES:Rotary Club
END:VEVENT
BEGIN:VEVENT
DTSTART;TZID=America/New_York:20260414T073000
DTEND;TZID=America/New_York:20260414T083000
DTSTAMP:20260423T141951
CREATED:20241129T130726Z
LAST-MODIFIED:20241129T224241Z
UID:10003774-1776151800-1776155400@theccbb.com
SUMMARY:Woodstock\, Georgia (Rotary Club)
DESCRIPTION:IHOP Restaurant in Woodstock \nFrom Atl. I75N to I575N Exit 7\, left on HWY 92\,1/4 mile\nto right into IHOP parking lot. We meet in the back room \nPhone: 404-506-6878 \nWHERE (In-Person): 8979 Hwy. 92 Woodstock\, 30189\, Georgia
URL:https://theccbb.com/event/110345/2026-04-14/
LOCATION:Rotary Club (Woodstock)\, 8979 Hwy. 92\, Woodstock\, Georgia\, 30189
CATEGORIES:Rotary Club
END:VEVENT
BEGIN:VEVENT
DTSTART;TZID=America/New_York:20260407T073000
DTEND;TZID=America/New_York:20260407T083000
DTSTAMP:20260423T141951
CREATED:20241129T130726Z
LAST-MODIFIED:20241129T224241Z
UID:10003773-1775547000-1775550600@theccbb.com
SUMMARY:Woodstock\, Georgia (Rotary Club)
DESCRIPTION:IHOP Restaurant in Woodstock \nFrom Atl. I75N to I575N Exit 7\, left on HWY 92\,1/4 mile\nto right into IHOP parking lot. We meet in the back room \nPhone: 404-506-6878 \nWHERE (In-Person): 8979 Hwy. 92 Woodstock\, 30189\, Georgia
URL:https://theccbb.com/event/110345/2026-04-07/
LOCATION:Rotary Club (Woodstock)\, 8979 Hwy. 92\, Woodstock\, Georgia\, 30189
CATEGORIES:Rotary Club
END:VEVENT
BEGIN:VEVENT
DTSTART;TZID=America/New_York:20260331T073000
DTEND;TZID=America/New_York:20260331T083000
DTSTAMP:20260423T141951
CREATED:20241129T130726Z
LAST-MODIFIED:20241129T224241Z
UID:10003772-1774942200-1774945800@theccbb.com
SUMMARY:Woodstock\, Georgia (Rotary Club)
DESCRIPTION:IHOP Restaurant in Woodstock \nFrom Atl. I75N to I575N Exit 7\, left on HWY 92\,1/4 mile\nto right into IHOP parking lot. We meet in the back room \nPhone: 404-506-6878 \nWHERE (In-Person): 8979 Hwy. 92 Woodstock\, 30189\, Georgia
URL:https://theccbb.com/event/110345/2026-03-31/
LOCATION:Rotary Club (Woodstock)\, 8979 Hwy. 92\, Woodstock\, Georgia\, 30189
CATEGORIES:Rotary Club
END:VEVENT
BEGIN:VEVENT
DTSTART;TZID=America/New_York:20260324T073000
DTEND;TZID=America/New_York:20260324T083000
DTSTAMP:20260423T141951
CREATED:20241129T130726Z
LAST-MODIFIED:20241129T224241Z
UID:10003771-1774337400-1774341000@theccbb.com
SUMMARY:Woodstock\, Georgia (Rotary Club)
DESCRIPTION:IHOP Restaurant in Woodstock \nFrom Atl. I75N to I575N Exit 7\, left on HWY 92\,1/4 mile\nto right into IHOP parking lot. We meet in the back room \nPhone: 404-506-6878 \nWHERE (In-Person): 8979 Hwy. 92 Woodstock\, 30189\, Georgia
URL:https://theccbb.com/event/110345/2026-03-24/
LOCATION:Rotary Club (Woodstock)\, 8979 Hwy. 92\, Woodstock\, Georgia\, 30189
CATEGORIES:Rotary Club
END:VEVENT
BEGIN:VEVENT
DTSTART;TZID=America/New_York:20260317T073000
DTEND;TZID=America/New_York:20260317T083000
DTSTAMP:20260423T141951
CREATED:20241129T130726Z
LAST-MODIFIED:20241129T224241Z
UID:10003770-1773732600-1773736200@theccbb.com
SUMMARY:Woodstock\, Georgia (Rotary Club)
DESCRIPTION:IHOP Restaurant in Woodstock \nFrom Atl. I75N to I575N Exit 7\, left on HWY 92\,1/4 mile\nto right into IHOP parking lot. We meet in the back room \nPhone: 404-506-6878 \nWHERE (In-Person): 8979 Hwy. 92 Woodstock\, 30189\, Georgia
URL:https://theccbb.com/event/110345/2026-03-17/
LOCATION:Rotary Club (Woodstock)\, 8979 Hwy. 92\, Woodstock\, Georgia\, 30189
CATEGORIES:Rotary Club
END:VEVENT
BEGIN:VEVENT
DTSTART;TZID=America/New_York:20260310T073000
DTEND;TZID=America/New_York:20260310T083000
DTSTAMP:20260423T141951
CREATED:20241129T130726Z
LAST-MODIFIED:20241129T224241Z
UID:10003769-1773127800-1773131400@theccbb.com
SUMMARY:Woodstock\, Georgia (Rotary Club)
DESCRIPTION:IHOP Restaurant in Woodstock \nFrom Atl. I75N to I575N Exit 7\, left on HWY 92\,1/4 mile\nto right into IHOP parking lot. We meet in the back room \nPhone: 404-506-6878 \nWHERE (In-Person): 8979 Hwy. 92 Woodstock\, 30189\, Georgia
URL:https://theccbb.com/event/110345/2026-03-10/
LOCATION:Rotary Club (Woodstock)\, 8979 Hwy. 92\, Woodstock\, Georgia\, 30189
CATEGORIES:Rotary Club
END:VEVENT
BEGIN:VEVENT
DTSTART;TZID=America/New_York:20260303T073000
DTEND;TZID=America/New_York:20260303T083000
DTSTAMP:20260423T141951
CREATED:20241129T130726Z
LAST-MODIFIED:20241129T224241Z
UID:10003768-1772523000-1772526600@theccbb.com
SUMMARY:Woodstock\, Georgia (Rotary Club)
DESCRIPTION:IHOP Restaurant in Woodstock \nFrom Atl. I75N to I575N Exit 7\, left on HWY 92\,1/4 mile\nto right into IHOP parking lot. We meet in the back room \nPhone: 404-506-6878 \nWHERE (In-Person): 8979 Hwy. 92 Woodstock\, 30189\, Georgia
URL:https://theccbb.com/event/110345/2026-03-03/
LOCATION:Rotary Club (Woodstock)\, 8979 Hwy. 92\, Woodstock\, Georgia\, 30189
CATEGORIES:Rotary Club
END:VEVENT
BEGIN:VEVENT
DTSTART;TZID=America/New_York:20260224T073000
DTEND;TZID=America/New_York:20260224T083000
DTSTAMP:20260423T141951
CREATED:20241129T130726Z
LAST-MODIFIED:20241129T224241Z
UID:10003767-1771918200-1771921800@theccbb.com
SUMMARY:Woodstock\, Georgia (Rotary Club)
DESCRIPTION:IHOP Restaurant in Woodstock \nFrom Atl. I75N to I575N Exit 7\, left on HWY 92\,1/4 mile\nto right into IHOP parking lot. We meet in the back room \nPhone: 404-506-6878 \nWHERE (In-Person): 8979 Hwy. 92 Woodstock\, 30189\, Georgia
URL:https://theccbb.com/event/110345/2026-02-24/
LOCATION:Rotary Club (Woodstock)\, 8979 Hwy. 92\, Woodstock\, Georgia\, 30189
CATEGORIES:Rotary Club
END:VEVENT
BEGIN:VEVENT
DTSTART;TZID=America/New_York:20260217T073000
DTEND;TZID=America/New_York:20260217T083000
DTSTAMP:20260423T141951
CREATED:20241129T130726Z
LAST-MODIFIED:20241129T224241Z
UID:10003766-1771313400-1771317000@theccbb.com
SUMMARY:Woodstock\, Georgia (Rotary Club)
DESCRIPTION:IHOP Restaurant in Woodstock \nFrom Atl. I75N to I575N Exit 7\, left on HWY 92\,1/4 mile\nto right into IHOP parking lot. We meet in the back room \nPhone: 404-506-6878 \nWHERE (In-Person): 8979 Hwy. 92 Woodstock\, 30189\, Georgia
URL:https://theccbb.com/event/110345/2026-02-17/
LOCATION:Rotary Club (Woodstock)\, 8979 Hwy. 92\, Woodstock\, Georgia\, 30189
CATEGORIES:Rotary Club
END:VEVENT
BEGIN:VEVENT
DTSTART;TZID=America/New_York:20260210T073000
DTEND;TZID=America/New_York:20260210T083000
DTSTAMP:20260423T141951
CREATED:20241129T130726Z
LAST-MODIFIED:20241129T224241Z
UID:10003765-1770708600-1770712200@theccbb.com
SUMMARY:Woodstock\, Georgia (Rotary Club)
DESCRIPTION:IHOP Restaurant in Woodstock \nFrom Atl. I75N to I575N Exit 7\, left on HWY 92\,1/4 mile\nto right into IHOP parking lot. We meet in the back room \nPhone: 404-506-6878 \nWHERE (In-Person): 8979 Hwy. 92 Woodstock\, 30189\, Georgia
URL:https://theccbb.com/event/110345/2026-02-10/
LOCATION:Rotary Club (Woodstock)\, 8979 Hwy. 92\, Woodstock\, Georgia\, 30189
CATEGORIES:Rotary Club
END:VEVENT
BEGIN:VEVENT
DTSTART;TZID=America/New_York:20260203T073000
DTEND;TZID=America/New_York:20260203T083000
DTSTAMP:20260423T141951
CREATED:20241129T130726Z
LAST-MODIFIED:20241129T224241Z
UID:10003764-1770103800-1770107400@theccbb.com
SUMMARY:Woodstock\, Georgia (Rotary Club)
DESCRIPTION:IHOP Restaurant in Woodstock \nFrom Atl. I75N to I575N Exit 7\, left on HWY 92\,1/4 mile\nto right into IHOP parking lot. We meet in the back room \nPhone: 404-506-6878 \nWHERE (In-Person): 8979 Hwy. 92 Woodstock\, 30189\, Georgia
URL:https://theccbb.com/event/110345/2026-02-03/
LOCATION:Rotary Club (Woodstock)\, 8979 Hwy. 92\, Woodstock\, Georgia\, 30189
CATEGORIES:Rotary Club
END:VEVENT
BEGIN:VEVENT
DTSTART;TZID=America/New_York:20260127T073000
DTEND;TZID=America/New_York:20260127T083000
DTSTAMP:20260423T141951
CREATED:20241129T130726Z
LAST-MODIFIED:20241129T224241Z
UID:10003763-1769499000-1769502600@theccbb.com
SUMMARY:Woodstock\, Georgia (Rotary Club)
DESCRIPTION:IHOP Restaurant in Woodstock \nFrom Atl. I75N to I575N Exit 7\, left on HWY 92\,1/4 mile\nto right into IHOP parking lot. We meet in the back room \nPhone: 404-506-6878 \nWHERE (In-Person): 8979 Hwy. 92 Woodstock\, 30189\, Georgia
URL:https://theccbb.com/event/110345/2026-01-27/
LOCATION:Rotary Club (Woodstock)\, 8979 Hwy. 92\, Woodstock\, Georgia\, 30189
CATEGORIES:Rotary Club
END:VEVENT
END:VCALENDAR