BEGIN:VCALENDAR
VERSION:2.0
PRODID:-//Cobb County Business Bootcamp - ECPv6.15.18//NONSGML v1.0//EN
CALSCALE:GREGORIAN
METHOD:PUBLISH
X-ORIGINAL-URL:https://theccbb.com
X-WR-CALDESC:Events for Cobb County Business Bootcamp
REFRESH-INTERVAL;VALUE=DURATION:PT1H
X-Robots-Tag:noindex
X-PUBLISHED-TTL:PT1H
BEGIN:VTIMEZONE
TZID:America/New_York
BEGIN:DAYLIGHT
TZOFFSETFROM:-0500
TZOFFSETTO:-0400
TZNAME:EDT
DTSTART:20250309T070000
END:DAYLIGHT
BEGIN:STANDARD
TZOFFSETFROM:-0400
TZOFFSETTO:-0500
TZNAME:EST
DTSTART:20251102T060000
END:STANDARD
BEGIN:DAYLIGHT
TZOFFSETFROM:-0500
TZOFFSETTO:-0400
TZNAME:EDT
DTSTART:20260308T070000
END:DAYLIGHT
BEGIN:STANDARD
TZOFFSETFROM:-0400
TZOFFSETTO:-0500
TZNAME:EST
DTSTART:20261101T060000
END:STANDARD
BEGIN:DAYLIGHT
TZOFFSETFROM:-0500
TZOFFSETTO:-0400
TZNAME:EDT
DTSTART:20270314T070000
END:DAYLIGHT
BEGIN:STANDARD
TZOFFSETFROM:-0400
TZOFFSETTO:-0500
TZNAME:EST
DTSTART:20271107T060000
END:STANDARD
END:VTIMEZONE
BEGIN:VEVENT
DTSTART;TZID=America/New_York:20260317T113000
DTEND;TZID=America/New_York:20260317T130000
DTSTAMP:20260420T010159
CREATED:20260117T160036Z
LAST-MODIFIED:20260117T160036Z
UID:10005687-1773747000-1773752400@theccbb.com
SUMMARY:ECBA: Monthly Business Luncheon
DESCRIPTION:Speaker: \nBrent Rittersdorf \nTopic: 10 for 10 – How The Foul Line Can Change Your Life. \nHow Going 10 for 10 can Change your Life explores the life-changing power of understanding your purpose and executing with precision. Drawing from the memorable experience of achieving a perfect 10-for-10 performance\, this talk reveals how clarity of purpose turns every action into a meaningful shot worth taking. \n  \nParking – Please follow the ECBA event signs and park to right of the building in the Employee Parking area. Walk under the covered path to enter on the right side of the main building using either the stairs or elevator. The lobby entrance to the meeting space is a 1-minute walk on left of this entry hallway. \n\n\n\n\n\n\nDate and Time\nTuesday\, March 17\, 2026\, 11:30 AM until 1:00 PM\n\n\n\nEvent Contact(s)\nRory Zimmerman\n4708184286 (p)\n \nDon E Long\n(770)377-4569 (p)
URL:https://theccbb.com/event/ecba-monthly-business-luncheon-4/
LOCATION:Wellstar East Cobb Health Park\, 3747 Roswell Rd.\, Marietta\, Georgia\, 30062
CATEGORIES:East Cobb Business Association
END:VEVENT
BEGIN:VEVENT
DTSTART;TZID=America/New_York:20260217T113000
DTEND;TZID=America/New_York:20260217T130000
DTSTAMP:20260420T010159
CREATED:20260117T155730Z
LAST-MODIFIED:20260117T155730Z
UID:10005686-1771327800-1771333200@theccbb.com
SUMMARY:ECBA: Monthly Business Luncheon
DESCRIPTION:Parking – Please follow the ECBA event signs and park to right of the building in the Employee Parking area. Walk under the covered path to enter on the right side of the main building using either the stairs or elevator. The lobby entrance to the meeting space is a 1-minute walk on left of this entry hallway. \n\n\n\n\n\n\nDate and Time\nTuesday\, February 17\, 2026\, 11:30 AM until 1:00 PM\n\n\n\nEvent Contact(s)\nDon E Long\n\nRory Zimmerman
URL:https://theccbb.com/event/ecba-monthly-business-luncheon-3/
LOCATION:Wellstar East Cobb Health Park\, 3747 Roswell Rd.\, Marietta\, Georgia\, 30062
CATEGORIES:East Cobb Business Association
END:VEVENT
BEGIN:VEVENT
DTSTART;TZID=America/New_York:20260120T113000
DTEND;TZID=America/New_York:20260120T130000
DTSTAMP:20260420T010159
CREATED:20260117T154345Z
LAST-MODIFIED:20260117T155428Z
UID:10005626-1768908600-1768914000@theccbb.com
SUMMARY:ECBA: Monthly Business Luncheon
DESCRIPTION:In this high-energy\, interactive session\, Michael reveals the practical communication techniques and networking strategies that top professionals use to create opportunity-rich relationships—and real revenue. Whether your team is selling\, recruiting\, or leading\, this presentation will ignite performance\, deepen client trust\, and increase profitable outcomes. \n\nAudience Takeaways:\n\n– How to network with purpose (and get results)\n– The “ROI of Relationships” framework\n– 3 communication shifts that drive more deals and referrals\n– Actionable tools that turn contacts into clients \n\n\n\n\n\n\nParking – Please follow the ECBA event signs and park to right of the building in the Employee Parking area. Walk under the covered path to enter on the right side of the main building using either the stairs or elevator. The lobby entrance to the meeting space is a 1-minute walk on left of this entry hallway. \nDate and Time\n\nTuesday\, January 20\, 2026\, 11:30 AM until 1:00 PM\n\n\n\n\nEvent Contact(s)\nDon E Long\nRory Zimmerman
URL:https://theccbb.com/event/ecba-monthly-business-luncheon-2/
LOCATION:Wellstar East Cobb Health Park\, 3747 Roswell Rd.\, Marietta\, Georgia\, 30062
CATEGORIES:East Cobb Business Association
END:VEVENT
END:VCALENDAR